From mboxrd@z Thu Jan 1 00:00:00 1970 Return-Path: Received: from mails.dpdk.org (mails.dpdk.org [217.70.189.124]) by inbox.dpdk.org (Postfix) with ESMTP id 3FE51462B0 for ; Tue, 25 Feb 2025 08:30:01 +0100 (CET) Received: from mails.dpdk.org (localhost [127.0.0.1]) by mails.dpdk.org (Postfix) with ESMTP id 3A45640662; Tue, 25 Feb 2025 08:30:01 +0100 (CET) Received: from mail-qv1-f99.google.com (mail-qv1-f99.google.com [209.85.219.99]) by mails.dpdk.org (Postfix) with ESMTP id 12594402B1 for ; Tue, 25 Feb 2025 08:30:00 +0100 (CET) Received: by mail-qv1-f99.google.com with SMTP id 6a1803df08f44-6e65d6e1f12so67420506d6.0 for ; Mon, 24 Feb 2025 23:30:00 -0800 (PST) DKIM-Signature: v=1; a=rsa-sha256; c=relaxed/relaxed; d=iol.unh.edu; s=unh-iol; t=1740468599; x=1741073399; darn=dpdk.org; h=references:in-reply-to:cc:to:from:subject:message-id:date:from:to :cc:subject:date:message-id:reply-to; bh=hG/XW41KqYZGk+kHjyflMP4LChjfRY9iMlLHbyBR/5E=; b=JPRss/Rxisj8lMGUzEROiz887rOLaorgPVpxIsMDtIyR025dFq41YmPXDI7VP2Nm9j QrgThi5CQW/iOnYV8UOryAm4o3sS8Pfia/0dJ6VRCktjB9jqc81O4iOuwCQTaBMpmTUJ JfOYN82HB6E0rxrHndAiZYa/EX0is40vIzAS0= X-Google-DKIM-Signature: v=1; a=rsa-sha256; c=relaxed/relaxed; d=1e100.net; s=20230601; t=1740468599; x=1741073399; h=references:in-reply-to:cc:to:from:subject:message-id:date :x-gm-message-state:from:to:cc:subject:date:message-id:reply-to; bh=hG/XW41KqYZGk+kHjyflMP4LChjfRY9iMlLHbyBR/5E=; b=NuRghJ8UjLQSpAMXQgyg6k5twnWN9nPqaEgfCq5CpjXluzHLZeueDxyznJv0LxYxOz RgLeHj0P+M74mpq/bsECuCdFtXUi1Cowgu7O5I0QOAdUJpHSB2GbUZ7XJIxQMe6EFBiL eBcvqr+8Dxk+9IYdnJay6MiEto8xeicmZ81E9cRnjavXLzfTPnoaEiT6kbQCIs/JZJ85 4WhxRdZtjSZI47g+lmWF6FwePuWJMRU3HV5TPhBp3GNHo73F4tGrCpRRUsfUpkJDwDx/ YLKx+nvkAZBQFLBri33XJWMeM4kxyjom47RTusOYflsdizPlL6y+o0+S48BXMpM9mlcO DfOQ== X-Gm-Message-State: AOJu0Yy3ioY5paIXEPKktVO1oVCBQWLlRWntHfrrVc0rViwBjqDR7GIA ++0ntYi79jmhsq/w1yMo4uYuIdC7552/gaSTQBrB86ZWoV21jxmlxMiHn4l4fD2cZDkX0T86KBj i3SlEBZVYAEQX49olAV4TVYj39Qn3KHgFdsVe67pw X-Gm-Gg: ASbGncsdIfiihk1OtfkiZrUGDkEN6pLyBer6Vd7cxw7QpZ57gmZ02+TaLtwnf2703wj +yxGJSGP1bdosR8n3BISNZwkFP+Cuy0wZS1fK4kvic+UXAlrk6VMBrvQkIz4gZ/UXhKWRwg9twR t72Gc0RKAyuQZi18ut29VN631ZtARk7M3nDdibxqCNBsTErs7nWYL9yybTl+6Uo3R8oRGPO3DTg WC/GccF7LARILoKXWNx4PnAiPPyUCQHxOVqqLec0yvY3+NlYbyBqk5u06jh02NYBXBBGG2jAK1w PRDZ0dGZSHQfEEz3V7JuMLwacvfWxbSdxD4zMaTt X-Google-Smtp-Source: AGHT+IGXaphSS6tzGNak26qJ+f2imjOeET9DX6NTyWOZIMOJx41ewNVrysjSK2RQ5joc4WVbJQG7Z8rPAAp5 X-Received: by 2002:a05:6214:19e2:b0:6d8:821d:736e with SMTP id 6a1803df08f44-6e87aba2b0amr29885546d6.36.1740468599467; Mon, 24 Feb 2025 23:29:59 -0800 (PST) Received: from postal.iol.unh.edu (postal.iol.unh.edu. [132.177.123.84]) by smtp-relay.gmail.com with ESMTPS id 6a1803df08f44-6e87b0d833fsm543556d6.56.2025.02.24.23.29.59 (version=TLS1_2 cipher=ECDHE-ECDSA-AES128-GCM-SHA256 bits=128/128); Mon, 24 Feb 2025 23:29:59 -0800 (PST) X-Relaying-Domain: iol.unh.edu Date: Mon, 24 Feb 2025 23:29:59 -0800 (PST) Message-ID: <67bd7177.d40a0220.2326cd.31faSMTPIN_ADDED_MISSING@mx.google.com> Received: from [172.21.0.8] (unknown [172.18.0.240]) by postal.iol.unh.edu (Postfix) with ESMTP id 1C3886052471; Tue, 25 Feb 2025 02:29:59 -0500 (EST) Subject: |SUCCESS| pw151987-151988 [PATCH] [2/2] net/xsc: suppress assign the From: dpdklab@iol.unh.edu To: Test Report Cc: dpdk-test-reports@iol.unh.edu In-Reply-To: <20250225024813.2489747-3-wanry@yunsilicon.com> References: <20250225024813.2489747-3-wanry@yunsilicon.com> Content-Type: text/plain X-BeenThere: test-report@dpdk.org X-Mailman-Version: 2.1.29 Precedence: list List-Id: automatic DPDK test reports List-Unsubscribe: , List-Archive: List-Post: List-Help: List-Subscribe: , Errors-To: test-report-bounces@dpdk.org Test-Label: iol-compile-arm64-testing Test-Status: SUCCESS http://dpdk.org/patch/151988 _Testing PASS_ Submitter: Renyong Wan Date: Tuesday, February 25 2025 02:48:15 DPDK git baseline: Repo:dpdk Branch: master CommitID:a9257af8d8f4f2eb93780a48b53e9342f09ebe9a 151987-151988 --> testing pass Upstream job id: Generic-DPDK-Compile-Meson#364984 Test environment and result as below: +----------------------------------------+--------------------+ | Environment | dpdk_meson_compile | +========================================+====================+ | Ubuntu 20.04 ARM SVE | PASS | +----------------------------------------+--------------------+ | Ubuntu 20.04 ARM GCC Cross Compile | PASS | +----------------------------------------+--------------------+ | RHEL9 (ARM) | PASS | +----------------------------------------+--------------------+ | Fedora 40 (ARM) | PASS | +----------------------------------------+--------------------+ | Debian 12 with MUSDK | PASS | +----------------------------------------+--------------------+ | Fedora 40 (ARM Clang) | PASS | +----------------------------------------+--------------------+ | Fedora 41 (ARM) | PASS | +----------------------------------------+--------------------+ | Fedora 41 (ARM Clang) | PASS | +----------------------------------------+--------------------+ | Ubuntu 20.04 (ARM) | PASS | +----------------------------------------+--------------------+ | Ubuntu 22.04 (ARM) | PASS | +----------------------------------------+--------------------+ | Ubuntu 24.04 (ARM) | PASS | +----------------------------------------+--------------------+ | CentOS Stream 10 (ARM) | PASS | +----------------------------------------+--------------------+ | CentOS Stream 9 (ARM) | PASS | +----------------------------------------+--------------------+ | Debian 11 (Buster) (ARM) | PASS | +----------------------------------------+--------------------+ | Debian 12 (arm) | PASS | +----------------------------------------+--------------------+ | Ubuntu 20.04 ARM Clang Cross Compile | PASS | +----------------------------------------+--------------------+ | Ubuntu 20.04 aarch32 GCC Cross Compile | PASS | +----------------------------------------+--------------------+ Ubuntu 20.04 ARM SVE Kernel: Depends on container host Compiler: gcc (Ubuntu 10.5.0-1ubuntu1~20.04) 10.5.0 Ubuntu 20.04 ARM GCC Cross Compile Kernel: Depends on container host Compiler: aarch64-linux-gnu-gcc (Ubuntu 9.4.0-1ubuntu1~20.04.2) 9.4.0 RHEL9 (ARM) Kernel: Depends on container host Compiler: gcc 11.5.0 20240719 (Red Hat 11.5.0-2) Fedora 40 (ARM) Kernel: Depends on container host Compiler: gcc 14.2.1 20240912 (Red Hat 14.2.1-3) Debian 12 with MUSDK Kernel: Depends on container host Compiler: gcc (Debian 12.2.0-14) 12.2.0 Fedora 40 (ARM Clang) Kernel: Depends on container host Compiler: clang 18.1.8 (Fedora 18.1.8-1.fc40) Fedora 41 (ARM) Kernel: Depends on container host Compiler: gcc 14.2.1 20240912 (Red Hat 14.2.1-3) Fedora 41 (ARM Clang) Kernel: Depends on container host Compiler: clang 19.1.5 (Fedora 19.1.5-1.fc41) Ubuntu 20.04 (ARM) Kernel: Depends on container host Compiler: gcc (Ubuntu 9.4.0-1ubuntu1~20.04.2) 9.4.0 Ubuntu 22.04 (ARM) Kernel: Depends on container host Compiler: gcc (Ubuntu 11.4.0-1ubuntu1~22.04) 11.4.0 Ubuntu 24.04 (ARM) Kernel: Depends on container host Compiler: gcc (Ubuntu 13.3.0-6ubuntu2~24.04) 13.3.0 CentOS Stream 10 (ARM) Kernel: Depends on container host Compiler: gcc 14.2.1 20241104 (Red Hat 14.2.1-6) CentOS Stream 9 (ARM) Kernel: Depends on container host Compiler: gcc 11.5.0 20240719 (Red Hat 11.5.0-2) Debian 11 (Buster) (ARM) Kernel: Depends on container host Compiler: gcc (Debian 10.2.1-6) 10.2.1 20210110 Debian 12 (arm) Kernel: Depends on container host Compiler: gcc (Debian 12.2.0-14) 12.2.0 Ubuntu 20.04 ARM Clang Cross Compile Kernel: Depends on container host Compiler: clang 10.0.0-4ubuntu1 Ubuntu 20.04 aarch32 GCC Cross Compile Kernel: Depends on container host Compiler: gcc 9.4.0 To view detailed results, visit: https://lab.dpdk.org/results/dashboard/patchsets/32674/ UNH-IOL DPDK Community Lab To manage your email subscriptions, visit: https://lab.dpdk.org/results/dashboard/preferences/subscriptions/