From mboxrd@z Thu Jan 1 00:00:00 1970 Return-Path: Received: from mails.dpdk.org (mails.dpdk.org [217.70.189.124]) by inbox.dpdk.org (Postfix) with ESMTP id E2B88462B0 for ; Tue, 25 Feb 2025 09:02:18 +0100 (CET) Received: from mails.dpdk.org (localhost [127.0.0.1]) by mails.dpdk.org (Postfix) with ESMTP id B486F427D7; Tue, 25 Feb 2025 09:02:18 +0100 (CET) Received: from mail-pl1-f225.google.com (mail-pl1-f225.google.com [209.85.214.225]) by mails.dpdk.org (Postfix) with ESMTP id 36CB8427B6 for ; Tue, 25 Feb 2025 09:02:17 +0100 (CET) Received: by mail-pl1-f225.google.com with SMTP id d9443c01a7336-220ecbdb4c2so31546455ad.3 for ; Tue, 25 Feb 2025 00:02:17 -0800 (PST) DKIM-Signature: v=1; a=rsa-sha256; c=relaxed/relaxed; d=iol.unh.edu; s=unh-iol; t=1740470536; x=1741075336; darn=dpdk.org; h=cc:to:from:subject:message-id:date:from:to:cc:subject:date :message-id:reply-to; bh=E0vGMSa/InA6xurAHIrmX42zJqgtlSdPujiwZtzY1l4=; b=V29dwA/lDDMBH4A+/xtkKc0AD2fIqbpG+1FqWzZyJot9tFDiHg3IW9Nk9ABjcy+4L6 3TqVvTaNC6X4dqMCodzEjbXu4zSCc7h8qOvAkkpMkQsd3d6wnB9Fm9fZzhrMESbuZGY8 5RWI7vGDqiWYipAoUMuHBFD8LxnxNk79EPvIg= X-Google-DKIM-Signature: v=1; a=rsa-sha256; c=relaxed/relaxed; d=1e100.net; s=20230601; t=1740470536; x=1741075336; h=cc:to:from:subject:message-id:date:x-gm-message-state:from:to:cc :subject:date:message-id:reply-to; bh=E0vGMSa/InA6xurAHIrmX42zJqgtlSdPujiwZtzY1l4=; b=pNeG0wydpkilcpSjCLfebms3f7ddFgwA2zih0jBt7f3vLR7/Cra6LRj97w8B2+GQQ/ JiWpvzlLGr8Bkg+hA8otOV/WDusrBvdOKzEa+UW1HPxT+nfI3KLpeLX/EAPklERJqBN2 u7JTFCerTs9VFiaUgTi34C1Rbvc0Si8PTyP4GlBZa+9DlR8hhrY/e13vVlCBqU1d085x GxOsXkKYgTnZ+piagXt4rsuMBCaQCRNGA3yHCdSXP5O8b/EacYPqKAI4S9zHoDrqR4vx 5GDMe9D3XQ2fNYAJ4VBM4fssUh/mVDvKiGzvgkb8uCKRhA0QAz1ncPuEI5Xt1n8kgKrW NyJg== X-Gm-Message-State: AOJu0Yxzrq/05uqsGFjkhdnZfwV5NtIlKKZ+pTPv/sPhiu2U72gi88pU B5wqMcFcYUYMIWUUJ9qM7jnXW5fo+wCe0U8dhO1Dy1lcBS5FvCdvNLlO8HKzqN8708KQdlJUWlF 4rTax38GqBm3g7sLwyJ0U6KGEiPyPzYnd X-Gm-Gg: ASbGncuek2zkPbPxtjWny990L5vvJR0HYk1F061BRPiak3SWTi2KTwzk3+GrBakcYWO LxP1JPht3jbeCdFl7KXAqVZNEw92vXxWLophNGFb/sndw1jZ23DUjrD/pdW/BH1MEedgM8uc9TU ovSUVrmDBViYviZvm5vm7CNau7IQNuuHohjsCqfrpDUHXqFmPIE+1TIDOciUCLPg7KD2pm9ZtXF Zf3FKtoMb56Tox28jTGc13isneRAiWouqU+5T+3OL2L51+fWOXz+9/hR3scViCLgoAg3q91Y1vK H68x8Uq2KV3XO8nRIeev4KUyVeDjD+MlMgmqsRi+ X-Google-Smtp-Source: AGHT+IFZUKyvDwuaDZKYo+00bxGcD9PYscCMkpPN1QRYewL1DyChP9ytEnpVEAu7pY0KL3YRX5mXEjZGaKjJ X-Received: by 2002:a17:902:ea12:b0:220:d078:eb33 with SMTP id d9443c01a7336-221a1149095mr261041795ad.36.1740470536305; Tue, 25 Feb 2025 00:02:16 -0800 (PST) Received: from postal.iol.unh.edu (postal.iol.unh.edu. [132.177.123.84]) by smtp-relay.gmail.com with ESMTPS id d9443c01a7336-2230a09950esm498595ad.119.2025.02.25.00.02.16 (version=TLS1_2 cipher=ECDHE-ECDSA-AES128-GCM-SHA256 bits=128/128); Tue, 25 Feb 2025 00:02:16 -0800 (PST) X-Relaying-Domain: iol.unh.edu Date: Tue, 25 Feb 2025 00:02:16 -0800 (PST) Message-ID: <67bd7908.170a0220.1fb97.2c13SMTPIN_ADDED_MISSING@mx.google.com> Received: from [172.21.0.8] (unknown [172.18.0.240]) by postal.iol.unh.edu (Postfix) with ESMTP id 9DEA56052471; Tue, 25 Feb 2025 03:02:15 -0500 (EST) Subject: |SUCCESS| [GIT MASTER] 39594cdfcb730ea667370b1e304313d10996aff3 From: dpdklab@iol.unh.edu To: Test Report Cc: dpdk-test-reports@iol.unh.edu, Xueming Li , Christian Ehrhardt , Kevin Traynor , Luca Boccassi Content-Type: text/plain X-BeenThere: test-report@dpdk.org X-Mailman-Version: 2.1.29 Precedence: list List-Id: automatic DPDK test reports List-Unsubscribe: , List-Archive: List-Post: List-Help: List-Subscribe: , Errors-To: test-report-bounces@dpdk.org _Testing PASS_ Branch: tags/v24.11 39594cdfcb730ea667370b1e304313d10996aff3 --> testing pass Upstream job id: Generic-DPDK-Compile-ABI#117632 Test environment and result as below: +-------------------+----------+ | Environment | abi_test | +===================+==========+ | Fedora 41 (Clang) | PASS | +-------------------+----------+ | RHEL8 | PASS | +-------------------+----------+ | Debian Bullseye | PASS | +-------------------+----------+ | CentOS Stream 9 | PASS | +-------------------+----------+ | Fedora 40 (Clang) | PASS | +-------------------+----------+ | CentOS Stream 10 | PASS | +-------------------+----------+ | Debian 12 | PASS | +-------------------+----------+ | Fedora 41 | PASS | +-------------------+----------+ | RHEL9 | PASS | +-------------------+----------+ | Ubuntu 22.04 | PASS | +-------------------+----------+ | Ubuntu 24.04 | PASS | +-------------------+----------+ | Fedora 40 | PASS | +-------------------+----------+ | openSUSE Leap 15 | PASS | +-------------------+----------+ Fedora 41 (Clang) Kernel: Depends on container host Compiler: clang 19.1.5 (Fedora 19.1.5-1.fc41) RHEL8 Kernel: Depends on container host Compiler: gcc 8.5.0 20210514 (Red Hat 8.5.0-22) Debian Bullseye Kernel: Depends on container host Compiler: gcc (Debian 10.2.1-6) 10.2.1 20210110 CentOS Stream 9 Kernel: Depends on container host Compiler: gcc 11.5.0 20240719 (Red Hat 11.5.0-2) Fedora 40 (Clang) Kernel: Depends on container host Compiler: clang 18.1.8 (Fedora 18.1.8-1.fc40) CentOS Stream 10 Kernel: Depends on container host Compiler: gcc 14.2.1 20241104 (Red Hat 14.2.1-6) Debian 12 Kernel: Depends on container host Compiler: gcc (Debian 12.2.0-14) 12.2.0 Fedora 41 Kernel: Depends on container host Compiler: gcc 14.2.1 20240912 (Red Hat 14.2.1-3) RHEL9 Kernel: Depends on container host Compiler: gcc 11.5.0 20240719 (Red Hat 11.5.0-2) Ubuntu 22.04 Kernel: Depends on container host Compiler: gcc (Ubuntu 11.4.0-1ubuntu1~22.04) 11.4.0 Ubuntu 24.04 Kernel: Depends on container host Compiler: gcc (Ubuntu 13.3.0-6ubuntu2~24.04) 13.3.0 Fedora 40 Kernel: Depends on container host Compiler: gcc 14.2.1 20240912 (Red Hat 14.2.1-3) openSUSE Leap 15 Kernel: Depends on container host Compiler: gcc (SUSE Linux) 7.5.0 To view detailed results, visit: https://lab.dpdk.org/results/dashboard/tarballs/32714/ UNH-IOL DPDK Community Lab To manage your email subscriptions, visit: https://lab.dpdk.org/results/dashboard/preferences/subscriptions/