From mboxrd@z Thu Jan 1 00:00:00 1970 Return-Path: Received: from mails.dpdk.org (mails.dpdk.org [217.70.189.124]) by inbox.dpdk.org (Postfix) with ESMTP id 25252462B0 for ; Tue, 25 Feb 2025 09:05:14 +0100 (CET) Received: from mails.dpdk.org (localhost [127.0.0.1]) by mails.dpdk.org (Postfix) with ESMTP id 08F5F427D7; Tue, 25 Feb 2025 09:05:14 +0100 (CET) Received: from mail-pl1-f225.google.com (mail-pl1-f225.google.com [209.85.214.225]) by mails.dpdk.org (Postfix) with ESMTP id 74EC1427B6 for ; Tue, 25 Feb 2025 09:05:12 +0100 (CET) Received: by mail-pl1-f225.google.com with SMTP id d9443c01a7336-220d398bea9so83671985ad.3 for ; Tue, 25 Feb 2025 00:05:12 -0800 (PST) DKIM-Signature: v=1; a=rsa-sha256; c=relaxed/relaxed; d=iol.unh.edu; s=unh-iol; t=1740470711; x=1741075511; darn=dpdk.org; h=references:in-reply-to:cc:to:from:subject:message-id:date:from:to :cc:subject:date:message-id:reply-to; bh=SBmDGbG4SPwW5x39UIpeHuc8RUL9VPf7ViYff1hxh3c=; b=jsNaOBQApwo1O3Bt4SZhritGnUY4aZNyNWwrKv9BUbgrtvnG201BVgN2OYeKG01oz3 LFZmDnoNQjTa0wupigXjpO+uvqRiSuTnf95IxAxWQAcK8lY/mW2Qbg7ftEebD3/BNPNm oo4KqtyoBJBAVda1TxVz3iVjnfAy9wg9TZ+5Y= X-Google-DKIM-Signature: v=1; a=rsa-sha256; c=relaxed/relaxed; d=1e100.net; s=20230601; t=1740470711; x=1741075511; h=references:in-reply-to:cc:to:from:subject:message-id:date :x-gm-message-state:from:to:cc:subject:date:message-id:reply-to; bh=SBmDGbG4SPwW5x39UIpeHuc8RUL9VPf7ViYff1hxh3c=; b=Li9ksWs2LSjP7vzMAM2asnP8XQ8veE+rvgAcXkmijaX7mGnaje6MJ03hKOdsAI0prD 5ytE405okiB17hBEwc2hO5Xqfkt9X38Fb162iCT/AZGlQTKNWuY3t1SftxW9GqL5WMch 1swQeRROf9m0G9RMHMJwkyDMjsIqS8NZ3qlxNngsstarOV9ugOXWH5xjkR65fxgR+Flk IG4+5rctUbozRHzfooMk36E76pCKkCdwYfAbh2xz3LGf0s7XElIRr9t164ub3OQtkK/z o3+sgJgdULsSD/OABn7MzyOdtdwHjn3HG3N4zyfrPMf2IoAz4NffRPtU9uymYI6ZhTOo OhjQ== X-Gm-Message-State: AOJu0YzLtCH6uWa19M/R8TrFc1T+qmFZP7H3Hqif48pwkXQKLRiUVvz5 PLs/3ycRU67mmk4a+d3a4xFX3Bdk77F3eCtitsglndzU2reoEOuKvtscm8WHY/hPeDOnIdHEyxz F7zd59/Jk66bOjjn3/54EaeIPS5ZaE7PoaFqKtCpY+kvxc/bcgQM92ISV X-Gm-Gg: ASbGnct7qb2NCR4QPLyEoYm/s4ToU71nhNALGk9YpDXriBFVkQJ5jjuRqZnBKmmUeUX jhvNor5pl3QqdtQUYKCAcSX2KuJdTYquLYeeb+pUhR7Y+Lk9+xM/kHqH1DJp98c9oYuCiHVlR+S 1dX7CbjFCRzQelsEyOTraEBE/0twwJvNYBGDFk5x9y7W5abbSXt/muRQZbMdPmfyTtUMwn7LSZ+ PZljX4G9iTTyALzh67QVcQJwaQ3Oh5csjLYDokVvCgYOC2IP9qrNYtfgyKvPi3D1qaKtnnM896T a/zUuKWBc4BHNchTErOFRtGG+2COCTvOgKjxZrHIsVZ/CliaG24R X-Google-Smtp-Source: AGHT+IGcRogFfuxnKexbTBigwZrx0AJvhz5VHss1z4Mq6syAbHcp3G8bZnzk4WSNasV6jYr2WqAk3P5uXo0g X-Received: by 2002:a17:903:1d2:b0:21f:4144:a06f with SMTP id d9443c01a7336-221a0edbf9amr203825615ad.13.1740470711574; Tue, 25 Feb 2025 00:05:11 -0800 (PST) Received: from postal.iol.unh.edu (postal.iol.unh.edu. [2606:4100:3880:1234::84]) by smtp-relay.gmail.com with ESMTPS id d9443c01a7336-2230a00a861sm508985ad.34.2025.02.25.00.05.11 (version=TLS1_2 cipher=ECDHE-ECDSA-AES128-GCM-SHA256 bits=128/128); Tue, 25 Feb 2025 00:05:11 -0800 (PST) X-Relaying-Domain: iol.unh.edu Date: Tue, 25 Feb 2025 00:05:11 -0800 (PST) Message-ID: <67bd79b7.170a0220.3a069a.2ecdSMTPIN_ADDED_MISSING@mx.google.com> Received: from [172.21.0.7] (unknown [172.18.0.240]) by postal.iol.unh.edu (Postfix) with ESMTP id B15746052471; Tue, 25 Feb 2025 03:05:10 -0500 (EST) Subject: |SUCCESS| pw151987-151988 [PATCH] [2/2] net/xsc: suppress assign the From: dpdklab@iol.unh.edu To: Test Report Cc: dpdk-test-reports@iol.unh.edu In-Reply-To: <20250225024813.2489747-3-wanry@yunsilicon.com> References: <20250225024813.2489747-3-wanry@yunsilicon.com> Content-Type: text/plain X-BeenThere: test-report@dpdk.org X-Mailman-Version: 2.1.29 Precedence: list List-Id: automatic DPDK test reports List-Unsubscribe: , List-Archive: List-Post: List-Help: List-Subscribe: , Errors-To: test-report-bounces@dpdk.org Test-Label: iol-abi-testing Test-Status: SUCCESS http://dpdk.org/patch/151988 _Testing PASS_ Submitter: Renyong Wan Date: Tuesday, February 25 2025 02:48:15 DPDK git baseline: Repo:dpdk Branch: master CommitID:a9257af8d8f4f2eb93780a48b53e9342f09ebe9a 151987-151988 --> testing pass Upstream job id: Generic-DPDK-Compile-ABI#117651 Test environment and result as below: +-------------------+----------+ | Environment | abi_test | +===================+==========+ | CentOS Stream 9 | PASS | +-------------------+----------+ | CentOS Stream 10 | PASS | +-------------------+----------+ | Debian Bullseye | PASS | +-------------------+----------+ | Debian 12 | PASS | +-------------------+----------+ | Fedora 40 (Clang) | PASS | +-------------------+----------+ | Fedora 40 | PASS | +-------------------+----------+ | Fedora 41 (Clang) | PASS | +-------------------+----------+ | Fedora 41 | PASS | +-------------------+----------+ | openSUSE Leap 15 | PASS | +-------------------+----------+ | RHEL8 | PASS | +-------------------+----------+ | RHEL9 | PASS | +-------------------+----------+ | Ubuntu 24.04 | PASS | +-------------------+----------+ | Ubuntu 22.04 | PASS | +-------------------+----------+ CentOS Stream 9 Kernel: Depends on container host Compiler: gcc 11.5.0 20240719 (Red Hat 11.5.0-2) CentOS Stream 10 Kernel: Depends on container host Compiler: gcc 14.2.1 20241104 (Red Hat 14.2.1-6) Debian Bullseye Kernel: Depends on container host Compiler: gcc (Debian 10.2.1-6) 10.2.1 20210110 Debian 12 Kernel: Depends on container host Compiler: gcc (Debian 12.2.0-14) 12.2.0 Fedora 40 (Clang) Kernel: Depends on container host Compiler: clang 18.1.8 (Fedora 18.1.8-1.fc40) Fedora 40 Kernel: Depends on container host Compiler: gcc 14.2.1 20240912 (Red Hat 14.2.1-3) Fedora 41 (Clang) Kernel: Depends on container host Compiler: clang 19.1.5 (Fedora 19.1.5-1.fc41) Fedora 41 Kernel: Depends on container host Compiler: gcc 14.2.1 20240912 (Red Hat 14.2.1-3) openSUSE Leap 15 Kernel: Depends on container host Compiler: gcc (SUSE Linux) 7.5.0 RHEL8 Kernel: Depends on container host Compiler: gcc 8.5.0 20210514 (Red Hat 8.5.0-22) RHEL9 Kernel: Depends on container host Compiler: gcc 11.5.0 20240719 (Red Hat 11.5.0-2) Ubuntu 24.04 Kernel: Depends on container host Compiler: gcc (Ubuntu 13.3.0-6ubuntu2~24.04) 13.3.0 Ubuntu 22.04 Kernel: Depends on container host Compiler: gcc (Ubuntu 11.4.0-1ubuntu1~22.04) 11.4.0 To view detailed results, visit: https://lab.dpdk.org/results/dashboard/patchsets/32674/ UNH-IOL DPDK Community Lab To manage your email subscriptions, visit: https://lab.dpdk.org/results/dashboard/preferences/subscriptions/