From mboxrd@z Thu Jan 1 00:00:00 1970 Return-Path: Received: from mails.dpdk.org (mails.dpdk.org [217.70.189.124]) by inbox.dpdk.org (Postfix) with ESMTP id CE63C462B0 for ; Tue, 25 Feb 2025 09:34:21 +0100 (CET) Received: from mails.dpdk.org (localhost [127.0.0.1]) by mails.dpdk.org (Postfix) with ESMTP id AC3E8427D7; Tue, 25 Feb 2025 09:34:21 +0100 (CET) Received: from mail-qt1-f228.google.com (mail-qt1-f228.google.com [209.85.160.228]) by mails.dpdk.org (Postfix) with ESMTP id E229D427B6 for ; Tue, 25 Feb 2025 09:34:20 +0100 (CET) Received: by mail-qt1-f228.google.com with SMTP id d75a77b69052e-47201625705so61185261cf.0 for ; Tue, 25 Feb 2025 00:34:20 -0800 (PST) DKIM-Signature: v=1; a=rsa-sha256; c=relaxed/relaxed; d=iol.unh.edu; s=unh-iol; t=1740472460; x=1741077260; darn=dpdk.org; h=references:in-reply-to:cc:to:from:subject:message-id:date:from:to :cc:subject:date:message-id:reply-to; bh=FLGtrQ8UrBy+w2qk5ro82astMouq70sjFHzKTfB/wC4=; b=eTVAWyIxvNM2TEjxWvltIeoUmokNu2g9F1KPSePDvdo36DFw2utzbZUAv28o/3Kc1d Qjc5B2sp8xZvf5Pwha1dEFlq1Vhd0Whcm8REfaoQ3iiR56B/OcniDB6R0YLKKoAXPhRv r6gQZY0J9H5G7CZUnBsvBgGTp9j0gkOFZUq54= X-Google-DKIM-Signature: v=1; a=rsa-sha256; c=relaxed/relaxed; d=1e100.net; s=20230601; t=1740472460; x=1741077260; h=references:in-reply-to:cc:to:from:subject:message-id:date :x-gm-message-state:from:to:cc:subject:date:message-id:reply-to; bh=FLGtrQ8UrBy+w2qk5ro82astMouq70sjFHzKTfB/wC4=; b=kJ1QH3/0A+D2qerD6Gvsm2c8IrbfIYgAMTycY9Iqtf/rHQaNy0IblPKpB+vEAR4UaM fZvZpff0nSOjsTGSSFXaIdG1ZwDA1i0gqnCfzY2Q5BSyw/iHrrmLyD7tSHulo4KWj+ix NqUz8YyEbAZCFb9nCa72qAD2TaJbC2Yuj8DJHpySA7c9Q6+zpxVR4DqmzWL2cYbWhtxj 29dRT6sixIaNxhhy4ugmNLPRdQW3Od6QhJ1drlyc6Yk22fjZxziX1A3ZJS9CcX9sz0FI fpce2V8x326ReLeCiq1kBQCxAEqgIsL+O6kGK+cy3PzaQoA76yGwOKMFQZGm5uU85oWl J9/g== X-Gm-Message-State: AOJu0YxOFCAU0zPmIllTubSQiomBbEjEZcDwSjmCF/O7490OzTmtd+HC RB39jErdbDyTvHa70SYo3moRYEppZbu7kW7Y+enGAhzSKipa1GR/UHL+Fz9dA9OFwt9oZsR9Nor YuUK49FI5OnFUbd6JBrAPV4PuhfuurWeWeAUgwY5C X-Gm-Gg: ASbGncsZwigaLZ0eJ8MvaWWbfAPs+p7Prye9GJFxbqNkfhS++8naM/Tq0LGc0nh2da+ q7imXJMiBKOskem5hEPQac1MjwhU5t/7PM4o/7ESee7KtX+hWM/9l46pR6EurtCLVy+MWiavcvj 30P8qTrJKlTshmrTDSjnvdO4D3Hmo3PY83l+yVL47SvkslNBp3yCx+kbEioZnA629CmwIOP5jgL P3ZVPgPGY4d2mmOBidhxCgMM7tJEzH/dTjg1JgHxCTRdoZ4vtmrM1RWHraNw0dzlixf8u5iX0Rv oFoq2hh/QrngpOe4UZi+l66X//iVeJdu+e73USz4 X-Google-Smtp-Source: AGHT+IHMUWSrYhytsUNvc9FMC79aCJE4tih+bQyQtL+IhZwZk3bJlQZ5u4+paaIFmK15XOsZ+0ybFXdZud0e X-Received: by 2002:a05:6214:301c:b0:6e1:715f:cdf5 with SMTP id 6a1803df08f44-6e6ae857ec8mr177446886d6.15.1740472460139; Tue, 25 Feb 2025 00:34:20 -0800 (PST) Received: from postal.iol.unh.edu (postal.iol.unh.edu. [132.177.123.84]) by smtp-relay.gmail.com with ESMTPS id 6a1803df08f44-6e87b03983asm576916d6.21.2025.02.25.00.34.20 (version=TLS1_2 cipher=ECDHE-ECDSA-AES128-GCM-SHA256 bits=128/128); Tue, 25 Feb 2025 00:34:20 -0800 (PST) X-Relaying-Domain: iol.unh.edu Date: Tue, 25 Feb 2025 00:34:20 -0800 (PST) Message-ID: <67bd808c.050a0220.2cfcda.3558SMTPIN_ADDED_MISSING@mx.google.com> Received: from [172.21.0.8] (unknown [172.18.0.240]) by postal.iol.unh.edu (Postfix) with ESMTP id C30A66052471; Tue, 25 Feb 2025 03:34:19 -0500 (EST) Subject: |SUCCESS| pw151974-151976 [PATCH] [v5,3/3] app/test: add SM4 GCM tes From: dpdklab@iol.unh.edu To: Test Report Cc: dpdk-test-reports@iol.unh.edu In-Reply-To: <20250224165939.717714-3-brian.dooley@intel.com> References: <20250224165939.717714-3-brian.dooley@intel.com> Content-Type: text/plain X-BeenThere: test-report@dpdk.org X-Mailman-Version: 2.1.29 Precedence: list List-Id: automatic DPDK test reports List-Unsubscribe: , List-Archive: List-Post: List-Help: List-Subscribe: , Errors-To: test-report-bounces@dpdk.org Test-Label: iol-sample-apps-testing Test-Status: SUCCESS http://dpdk.org/patch/151976 _Testing PASS_ Submitter: Brian Dooley Date: Monday, February 24 2025 16:59:39 DPDK git baseline: Repo:dpdk Branch: master CommitID:fab31a03ba98e7457284df95dd9eef2223a4ccaa 151974-151976 --> testing pass Upstream job id: ACVP-FIPS-testing#9036 Test environment and result as below: +--------------------+----------------------+----------------------+ | Environment | compressdev_zlib_pmd | dpdk_fips_validation | +====================+======================+======================+ | Ubuntu 22.04 (ARM) | PASS | SKIPPED | +--------------------+----------------------+----------------------+ | Ubuntu 22.04 | PASS | SKIPPED | +--------------------+----------------------+----------------------+ | Ubuntu 20.04 | SKIPPED | PASS | +--------------------+----------------------+----------------------+ Ubuntu 22.04 (ARM) Kernel: 5.15.0-97-generic Compiler: gcc gcc (Ubuntu 11.4.0-1ubuntu1~22.04) 11.4.0 Ubuntu 22.04 Kernel: 5.15.0-100-generic Compiler: gcc gcc (Ubuntu 11.4.0-1ubuntu1~22.04) 11.4.0 Ubuntu 20.04 Kernel: Depends on container host Compiler: gcc (Ubuntu 9.4.0-1ubuntu1~20.04.2) 9.4.0 To view detailed results, visit: https://lab.dpdk.org/results/dashboard/patchsets/32670/ UNH-IOL DPDK Community Lab To manage your email subscriptions, visit: https://lab.dpdk.org/results/dashboard/preferences/subscriptions/