From mboxrd@z Thu Jan 1 00:00:00 1970 Return-Path: Received: from mails.dpdk.org (mails.dpdk.org [217.70.189.124]) by inbox.dpdk.org (Postfix) with ESMTP id C6CB9462B0 for ; Tue, 25 Feb 2025 09:39:11 +0100 (CET) Received: from mails.dpdk.org (localhost [127.0.0.1]) by mails.dpdk.org (Postfix) with ESMTP id C26DB427D7; Tue, 25 Feb 2025 09:39:11 +0100 (CET) Received: from mail-pl1-f226.google.com (mail-pl1-f226.google.com [209.85.214.226]) by mails.dpdk.org (Postfix) with ESMTP id 6E91E427B6 for ; Tue, 25 Feb 2025 09:39:10 +0100 (CET) Received: by mail-pl1-f226.google.com with SMTP id d9443c01a7336-2211acda7f6so118122845ad.3 for ; Tue, 25 Feb 2025 00:39:10 -0800 (PST) DKIM-Signature: v=1; a=rsa-sha256; c=relaxed/relaxed; d=iol.unh.edu; s=unh-iol; t=1740472749; x=1741077549; darn=dpdk.org; h=references:in-reply-to:cc:to:from:subject:message-id:date:from:to :cc:subject:date:message-id:reply-to; bh=wjnVrNrecp0Mv8EAn9QROdiLoAX2qTpqoJT9yCfbzl4=; b=fKr5T/ZWJKSJM6DpXxG/8riJe08iZyYCVt3Bzj6+2Hz+9GDwOXDaX0YpnxDpuju4HF WUDkuhQRSfzDNOSBEpKNmOyLXBOwv6/om2Oj0tvJ13GmOJebKQVmEemBVSx1pOKqJVYE LeewcgOMavd/Qmf/g4UXUdWkrwyJakFdO7K3k= X-Google-DKIM-Signature: v=1; a=rsa-sha256; c=relaxed/relaxed; d=1e100.net; s=20230601; t=1740472749; x=1741077549; h=references:in-reply-to:cc:to:from:subject:message-id:date :x-gm-message-state:from:to:cc:subject:date:message-id:reply-to; bh=wjnVrNrecp0Mv8EAn9QROdiLoAX2qTpqoJT9yCfbzl4=; b=Fm+w3LEWCVLtMdw3QxsR/IqPCB5UHXECNqxVGhaZaAyUFT1PPJzzSYjWoPs81kN9H+ 0F4lJ+pzI0ixo8X4gQeu1OfzT+uvHeOOA/owKrAzJqdMazkI6ZKXvr/FMdAk7D4d08G1 eSjz9ISoytinN8BIi14HNbJYMP3j1Js3p53i3ImUZJU3wq7NFUhdtIHy1Ce2L8BA7dny SsAoy5Ch6ceU5thqkq5pQK3/Aqqz6uqNmg5KnFZIfG4hJljW85HpRsv2t4pDkVDFIYZZ 3G0rqQ84p3ExXzqmpheSt2m2PEE6A+gD+p7u4R4svpDpe5E1bEkCO64GKBTlqxYYzUZ4 ZX6g== X-Gm-Message-State: AOJu0Yx6g1tjxdOENs739Cug0svZv1xqHX4ZxQJxxVHJkbjpo5fiJSXG eJmmvN+zrJtzB0uOVpdGg0bad497LU5SS35E781wJv7rjqQtwT4+Kl4U+wi3ZF/BImcThbc7eba 1iZt+R0SCmNxXPpdSKucJw0w3d0u3kV03O+Db3h5u X-Gm-Gg: ASbGncvtQXTXiWDLXqeUVTR36X7OEGBlCGDkUDPgVEu2VqECPIN4QZZVso4ppwaieDk /VB7od7rg8J9M+tLL3gH0Ec6UH3ork7a3EkOgQzBvlHfK9cBxV1yHjXS05KZi/1VfKSVJln9ikJ F27/XC4ouv08SsMziey/bu0aedtun3SrJb56RURcjV3712Z+7AGB5k51SYKQ7FuNJFNcs8fr+lz Jyc/55tfziPQPF1Wvb2bT1rHoRI9l/FB0IjbAa2cPmdAKmBNAjkvfew9cm24etZF2ewNiz0JmcS dBcjGmkftc2uGgrUdkecu0j+qL+5b5aLh1dfRv0w X-Google-Smtp-Source: AGHT+IFl/WregdbXar9bSJRGGDJuTBH14bs/UeFp4crC6MqFuS0ycJBytp7MSjTi55mFpsOBF7RztyhLZ+0n X-Received: by 2002:a17:902:ce82:b0:220:ee0a:73e7 with SMTP id d9443c01a7336-2219ff5ef09mr269670565ad.27.1740472749691; Tue, 25 Feb 2025 00:39:09 -0800 (PST) Received: from postal.iol.unh.edu (postal.iol.unh.edu. [132.177.123.84]) by smtp-relay.gmail.com with ESMTPS id d9443c01a7336-2230a09950esm518905ad.119.2025.02.25.00.39.09 (version=TLS1_2 cipher=ECDHE-ECDSA-AES128-GCM-SHA256 bits=128/128); Tue, 25 Feb 2025 00:39:09 -0800 (PST) X-Relaying-Domain: iol.unh.edu Date: Tue, 25 Feb 2025 00:39:09 -0800 (PST) Message-ID: <67bd81ad.170a0220.1fb97.2e0aSMTPIN_ADDED_MISSING@mx.google.com> Received: from [172.21.0.7] (unknown [172.18.0.240]) by postal.iol.unh.edu (Postfix) with ESMTP id D2DA76052471; Tue, 25 Feb 2025 03:39:08 -0500 (EST) Subject: |SUCCESS| pw151986 [PATCH] net/nfp: fix get represetor wrong port st From: dpdklab@iol.unh.edu To: Test Report Cc: dpdk-test-reports@iol.unh.edu In-Reply-To: <20250225013454.442170-1-chaoyong.he@corigine.com> References: <20250225013454.442170-1-chaoyong.he@corigine.com> Content-Type: text/plain X-BeenThere: test-report@dpdk.org X-Mailman-Version: 2.1.29 Precedence: list List-Id: automatic DPDK test reports List-Unsubscribe: , List-Archive: List-Post: List-Help: List-Subscribe: , Errors-To: test-report-bounces@dpdk.org Test-Label: iol-abi-testing Test-Status: SUCCESS http://dpdk.org/patch/151986 _Testing PASS_ Submitter: Chaoyong He Date: Tuesday, February 25 2025 01:34:54 DPDK git baseline: Repo:dpdk Branch: master CommitID:a9257af8d8f4f2eb93780a48b53e9342f09ebe9a 151986 --> testing pass Upstream job id: Generic-DPDK-Compile-ABI#117664 Test environment and result as below: +-------------------+----------+ | Environment | abi_test | +===================+==========+ | CentOS Stream 9 | PASS | +-------------------+----------+ | CentOS Stream 10 | PASS | +-------------------+----------+ | Fedora 40 (Clang) | PASS | +-------------------+----------+ | Debian 12 | PASS | +-------------------+----------+ | Debian Bullseye | PASS | +-------------------+----------+ | openSUSE Leap 15 | PASS | +-------------------+----------+ | Fedora 41 (Clang) | PASS | +-------------------+----------+ | Fedora 41 | PASS | +-------------------+----------+ | Fedora 40 | PASS | +-------------------+----------+ | RHEL8 | PASS | +-------------------+----------+ | RHEL9 | PASS | +-------------------+----------+ | Ubuntu 22.04 | PASS | +-------------------+----------+ | Ubuntu 24.04 | PASS | +-------------------+----------+ CentOS Stream 9 Kernel: Depends on container host Compiler: gcc 11.5.0 20240719 (Red Hat 11.5.0-2) CentOS Stream 10 Kernel: Depends on container host Compiler: gcc 14.2.1 20241104 (Red Hat 14.2.1-6) Fedora 40 (Clang) Kernel: Depends on container host Compiler: clang 18.1.8 (Fedora 18.1.8-1.fc40) Debian 12 Kernel: Depends on container host Compiler: gcc (Debian 12.2.0-14) 12.2.0 Debian Bullseye Kernel: Depends on container host Compiler: gcc (Debian 10.2.1-6) 10.2.1 20210110 openSUSE Leap 15 Kernel: Depends on container host Compiler: gcc (SUSE Linux) 7.5.0 Fedora 41 (Clang) Kernel: Depends on container host Compiler: clang 19.1.5 (Fedora 19.1.5-1.fc41) Fedora 41 Kernel: Depends on container host Compiler: gcc 14.2.1 20240912 (Red Hat 14.2.1-3) Fedora 40 Kernel: Depends on container host Compiler: gcc 14.2.1 20240912 (Red Hat 14.2.1-3) RHEL8 Kernel: Depends on container host Compiler: gcc 8.5.0 20210514 (Red Hat 8.5.0-22) RHEL9 Kernel: Depends on container host Compiler: gcc 11.5.0 20240719 (Red Hat 11.5.0-2) Ubuntu 22.04 Kernel: Depends on container host Compiler: gcc (Ubuntu 11.4.0-1ubuntu1~22.04) 11.4.0 Ubuntu 24.04 Kernel: Depends on container host Compiler: gcc (Ubuntu 13.3.0-6ubuntu2~24.04) 13.3.0 To view detailed results, visit: https://lab.dpdk.org/results/dashboard/patchsets/32673/ UNH-IOL DPDK Community Lab To manage your email subscriptions, visit: https://lab.dpdk.org/results/dashboard/preferences/subscriptions/