From mboxrd@z Thu Jan 1 00:00:00 1970 Return-Path: Received: from mails.dpdk.org (mails.dpdk.org [217.70.189.124]) by inbox.dpdk.org (Postfix) with ESMTP id 138D2462B7 for ; Tue, 25 Feb 2025 09:41:04 +0100 (CET) Received: from mails.dpdk.org (localhost [127.0.0.1]) by mails.dpdk.org (Postfix) with ESMTP id F20D0427D7; Tue, 25 Feb 2025 09:41:03 +0100 (CET) Received: from mail-pl1-f228.google.com (mail-pl1-f228.google.com [209.85.214.228]) by mails.dpdk.org (Postfix) with ESMTP id C1F7D427B6 for ; Tue, 25 Feb 2025 09:41:02 +0100 (CET) Received: by mail-pl1-f228.google.com with SMTP id d9443c01a7336-22128b7d587so102212505ad.3 for ; Tue, 25 Feb 2025 00:41:02 -0800 (PST) DKIM-Signature: v=1; a=rsa-sha256; c=relaxed/relaxed; d=iol.unh.edu; s=unh-iol; t=1740472862; x=1741077662; darn=dpdk.org; h=references:in-reply-to:cc:to:from:subject:message-id:date:from:to :cc:subject:date:message-id:reply-to; bh=agXrusHBk50NAeQkEj7H+N+IehQwjgNNq9XqzLu2uIk=; b=iSoTM2ja2vVTjgd1kdHPB2paoxXePuMadnKjBlwNL6UAk2z6NO4BxRc+N+h/jD6av+ 8uG8qsmdEQNHjuVzwyG6QWpUhypPq2o+Y0u/owcotVI4seeXK6pbwYzStIL/6rcuV77Y gSYQ/kHsTRY4YDKzA03iJ0f8A/15/KSqej/+s= X-Google-DKIM-Signature: v=1; a=rsa-sha256; c=relaxed/relaxed; d=1e100.net; s=20230601; t=1740472862; x=1741077662; h=references:in-reply-to:cc:to:from:subject:message-id:date :x-gm-message-state:from:to:cc:subject:date:message-id:reply-to; bh=agXrusHBk50NAeQkEj7H+N+IehQwjgNNq9XqzLu2uIk=; b=w2WpMe2A/bYJzaFT5v8S0+vd3WohzRXe0q70V95yzffIvXd2z4NHh4FkAQ2Wv+DpXS iGCkttn68711NH54ONje5FWeq/atTtB9QOCNdN3exjE/19NQBrCWFZn9AuZnmkAKhmZT IQcw+wxaTLOU038toKejXQ7LHvU9p3L8SKwaoE6u6njx6HNdGLSxlGtqWV1dPVAIRd9g VKdmKBzCMzUJBgs8LJGl5eTwETZXU9AStTnSZ8B9B2PRF4ekKe1xPp7P0hJlLwrxw9a3 CZcr2/yWYQidH2eQeCp1tPPuK3EHdpHr1T8TB2kbRMyvDtaai848kyJsL8vPxg1mEGxs hmCA== X-Gm-Message-State: AOJu0Yw2q7C4sZVVtfVyvc8Z7zrU6XDwI4X0y0ihed4n2wJRdPRGugue BQHX/69gH05AOyP/C90BozeQFsZnGwpaTEwqHBDxK/tszPAfznKejdtIBjfVBLwwMgyMe+V2y9l SGCXGFrBGy2oXkYbHAcBLpC0BAQF8/nErhhfFRyWG X-Gm-Gg: ASbGncsT+HpNQxNq362ZTN7+1bvy9H/QjA8jp4PyOxTIo5luaKnJCkCIk3UB6Noyrus IsMVKPcAAxTjOCQofs+q9jukL5vsZzbdKp/dH4IdTZaKzZv4rhVluUAqAxwJ9PsjM1Ns2W4RrK+ wKDpTkDFydvhEgBQs+4PuDVv9U10XeNKmdVPnha88qxr2FRF2eeWEPKv9vqi6r9QsAqyhMh0BXi LBcQ1+0qg/UNMtpnYbZS40tqf8x+LhEa4OyFqS7Xenj90eETEY3hQmVjC9VWI2+qEQI+3gWS7Sr K/5lwhH/349daI2ohshXAnFPo7ZTlgLYwQXRWG7P X-Google-Smtp-Source: AGHT+IFcWthJHzjci+Ock8fWQTds9FhDOHxs57xDt1BBFyK6vRjCQ4zMBv9jEnQZPwU8rDWpj0QwmKla9num X-Received: by 2002:a17:902:ecc4:b0:220:d69d:325c with SMTP id d9443c01a7336-2219ffd1cdbmr236765975ad.39.1740472861375; Tue, 25 Feb 2025 00:41:01 -0800 (PST) Received: from postal.iol.unh.edu (postal.iol.unh.edu. [132.177.123.84]) by smtp-relay.gmail.com with ESMTPS id d9443c01a7336-2230a00096fsm543415ad.1.2025.02.25.00.41.01 (version=TLS1_2 cipher=ECDHE-ECDSA-AES128-GCM-SHA256 bits=128/128); Tue, 25 Feb 2025 00:41:01 -0800 (PST) X-Relaying-Domain: iol.unh.edu Date: Tue, 25 Feb 2025 00:41:01 -0800 (PST) Message-ID: <67bd821d.170a0220.b6c27.303dSMTPIN_ADDED_MISSING@mx.google.com> Received: from [172.21.0.7] (unknown [172.18.0.240]) by postal.iol.unh.edu (Postfix) with ESMTP id 75B4A6052471; Tue, 25 Feb 2025 03:41:00 -0500 (EST) Subject: |SUCCESS| pw151986 [PATCH] net/nfp: fix get represetor wrong port st From: dpdklab@iol.unh.edu To: Test Report Cc: dpdk-test-reports@iol.unh.edu In-Reply-To: <20250225013454.442170-1-chaoyong.he@corigine.com> References: <20250225013454.442170-1-chaoyong.he@corigine.com> Content-Type: text/plain X-BeenThere: test-report@dpdk.org X-Mailman-Version: 2.1.29 Precedence: list List-Id: automatic DPDK test reports List-Unsubscribe: , List-Archive: List-Post: List-Help: List-Subscribe: , Errors-To: test-report-bounces@dpdk.org Test-Label: iol-abi-testing Test-Status: SUCCESS http://dpdk.org/patch/151986 _Testing PASS_ Submitter: Chaoyong He Date: Tuesday, February 25 2025 01:34:54 DPDK git baseline: Repo:dpdk Branch: master CommitID:a9257af8d8f4f2eb93780a48b53e9342f09ebe9a 151986 --> testing pass Upstream job id: Generic-DPDK-Compile-ABI#117654 Test environment and result as below: +-------------------+----------+ | Environment | abi_test | +===================+==========+ | CentOS Stream 9 | PASS | +-------------------+----------+ | CentOS Stream 10 | PASS | +-------------------+----------+ | Fedora 40 (Clang) | PASS | +-------------------+----------+ | Debian 12 | PASS | +-------------------+----------+ | Debian Bullseye | PASS | +-------------------+----------+ | openSUSE Leap 15 | PASS | +-------------------+----------+ | Fedora 41 (Clang) | PASS | +-------------------+----------+ | Fedora 41 | PASS | +-------------------+----------+ | Fedora 40 | PASS | +-------------------+----------+ | RHEL8 | PASS | +-------------------+----------+ | RHEL9 | PASS | +-------------------+----------+ | Ubuntu 22.04 | PASS | +-------------------+----------+ | Ubuntu 24.04 | PASS | +-------------------+----------+ CentOS Stream 9 Kernel: Depends on container host Compiler: gcc 11.5.0 20240719 (Red Hat 11.5.0-2) CentOS Stream 10 Kernel: Depends on container host Compiler: gcc 14.2.1 20241104 (Red Hat 14.2.1-6) Fedora 40 (Clang) Kernel: Depends on container host Compiler: clang 18.1.8 (Fedora 18.1.8-1.fc40) Debian 12 Kernel: Depends on container host Compiler: gcc (Debian 12.2.0-14) 12.2.0 Debian Bullseye Kernel: Depends on container host Compiler: gcc (Debian 10.2.1-6) 10.2.1 20210110 openSUSE Leap 15 Kernel: Depends on container host Compiler: gcc (SUSE Linux) 7.5.0 Fedora 41 (Clang) Kernel: Depends on container host Compiler: clang 19.1.5 (Fedora 19.1.5-1.fc41) Fedora 41 Kernel: Depends on container host Compiler: gcc 14.2.1 20240912 (Red Hat 14.2.1-3) Fedora 40 Kernel: Depends on container host Compiler: gcc 14.2.1 20240912 (Red Hat 14.2.1-3) RHEL8 Kernel: Depends on container host Compiler: gcc 8.5.0 20210514 (Red Hat 8.5.0-22) RHEL9 Kernel: Depends on container host Compiler: gcc 11.5.0 20240719 (Red Hat 11.5.0-2) Ubuntu 22.04 Kernel: Depends on container host Compiler: gcc (Ubuntu 11.4.0-1ubuntu1~22.04) 11.4.0 Ubuntu 24.04 Kernel: Depends on container host Compiler: gcc (Ubuntu 13.3.0-6ubuntu2~24.04) 13.3.0 To view detailed results, visit: https://lab.dpdk.org/results/dashboard/patchsets/32673/ UNH-IOL DPDK Community Lab To manage your email subscriptions, visit: https://lab.dpdk.org/results/dashboard/preferences/subscriptions/