From mboxrd@z Thu Jan 1 00:00:00 1970 Return-Path: Received: from mails.dpdk.org (mails.dpdk.org [217.70.189.124]) by inbox.dpdk.org (Postfix) with ESMTP id 1A42E462B7 for ; Tue, 25 Feb 2025 09:41:26 +0100 (CET) Received: from mails.dpdk.org (localhost [127.0.0.1]) by mails.dpdk.org (Postfix) with ESMTP id 15A0D427D7; Tue, 25 Feb 2025 09:41:26 +0100 (CET) Received: from mail-pl1-f225.google.com (mail-pl1-f225.google.com [209.85.214.225]) by mails.dpdk.org (Postfix) with ESMTP id C2B35427B6 for ; Tue, 25 Feb 2025 09:41:24 +0100 (CET) Received: by mail-pl1-f225.google.com with SMTP id d9443c01a7336-2230c74c8b6so10273705ad.0 for ; Tue, 25 Feb 2025 00:41:24 -0800 (PST) DKIM-Signature: v=1; a=rsa-sha256; c=relaxed/relaxed; d=iol.unh.edu; s=unh-iol; t=1740472884; x=1741077684; darn=dpdk.org; h=references:in-reply-to:cc:to:from:subject:message-id:date:from:to :cc:subject:date:message-id:reply-to; bh=i2463D6v0vYpC/aq/U1KXvztN3Sk2qwNccinhBLmWi0=; b=EJ+d/Fad8dF++BIjHQsnlAW/URDYpX8CO852tfsbaLKafmSX7UbmL1lRMP8U9Bauhu rfoeE70IkdUaSP2Gbq8R40B3xdoNQZFnE22T472Uw60WYBIszEt1hM1QASeeIcWSrQTX kbLHDoFm/0adh3q4Rg53Ep2f4EeErHT+W/Jp4= X-Google-DKIM-Signature: v=1; a=rsa-sha256; c=relaxed/relaxed; d=1e100.net; s=20230601; t=1740472884; x=1741077684; h=references:in-reply-to:cc:to:from:subject:message-id:date :x-gm-message-state:from:to:cc:subject:date:message-id:reply-to; bh=i2463D6v0vYpC/aq/U1KXvztN3Sk2qwNccinhBLmWi0=; b=GcmonNkaR0S9uWV1bEB6FbusIEctVoN73Fh3D9ukRPnrZnpxRV3CkMkXP+WyZKWm9I a3gd+1nRa0dxyF6SLohevHT/ZbjmWoK6c3n/enoLJC70njQdh6+LefGtfdJI+Fjyot8e 4m4YYGKMYbGiD1N5uxr6u3cV51W1+odqrnYanpKBhxEuAMFFWg8DAHTzUUoLBJ+ljJ2Q WfcE3/rZwhs6vbKd3qyHmSjHnxwjgKKKW5OeOnE5f8ub0ost5Sy0sLZH8azAoWI0fQAn U0SnH55eteni51/OSNs2a6m8wQImQZKc+9GDSnADTWMOR9vjG/lntC5TbeHGA3XwWNRN OnFA== X-Gm-Message-State: AOJu0YwUM1hSUMXnlXM9mwgCoYgHbXdtVRSMVGd2/BYpna7z4ZKMmgxA mTPdi5ZUar+jHCisqs1XdrLTX+iTbxPuRMQg3XfOjD8YUw0DlEEYgUDnBmAop0cfOqMU+RHJat7 HXihZ7b6sfjOasSaGZiJYrDp2opFMCDaNv3jBXTEV4SCYi/YY+apfGe3H X-Gm-Gg: ASbGncvCv/ABygfIOfMYFIN8u4GXhDRw8sedqn0EADtpG++/7N2PQh4De3it8y8fMCC TSU871xk+gBxMkOvalHkfgXcS3r3SOkdwjrtCP/dQPirbNFBfOGfL50UF0YIMCwWbDK2SiOrICk bA3+kvcGIT2QbLk2rXd72YWn/SgtCIyeigjBDcn1FBvmpQ7jBQJOXX6u6BJHZswuDv1Uwh4QV1J WjRAGlqdhypRXn4vEVBWqy6RUBz89LBXBo+3gTTxLMrwYRhbnfAZyF2tdczIRMYtr0fJNg9XtOP OWid7vTFt6sTaINqBmuyt7FKVF4wQsZkTietjYcm7EfLQDXTZFYW X-Google-Smtp-Source: AGHT+IH+sHZYwza0LyyPdMxSFFC0RLxWHWNjmAxwj3PoTfxgluX0gIMt/m5bJB5kOFZeTqEjfWuFLR9xRsXm X-Received: by 2002:a17:902:dad2:b0:21f:c67:a68a with SMTP id d9443c01a7336-22307b5b07cmr31363015ad.31.1740472884058; Tue, 25 Feb 2025 00:41:24 -0800 (PST) Received: from postal.iol.unh.edu (postal.iol.unh.edu. [2606:4100:3880:1234::84]) by smtp-relay.gmail.com with ESMTPS id d9443c01a7336-2230a02c153sm560285ad.64.2025.02.25.00.41.23 (version=TLS1_2 cipher=ECDHE-ECDSA-AES128-GCM-SHA256 bits=128/128); Tue, 25 Feb 2025 00:41:24 -0800 (PST) X-Relaying-Domain: iol.unh.edu Date: Tue, 25 Feb 2025 00:41:24 -0800 (PST) Message-ID: <67bd8234.170a0220.3b26bd.321eSMTPIN_ADDED_MISSING@mx.google.com> Received: from [172.21.0.7] (unknown [172.18.0.240]) by postal.iol.unh.edu (Postfix) with ESMTP id 734336052471; Tue, 25 Feb 2025 03:41:23 -0500 (EST) Subject: |SUCCESS| pw151986 [PATCH] net/nfp: fix get represetor wrong port st From: dpdklab@iol.unh.edu To: Test Report Cc: dpdk-test-reports@iol.unh.edu In-Reply-To: <20250225013454.442170-1-chaoyong.he@corigine.com> References: <20250225013454.442170-1-chaoyong.he@corigine.com> Content-Type: text/plain X-BeenThere: test-report@dpdk.org X-Mailman-Version: 2.1.29 Precedence: list List-Id: automatic DPDK test reports List-Unsubscribe: , List-Archive: List-Post: List-Help: List-Subscribe: , Errors-To: test-report-bounces@dpdk.org Test-Label: iol-abi-testing Test-Status: SUCCESS http://dpdk.org/patch/151986 _Testing PASS_ Submitter: Chaoyong He Date: Tuesday, February 25 2025 01:34:54 DPDK git baseline: Repo:dpdk Branch: master CommitID:a9257af8d8f4f2eb93780a48b53e9342f09ebe9a 151986 --> testing pass Upstream job id: Generic-DPDK-Compile-ABI#117665 Test environment and result as below: +-------------------+----------+ | Environment | abi_test | +===================+==========+ | CentOS Stream 9 | PASS | +-------------------+----------+ | CentOS Stream 10 | PASS | +-------------------+----------+ | Fedora 40 (Clang) | PASS | +-------------------+----------+ | Debian 12 | PASS | +-------------------+----------+ | Debian Bullseye | PASS | +-------------------+----------+ | openSUSE Leap 15 | PASS | +-------------------+----------+ | Fedora 41 (Clang) | PASS | +-------------------+----------+ | Fedora 41 | PASS | +-------------------+----------+ | Fedora 40 | PASS | +-------------------+----------+ | RHEL8 | PASS | +-------------------+----------+ | RHEL9 | PASS | +-------------------+----------+ | Ubuntu 22.04 | PASS | +-------------------+----------+ | Ubuntu 24.04 | PASS | +-------------------+----------+ CentOS Stream 9 Kernel: Depends on container host Compiler: gcc 11.5.0 20240719 (Red Hat 11.5.0-2) CentOS Stream 10 Kernel: Depends on container host Compiler: gcc 14.2.1 20241104 (Red Hat 14.2.1-6) Fedora 40 (Clang) Kernel: Depends on container host Compiler: clang 18.1.8 (Fedora 18.1.8-1.fc40) Debian 12 Kernel: Depends on container host Compiler: gcc (Debian 12.2.0-14) 12.2.0 Debian Bullseye Kernel: Depends on container host Compiler: gcc (Debian 10.2.1-6) 10.2.1 20210110 openSUSE Leap 15 Kernel: Depends on container host Compiler: gcc (SUSE Linux) 7.5.0 Fedora 41 (Clang) Kernel: Depends on container host Compiler: clang 19.1.5 (Fedora 19.1.5-1.fc41) Fedora 41 Kernel: Depends on container host Compiler: gcc 14.2.1 20240912 (Red Hat 14.2.1-3) Fedora 40 Kernel: Depends on container host Compiler: gcc 14.2.1 20240912 (Red Hat 14.2.1-3) RHEL8 Kernel: Depends on container host Compiler: gcc 8.5.0 20210514 (Red Hat 8.5.0-22) RHEL9 Kernel: Depends on container host Compiler: gcc 11.5.0 20240719 (Red Hat 11.5.0-2) Ubuntu 22.04 Kernel: Depends on container host Compiler: gcc (Ubuntu 11.4.0-1ubuntu1~22.04) 11.4.0 Ubuntu 24.04 Kernel: Depends on container host Compiler: gcc (Ubuntu 13.3.0-6ubuntu2~24.04) 13.3.0 To view detailed results, visit: https://lab.dpdk.org/results/dashboard/patchsets/32673/ UNH-IOL DPDK Community Lab To manage your email subscriptions, visit: https://lab.dpdk.org/results/dashboard/preferences/subscriptions/