automatic DPDK test reports
 help / color / mirror / Atom feed
* |SUCCESS| [GIT MASTER] a9257af8d8f4f2eb93780a48b53e9342f09ebe9a
@ 2025-02-25  9:16 dpdklab
  0 siblings, 0 replies; 6+ messages in thread
From: dpdklab @ 2025-02-25  9:16 UTC (permalink / raw)
  To: Test Report; +Cc: dpdk-test-reports, Stephen Hemminger

_Testing PASS_

Branch: dpdk-next-net

a9257af8d8f4f2eb93780a48b53e9342f09ebe9a --> testing pass

Upstream job id: Template-DTS-Pipeline#214340

Test environment and result as below:

+--------------+----------------------+
| Environment  | compressdev_zlib_pmd |
+==============+======================+
| Ubuntu 22.04 | PASS                 |
+--------------+----------------------+


Ubuntu 22.04
	Kernel: 5.15.0-100-generic
	Compiler: gcc gcc (Ubuntu 11.4.0-1ubuntu1~22.04) 11.4.0

To view detailed results, visit:
https://lab.dpdk.org/results/dashboard/tarballs/32716/

UNH-IOL DPDK Community Lab

To manage your email subscriptions, visit: 
https://lab.dpdk.org/results/dashboard/preferences/subscriptions/

^ permalink raw reply	[flat|nested] 6+ messages in thread
* |SUCCESS| [GIT MASTER] a9257af8d8f4f2eb93780a48b53e9342f09ebe9a
@ 2025-02-25 10:29 dpdklab
  0 siblings, 0 replies; 6+ messages in thread
From: dpdklab @ 2025-02-25 10:29 UTC (permalink / raw)
  To: Test Report; +Cc: dpdk-test-reports, Stephen Hemminger

_Testing PASS_

Branch: dpdk-next-net

a9257af8d8f4f2eb93780a48b53e9342f09ebe9a --> testing pass

Upstream job id: Generic-VM-Unit-Test-DPDK#27360

Test environment and result as below:

+---------------------+----------------+
|     Environment     | dpdk_unit_test |
+=====================+================+
| CentOS Stream 9     | PASS           |
+---------------------+----------------+
| CentOS Stream 10    | PASS           |
+---------------------+----------------+
| Debian Bullseye     | PASS           |
+---------------------+----------------+
| Debian 12           | PASS           |
+---------------------+----------------+
| Fedora 40           | PASS           |
+---------------------+----------------+
| Fedora 41           | PASS           |
+---------------------+----------------+
| Fedora 40 (Clang)   | PASS           |
+---------------------+----------------+
| Fedora 41 (Clang)   | PASS           |
+---------------------+----------------+
| RHEL9               | PASS           |
+---------------------+----------------+
| Ubuntu 20.04        | PASS           |
+---------------------+----------------+
| RHEL8               | PASS           |
+---------------------+----------------+
| Ubuntu 22.04        | PASS           |
+---------------------+----------------+
| Ubuntu 24.04        | PASS           |
+---------------------+----------------+
| Windows Server 2022 | PASS           |
+---------------------+----------------+


CentOS Stream 9
	Kernel: Depends on container host
	Compiler: gcc 11.5.0 20240719 (Red Hat 11.5.0-2)

CentOS Stream 10
	Kernel: Depends on container host
	Compiler: gcc 14.2.1 20241104 (Red Hat 14.2.1-6)

Debian Bullseye
	Kernel: Depends on container host
	Compiler: gcc (Debian 10.2.1-6) 10.2.1 20210110

Debian 12
	Kernel: Depends on container host
	Compiler: gcc (Debian 12.2.0-14) 12.2.0

Fedora 40
	Kernel: Depends on container host
	Compiler: gcc 14.2.1 20240912 (Red Hat 14.2.1-3)

Fedora 41
	Kernel: Depends on container host
	Compiler: gcc 14.2.1 20240912 (Red Hat 14.2.1-3)

Fedora 40 (Clang)
	Kernel: Depends on container host
	Compiler: clang 18.1.8 (Fedora 18.1.8-1.fc40)

Fedora 41 (Clang)
	Kernel: Depends on container host
	Compiler: clang 19.1.5 (Fedora 19.1.5-1.fc41)

RHEL9
	Kernel: Depends on container host
	Compiler: gcc 11.5.0 20240719 (Red Hat 11.5.0-2)

Ubuntu 20.04
	Kernel: Depends on container host
	Compiler: gcc (Ubuntu 9.4.0-1ubuntu1~20.04.2) 9.4.0

RHEL8
	Kernel: Depends on container host
	Compiler: gcc 8.5.0 20210514 (Red Hat 8.5.0-22)

Ubuntu 22.04
	Kernel: Depends on container host
	Compiler: gcc (Ubuntu 11.4.0-1ubuntu1~22.04) 11.4.0

Ubuntu 24.04
	Kernel: Depends on container host
	Compiler: gcc (Ubuntu 13.3.0-6ubuntu2~24.04) 13.3.0

Windows Server 2022
	Kernel: 10.0.20348.2031
	Compiler: clang 15.0.7, gcc 14.1.0 (MinGW), and MSVC VS 19.39.33521

To view detailed results, visit:
https://lab.dpdk.org/results/dashboard/tarballs/32716/

UNH-IOL DPDK Community Lab

To manage your email subscriptions, visit: 
https://lab.dpdk.org/results/dashboard/preferences/subscriptions/

^ permalink raw reply	[flat|nested] 6+ messages in thread
* |SUCCESS| [GIT MASTER] a9257af8d8f4f2eb93780a48b53e9342f09ebe9a
@ 2025-02-25 10:24 dpdklab
  0 siblings, 0 replies; 6+ messages in thread
From: dpdklab @ 2025-02-25 10:24 UTC (permalink / raw)
  To: Test Report; +Cc: dpdk-test-reports, Stephen Hemminger

_Testing PASS_

Branch: dpdk-next-net

a9257af8d8f4f2eb93780a48b53e9342f09ebe9a --> testing pass

Upstream job id: Generic-Unit-Test-DPDK#318271

Test environment and result as below:

+-----------------------------+------------------------------+----------------+---------------------------+
|         Environment         | cryptodev_sw_snow3g_autotest | dpdk_unit_test | cryptodev_sw_zuc_autotest |
+=============================+==============================+================+===========================+
| Debian 12 (arm)             | PASS                         | PASS           | PASS                      |
+-----------------------------+------------------------------+----------------+---------------------------+
| 32-bit Ubuntu 22.04.4 (ARM) | SKIPPED                      | PASS           | SKIPPED                   |
+-----------------------------+------------------------------+----------------+---------------------------+
| CentOS Stream 9 (ARM)       | SKIPPED                      | PASS           | SKIPPED                   |
+-----------------------------+------------------------------+----------------+---------------------------+
| CentOS Stream 10 (ARM)      | SKIPPED                      | PASS           | SKIPPED                   |
+-----------------------------+------------------------------+----------------+---------------------------+
| Debian 11 (Buster) (ARM)    | SKIPPED                      | PASS           | SKIPPED                   |
+-----------------------------+------------------------------+----------------+---------------------------+
| Fedora 40 (ARM)             | SKIPPED                      | PASS           | SKIPPED                   |
+-----------------------------+------------------------------+----------------+---------------------------+
| Fedora 41 (ARM)             | SKIPPED                      | PASS           | SKIPPED                   |
+-----------------------------+------------------------------+----------------+---------------------------+
| Fedora 40 (ARM Clang)       | SKIPPED                      | PASS           | SKIPPED                   |
+-----------------------------+------------------------------+----------------+---------------------------+
| RHEL9 (ARM)                 | SKIPPED                      | PASS           | SKIPPED                   |
+-----------------------------+------------------------------+----------------+---------------------------+
| Fedora 41 (ARM Clang)       | SKIPPED                      | PASS           | SKIPPED                   |
+-----------------------------+------------------------------+----------------+---------------------------+
| Ubuntu 20.04 (ARM)          | SKIPPED                      | PASS           | SKIPPED                   |
+-----------------------------+------------------------------+----------------+---------------------------+
| Ubuntu 22.04 (ARM)          | SKIPPED                      | PASS           | SKIPPED                   |
+-----------------------------+------------------------------+----------------+---------------------------+
| Ubuntu 24.04 (ARM)          | SKIPPED                      | PASS           | SKIPPED                   |
+-----------------------------+------------------------------+----------------+---------------------------+


Debian 12 (arm)
	Kernel: Depends on container host
	Compiler: gcc (Debian 12.2.0-14) 12.2.0

32-bit Ubuntu 22.04.4 (ARM)
	Kernel: 5.15.83+ aarch64
	Compiler: gcc (Ubuntu 11.4.0-1ubuntu1~22.04) 11.4.0

CentOS Stream 9 (ARM)
	Kernel: Depends on container host
	Compiler: gcc 11.5.0 20240719 (Red Hat 11.5.0-2)

CentOS Stream 10 (ARM)
	Kernel: Depends on container host
	Compiler: gcc 14.2.1 20241104 (Red Hat 14.2.1-6)

Debian 11 (Buster) (ARM)
	Kernel: Depends on container host
	Compiler: gcc (Debian 10.2.1-6) 10.2.1 20210110

Fedora 40 (ARM)
	Kernel: Depends on container host
	Compiler: gcc 14.2.1 20240912 (Red Hat 14.2.1-3)

Fedora 41 (ARM)
	Kernel: Depends on container host
	Compiler: gcc 14.2.1 20240912 (Red Hat 14.2.1-3)

Fedora 40 (ARM Clang)
	Kernel: Depends on container host
	Compiler: clang 18.1.8 (Fedora 18.1.8-1.fc40)

RHEL9 (ARM)
	Kernel: Depends on container host
	Compiler: gcc 11.5.0 20240719 (Red Hat 11.5.0-2)

Fedora 41 (ARM Clang)
	Kernel: Depends on container host
	Compiler: clang 19.1.5 (Fedora 19.1.5-1.fc41)

Ubuntu 20.04 (ARM)
	Kernel: Depends on container host
	Compiler: gcc (Ubuntu 9.4.0-1ubuntu1~20.04.2) 9.4.0

Ubuntu 22.04 (ARM)
	Kernel: Depends on container host
	Compiler: gcc (Ubuntu 11.4.0-1ubuntu1~22.04) 11.4.0

Ubuntu 24.04 (ARM)
	Kernel: Depends on container host
	Compiler: gcc (Ubuntu 13.3.0-6ubuntu2~24.04) 13.3.0

To view detailed results, visit:
https://lab.dpdk.org/results/dashboard/tarballs/32716/

UNH-IOL DPDK Community Lab

To manage your email subscriptions, visit: 
https://lab.dpdk.org/results/dashboard/preferences/subscriptions/

^ permalink raw reply	[flat|nested] 6+ messages in thread
* |SUCCESS| [GIT MASTER] a9257af8d8f4f2eb93780a48b53e9342f09ebe9a
@ 2025-02-25  9:03 dpdklab
  0 siblings, 0 replies; 6+ messages in thread
From: dpdklab @ 2025-02-25  9:03 UTC (permalink / raw)
  To: Test Report; +Cc: dpdk-test-reports, Stephen Hemminger

_Functional Testing PASS_

Branch: dpdk-next-net

a9257af8d8f4f2eb93780a48b53e9342f09ebe9a --> functional testing pass

Upstream job id: Template-DTS-Pipeline#214336

Test environment and result as below:

Ubuntu 20.04
Kernel: 5.4.0-122-generic
Compiler: gcc 9.4.0
NIC: Intel Corporation Ethernet Converged Network Adapter XL710-QDA2 40000 Mbps

Aggregate Results by Test Suite
+-----------------+--------+
|   Test Suite    | Result |
+=================+========+
| unit_tests_mbuf |  PASS  |
+-----------------+--------+


Ubuntu 22.04
Kernel: 5.15.0-131-generic
Compiler: gcc (Ubuntu 11.4.0-1ubuntu1~22.04) 11.4.0
NIC: Intel Corporation Ethernet Converged Network Adapter 82599ES 10000 Mbps

Aggregate Results by Test Suite
+-----------------------------+--------+
|         Test Suite          | Result |
+=============================+========+
| unit_tests_mbuf             |  PASS  |
+-----------------------------+--------+
| vhost_virtio_user_interrupt |  PASS  |
+-----------------------------+--------+
| virtio_smoke                |  PASS  |
+-----------------------------+--------+


Arm Ampere Altra - Ubuntu 22.04
Kernel: 5.15.83+
Compiler: gcc 11.4
NIC: Intel Corporation QAT 8970 0 Mbps

Aggregate Results by Test Suite
+----------------------------+--------+
|         Test Suite         | Result |
+============================+========+
| crypto_perf_cryptodev_perf |  PASS  |
+----------------------------+--------+


To view detailed results, visit:
https://lab.dpdk.org/results/dashboard/tarballs/32716/

UNH-IOL DPDK Community Lab

To manage your email subscriptions, visit: 
https://lab.dpdk.org/results/dashboard/preferences/subscriptions/

^ permalink raw reply	[flat|nested] 6+ messages in thread
* |SUCCESS| [GIT MASTER] a9257af8d8f4f2eb93780a48b53e9342f09ebe9a
@ 2025-02-25  8:57 dpdklab
  0 siblings, 0 replies; 6+ messages in thread
From: dpdklab @ 2025-02-25  8:57 UTC (permalink / raw)
  To: Test Report; +Cc: dpdk-test-reports, Stephen Hemminger

_Functional Testing PASS_

Branch: dpdk-next-net

a9257af8d8f4f2eb93780a48b53e9342f09ebe9a --> functional testing pass

Upstream job id: Template-DTS-Pipeline#214338

Test environment and result as below:

Ubuntu 20.04
Kernel: 5.4.0-122-generic
Compiler: gcc 9.4.0
NIC: Intel Corporation Ethernet Converged Network Adapter XL710-QDA2 40000 Mbps

Aggregate Results by Test Suite
+-----------------+--------+
|   Test Suite    | Result |
+=================+========+
| unit_tests_mbuf |  PASS  |
+-----------------+--------+


Arm Ampere Altra - Ubuntu 22.04
Kernel: 5.15.83+
Compiler: gcc 11.4
NIC: Intel Corporation QAT 8970 0 Mbps

Aggregate Results by Test Suite
+----------------------------+--------+
|         Test Suite         | Result |
+============================+========+
| crypto_perf_cryptodev_perf |  PASS  |
+----------------------------+--------+


To view detailed results, visit:
https://lab.dpdk.org/results/dashboard/tarballs/32716/

UNH-IOL DPDK Community Lab

To manage your email subscriptions, visit: 
https://lab.dpdk.org/results/dashboard/preferences/subscriptions/

^ permalink raw reply	[flat|nested] 6+ messages in thread
* |SUCCESS| [GIT MASTER] a9257af8d8f4f2eb93780a48b53e9342f09ebe9a
@ 2025-02-25  8:38 dpdklab
  0 siblings, 0 replies; 6+ messages in thread
From: dpdklab @ 2025-02-25  8:38 UTC (permalink / raw)
  To: Test Report; +Cc: dpdk-test-reports, Stephen Hemminger

_Performance Testing PASS_

Branch: dpdk-next-net

a9257af8d8f4f2eb93780a48b53e9342f09ebe9a --> performance testing pass

Upstream job id: Template-DTS-Pipeline#214332

Test environment and result as below:

Ubuntu 22.04 ARM
Kernel: 5.15.83+
Compiler: gcc 11.4.0
NIC: Arm Broadcom Inc. brcm_57414 25000 Mbps
Fail/Total: 0/2

Detail performance results: 
+------------+---------+----------+-------------+------------------------------+
| frame_size | txd/rxd | num_cpus | num_threads |  throughput difference from  |
|            |         |          |             |           expected           |
+============+=========+==========+=============+==============================+
| 64         | 512     | 1        | 1           | 0.0%                         |
+------------+---------+----------+-------------+------------------------------+
| 64         | 2048    | 1        | 1           | -0.1%                        |
+------------+---------+----------+-------------+------------------------------+

Ubuntu 22.04
Kernel: 5.15.0-100-generic
Compiler: gcc (Ubuntu 11.4.0-1ubuntu1~22.04) 11.4.0
NIC: Broadcom Inc. and subsidiaries BCM57414 NetXtreme-E 10Gb/25Gb RDMA Ethernet Controller 16d7 25 Mbps
Fail/Total: 0/3

Detail performance results: 
+------------+---------+----------+-------------+------------------------------+
| frame_size | txd/rxd | num_cpus | num_threads |  throughput difference from  |
|            |         |          |             |           expected           |
+============+=========+==========+=============+==============================+
| 64         | 128     | 1        | 1           | -0.1%                        |
+------------+---------+----------+-------------+------------------------------+
| 64         | 512     | 1        | 1           | -0.2%                        |
+------------+---------+----------+-------------+------------------------------+
| 64         | 2048    | 1        | 1           | 0.5%                         |
+------------+---------+----------+-------------+------------------------------+

To view detailed results, visit:
https://lab.dpdk.org/results/dashboard/tarballs/32716/

UNH-IOL DPDK Community Lab

To manage your email subscriptions, visit: 
https://lab.dpdk.org/results/dashboard/preferences/subscriptions/

^ permalink raw reply	[flat|nested] 6+ messages in thread

end of thread, other threads:[~2025-02-25 10:29 UTC | newest]

Thread overview: 6+ messages (download: mbox.gz / follow: Atom feed)
-- links below jump to the message on this page --
2025-02-25  9:16 |SUCCESS| [GIT MASTER] a9257af8d8f4f2eb93780a48b53e9342f09ebe9a dpdklab
  -- strict thread matches above, loose matches on Subject: below --
2025-02-25 10:29 dpdklab
2025-02-25 10:24 dpdklab
2025-02-25  9:03 dpdklab
2025-02-25  8:57 dpdklab
2025-02-25  8:38 dpdklab

This is a public inbox, see mirroring instructions
for how to clone and mirror all data and code used for this inbox;
as well as URLs for NNTP newsgroup(s).