From mboxrd@z Thu Jan 1 00:00:00 1970 Return-Path: Received: from mails.dpdk.org (mails.dpdk.org [217.70.189.124]) by inbox.dpdk.org (Postfix) with ESMTP id 8632F462B9 for ; Tue, 25 Feb 2025 10:19:03 +0100 (CET) Received: from mails.dpdk.org (localhost [127.0.0.1]) by mails.dpdk.org (Postfix) with ESMTP id 6D441427D0; Tue, 25 Feb 2025 10:19:03 +0100 (CET) Received: from mail-io1-f97.google.com (mail-io1-f97.google.com [209.85.166.97]) by mails.dpdk.org (Postfix) with ESMTP id D9D2D427B6 for ; Tue, 25 Feb 2025 10:19:02 +0100 (CET) Received: by mail-io1-f97.google.com with SMTP id ca18e2360f4ac-854a68f5afcso143229839f.0 for ; Tue, 25 Feb 2025 01:19:02 -0800 (PST) DKIM-Signature: v=1; a=rsa-sha256; c=relaxed/relaxed; d=iol.unh.edu; s=unh-iol; t=1740475142; x=1741079942; darn=dpdk.org; h=references:in-reply-to:cc:to:from:subject:message-id:date:from:to :cc:subject:date:message-id:reply-to; bh=pn/yr2VRXCVChh/QL1GGvGMpqrzgcnXrjVE23L3faDY=; b=DVQygLQMh8SX3IXCBRUlz5+x6xxJ4il5yWadx2NojQ1WEpi52Idg+gV1qeAvocJZGZ WkZsGIURBfTeH1rDTdjm+8p92p3pVnzXSrCD+HunAPqDoA2g7mKJZsPLNcAus1SlwIv8 vUMl58CoBgDF7UvMiLA8ntYGPy6A4PpgTOVUM= X-Google-DKIM-Signature: v=1; a=rsa-sha256; c=relaxed/relaxed; d=1e100.net; s=20230601; t=1740475142; x=1741079942; h=references:in-reply-to:cc:to:from:subject:message-id:date :x-gm-message-state:from:to:cc:subject:date:message-id:reply-to; bh=pn/yr2VRXCVChh/QL1GGvGMpqrzgcnXrjVE23L3faDY=; b=TcqjE+MiQDJ4UXuizk9QnTgE/eg0C2oS+xTLSScPqd2ZhH/bLKCafwR1nQPJZylVgN 7Mkel7Q3hH+CzP0HBTtOaYjwk8ntsSdZ9y+k5hsOw4qmgR8Q1ukDJjba8lAmbLv1tjDp bB95XxBZVJOya3AjZz6zHQPZIaH4vsYDleR1TXW0NWXs8NBgyadUj/1fFsrFzqomXcy/ rbEZevf8vsodI8Gw4a05EQFe+PKEiLrllTUebSR8d5Uxtg3NlJGMt3dJ61cS1Z/4ERxL nxG9asF6ZVVkr7VN6C1fNGDS92EFygrIuz2d3a5sq4cKUowTmyNNDt+PbnuBXtad2xEw mrTg== X-Gm-Message-State: AOJu0YwSaL6BkZeAIHXnTqQ3KtwNhDH0GFCaxzjRuXzvnRfNPGzANVFV MtvJdu87LT/rkUi4FHaATzDNlVVCmfTCLTAR2Qh51UiGreujU8XxcWol1yq/dEOtIFaQu6M/SSw zG2x0DsJ6Bvx/9QjjgJRfLYX2okHBW8I0zlGDtRL4 X-Gm-Gg: ASbGnctDP3/HKoZ6UdsQ/BGYY5BWvIo1Twbo8PIuaBvoLjaIVKH6mtztJX944/sgWWN 04AJhkiCtI8MEe3rx8M3ZJIPRefW/qSZ4bLETYVswCMPa1vuneX+HWnTOZ44iD7kCBVkpGJIvZK LwAYHlb/Zdgwt0AkkHR1G5ouDPsDt8BKSm+ZV0y4ZQcvsh6J00yf6Q4kGCQGVHgA+5HNXhdrqpg Gq0F8YCX0dgp1OiY+nUIPqbOVnCG2JBzuiMrDJyPlSl2xJxSfL7LVRyfPtyTvNuYfZqoP6UaqPo Brt6xzqKHCIg6eYcm93MZhWbRyulA1rVsenS7FsE X-Google-Smtp-Source: AGHT+IFCuL3nQxZzWUSkGuR710pBy5NNAJj2Q/QoTRzeI8vD4UBUv6nrSPvwuqzJmy+bD1grXUdmn8qibNZn X-Received: by 2002:a05:6602:6d19:b0:855:bc9d:82d2 with SMTP id ca18e2360f4ac-856203b2089mr298819539f.9.1740475141837; Tue, 25 Feb 2025 01:19:01 -0800 (PST) Received: from postal.iol.unh.edu (postal.iol.unh.edu. [132.177.123.84]) by smtp-relay.gmail.com with ESMTPS id 8926c6da1cb9f-4f04749afacsm69617173.31.2025.02.25.01.19.01 (version=TLS1_2 cipher=ECDHE-ECDSA-AES128-GCM-SHA256 bits=128/128); Tue, 25 Feb 2025 01:19:01 -0800 (PST) X-Relaying-Domain: iol.unh.edu Date: Tue, 25 Feb 2025 01:19:01 -0800 (PST) Message-ID: <67bd8b05.050a0220.370001.418dSMTPIN_ADDED_MISSING@mx.google.com> Received: from [172.21.0.9] (unknown [172.18.0.240]) by postal.iol.unh.edu (Postfix) with ESMTP id 431366052471; Tue, 25 Feb 2025 04:19:01 -0500 (EST) Subject: |SUCCESS| pw151986 [PATCH] net/nfp: fix get represetor wrong port st From: dpdklab@iol.unh.edu To: Test Report Cc: dpdk-test-reports@iol.unh.edu In-Reply-To: <20250225013454.442170-1-chaoyong.he@corigine.com> References: <20250225013454.442170-1-chaoyong.he@corigine.com> Content-Type: text/plain X-BeenThere: test-report@dpdk.org X-Mailman-Version: 2.1.29 Precedence: list List-Id: automatic DPDK test reports List-Unsubscribe: , List-Archive: List-Post: List-Help: List-Subscribe: , Errors-To: test-report-bounces@dpdk.org Test-Label: iol-unit-arm64-testing Test-Status: SUCCESS http://dpdk.org/patch/151986 _Testing PASS_ Submitter: Chaoyong He Date: Tuesday, February 25 2025 01:34:54 DPDK git baseline: Repo:dpdk Branch: master CommitID:a9257af8d8f4f2eb93780a48b53e9342f09ebe9a 151986 --> testing pass Upstream job id: Generic-Unit-Test-DPDK#318252 Test environment and result as below: +-----------------------------+----------------+--------------+---------------------------+------------------------------+ | Environment | dpdk_unit_test | lpm_autotest | cryptodev_sw_zuc_autotest | cryptodev_sw_snow3g_autotest | +=============================+================+==============+===========================+==============================+ | CentOS Stream 10 (ARM) | PASS | SKIPPED | SKIPPED | SKIPPED | +-----------------------------+----------------+--------------+---------------------------+------------------------------+ | 32-bit Ubuntu 22.04.4 (ARM) | PASS | SKIPPED | SKIPPED | SKIPPED | +-----------------------------+----------------+--------------+---------------------------+------------------------------+ | Debian 11 (Buster) (ARM) | PASS | SKIPPED | SKIPPED | SKIPPED | +-----------------------------+----------------+--------------+---------------------------+------------------------------+ | CentOS Stream 9 (ARM) | PASS | SKIPPED | SKIPPED | SKIPPED | +-----------------------------+----------------+--------------+---------------------------+------------------------------+ | Fedora 41 (ARM Clang) | PASS | SKIPPED | SKIPPED | SKIPPED | +-----------------------------+----------------+--------------+---------------------------+------------------------------+ | Fedora 41 (ARM) | PASS | SKIPPED | SKIPPED | SKIPPED | +-----------------------------+----------------+--------------+---------------------------+------------------------------+ | Fedora 40 (ARM) | PASS | SKIPPED | SKIPPED | SKIPPED | +-----------------------------+----------------+--------------+---------------------------+------------------------------+ | Fedora 40 (ARM Clang) | PASS | SKIPPED | SKIPPED | SKIPPED | +-----------------------------+----------------+--------------+---------------------------+------------------------------+ | Debian 12 (arm) | PASS | SKIPPED | PASS | PASS | +-----------------------------+----------------+--------------+---------------------------+------------------------------+ | RHEL9 (ARM) | PASS | SKIPPED | SKIPPED | SKIPPED | +-----------------------------+----------------+--------------+---------------------------+------------------------------+ | Ubuntu 20.04 (ARM) | PASS | SKIPPED | SKIPPED | SKIPPED | +-----------------------------+----------------+--------------+---------------------------+------------------------------+ | Ubuntu 22.04 (ARM) | PASS | SKIPPED | SKIPPED | SKIPPED | +-----------------------------+----------------+--------------+---------------------------+------------------------------+ | Ubuntu 24.04 (ARM) | PASS | SKIPPED | SKIPPED | SKIPPED | +-----------------------------+----------------+--------------+---------------------------+------------------------------+ | Ubuntu 20.04 ARM SVE | SKIPPED | PASS | SKIPPED | SKIPPED | +-----------------------------+----------------+--------------+---------------------------+------------------------------+ CentOS Stream 10 (ARM) Kernel: Depends on container host Compiler: gcc 14.2.1 20241104 (Red Hat 14.2.1-6) 32-bit Ubuntu 22.04.4 (ARM) Kernel: 5.15.83+ aarch64 Compiler: gcc (Ubuntu 11.4.0-1ubuntu1~22.04) 11.4.0 Debian 11 (Buster) (ARM) Kernel: Depends on container host Compiler: gcc (Debian 10.2.1-6) 10.2.1 20210110 CentOS Stream 9 (ARM) Kernel: Depends on container host Compiler: gcc 11.5.0 20240719 (Red Hat 11.5.0-2) Fedora 41 (ARM Clang) Kernel: Depends on container host Compiler: clang 19.1.5 (Fedora 19.1.5-1.fc41) Fedora 41 (ARM) Kernel: Depends on container host Compiler: gcc 14.2.1 20240912 (Red Hat 14.2.1-3) Fedora 40 (ARM) Kernel: Depends on container host Compiler: gcc 14.2.1 20240912 (Red Hat 14.2.1-3) Fedora 40 (ARM Clang) Kernel: Depends on container host Compiler: clang 18.1.8 (Fedora 18.1.8-1.fc40) Debian 12 (arm) Kernel: Depends on container host Compiler: gcc (Debian 12.2.0-14) 12.2.0 RHEL9 (ARM) Kernel: Depends on container host Compiler: gcc 11.5.0 20240719 (Red Hat 11.5.0-2) Ubuntu 20.04 (ARM) Kernel: Depends on container host Compiler: gcc (Ubuntu 9.4.0-1ubuntu1~20.04.2) 9.4.0 Ubuntu 22.04 (ARM) Kernel: Depends on container host Compiler: gcc (Ubuntu 11.4.0-1ubuntu1~22.04) 11.4.0 Ubuntu 24.04 (ARM) Kernel: Depends on container host Compiler: gcc (Ubuntu 13.3.0-6ubuntu2~24.04) 13.3.0 Ubuntu 20.04 ARM SVE Kernel: Depends on container host Compiler: gcc (Ubuntu 10.5.0-1ubuntu1~20.04) 10.5.0 To view detailed results, visit: https://lab.dpdk.org/results/dashboard/patchsets/32673/ UNH-IOL DPDK Community Lab To manage your email subscriptions, visit: https://lab.dpdk.org/results/dashboard/preferences/subscriptions/