From mboxrd@z Thu Jan 1 00:00:00 1970 Return-Path: Received: from mails.dpdk.org (mails.dpdk.org [217.70.189.124]) by inbox.dpdk.org (Postfix) with ESMTP id B4E1F462B9 for ; Tue, 25 Feb 2025 10:19:17 +0100 (CET) Received: from mails.dpdk.org (localhost [127.0.0.1]) by mails.dpdk.org (Postfix) with ESMTP id 9DD84427B6; Tue, 25 Feb 2025 10:19:17 +0100 (CET) Received: from mail-il1-f227.google.com (mail-il1-f227.google.com [209.85.166.227]) by mails.dpdk.org (Postfix) with ESMTP id ABFFA427B6 for ; Tue, 25 Feb 2025 10:19:16 +0100 (CET) Received: by mail-il1-f227.google.com with SMTP id e9e14a558f8ab-3d03ac846a7so17818595ab.2 for ; Tue, 25 Feb 2025 01:19:16 -0800 (PST) DKIM-Signature: v=1; a=rsa-sha256; c=relaxed/relaxed; d=iol.unh.edu; s=unh-iol; t=1740475156; x=1741079956; darn=dpdk.org; h=references:in-reply-to:cc:to:from:subject:message-id:date:from:to :cc:subject:date:message-id:reply-to; bh=SF5i6lke+hqnqOf8BRCREiyoWJLnyZFhqleHzukWm+c=; b=SYEYq73hjrDpJonROziidHR9S1zvK1IlE/MUrzbfZazODEHY+66Drro4rENWS0djrp ZWVwng/IjhB8Vjg2i/I0CJv2IZ8XCoOrGc6tSokX/FlwwXAa8CP38VzK2qx5vqSCxFIh ujMiHyv8UjtUhJI6Ug6ixSBLrfwg1TrX3ssYM= X-Google-DKIM-Signature: v=1; a=rsa-sha256; c=relaxed/relaxed; d=1e100.net; s=20230601; t=1740475156; x=1741079956; h=references:in-reply-to:cc:to:from:subject:message-id:date :x-gm-message-state:from:to:cc:subject:date:message-id:reply-to; bh=SF5i6lke+hqnqOf8BRCREiyoWJLnyZFhqleHzukWm+c=; b=V3XVlp1E3lPRwl0ewuqC8YCdMhwPx9XXPG0NVMqLm40daa/EWP6WZRRHK4eKc2gNo8 64bt1iB1Zzh3/sjv4o9BXH3lQdDUHCwk8QU9ok8hXBv0oaPwuvD/AI8IBzFiaGeKeLsq kdUfqr3+y01tuL1f4KvAvgGh5CNRuSCVZw9vkYOBpSPMY9WmBaJlC/SIJIDaLJHRCKui tI9CXtff5G4lE6TssI9WtIoi26b3JwSjOzI+xFWlWPb91tjitnN+0mvmr+yOY85+4/ME InIcGsJ75lEYfCMWwkO5NsEFP6N1gD2T8KTZb63QD/9af+TKGVWN5aWqGqHleUQC7Xwy elbQ== X-Gm-Message-State: AOJu0Yx1FTNAoCeYAFo34TL7lT6zI7w7m3SY8I2N3uk8AAVDgk/rcFF7 GpByn9MfUcHrr+uD3Tdo9FF5PY2cYAw6lTzXInRe53PORX1DLkacNPnY0o3hPn9G2MvHAxCp7wM xS0gwOMWxSLK4OeQGgEJEsNWVDrbhHTnhaSXAcl++7pkiKMg8CDn7/NOI X-Gm-Gg: ASbGncsf4bxcTbfnj4BMWJz0Ja7pumL6WK3Rya/f9HGn9UZChgSjbwty0knoXUYqaZz JUdP3gwOJILycPdHHivlecqIz3JzbS5FV8nIl2fcRXOMUoxOJb08zWCW2sX8FB2VdP9SyWLkppx 0RlFHc3UmsSnJOXf+6LqpcnghrAAjjNRJOybC9G/0wOVNZSphfFvo189BBiJIscG8U5HiKRTGz+ fJ8KuGPp8jLHLjE6k+dHc8g2ret780Bkek1IyW0MiiGFhxm9zyvICVOEwGVgiZ5zwSo7XH2fvPi +/shBeYlQ4pEx8OpOwQYqllhaVlDO4yWoiYqxXQr/7mEu3rgNGbP X-Google-Smtp-Source: AGHT+IEelextjeBIF/AXf2dTBwRLXS2/y+QtkJ+258SCqSqdDm54THes9Zh+iWXkjubZ9nfSkz6QqUuvFZyk X-Received: by 2002:a05:6e02:1cac:b0:3d0:4b3d:75ba with SMTP id e9e14a558f8ab-3d2cb42daddmr166930325ab.4.1740475155957; Tue, 25 Feb 2025 01:19:15 -0800 (PST) Received: from postal.iol.unh.edu (postal.iol.unh.edu. [2606:4100:3880:1234::84]) by smtp-relay.gmail.com with ESMTPS id e9e14a558f8ab-3d361cad00asm644105ab.54.2025.02.25.01.19.15 (version=TLS1_2 cipher=ECDHE-ECDSA-AES128-GCM-SHA256 bits=128/128); Tue, 25 Feb 2025 01:19:15 -0800 (PST) X-Relaying-Domain: iol.unh.edu Date: Tue, 25 Feb 2025 01:19:15 -0800 (PST) Message-ID: <67bd8b13.050a0220.1d768.3ce2SMTPIN_ADDED_MISSING@mx.google.com> Received: from [172.21.0.8] (unknown [172.18.0.240]) by postal.iol.unh.edu (Postfix) with ESMTP id 60ABA6052471; Tue, 25 Feb 2025 04:19:15 -0500 (EST) Subject: |SUCCESS| pw151986 [PATCH] net/nfp: fix get represetor wrong port st From: dpdklab@iol.unh.edu To: Test Report Cc: dpdk-test-reports@iol.unh.edu In-Reply-To: <20250225013454.442170-1-chaoyong.he@corigine.com> References: <20250225013454.442170-1-chaoyong.he@corigine.com> Content-Type: text/plain X-BeenThere: test-report@dpdk.org X-Mailman-Version: 2.1.29 Precedence: list List-Id: automatic DPDK test reports List-Unsubscribe: , List-Archive: List-Post: List-Help: List-Subscribe: , Errors-To: test-report-bounces@dpdk.org Test-Label: iol-unit-arm64-testing Test-Status: SUCCESS http://dpdk.org/patch/151986 _Testing PASS_ Submitter: Chaoyong He Date: Tuesday, February 25 2025 01:34:54 DPDK git baseline: Repo:dpdk Branch: master CommitID:a9257af8d8f4f2eb93780a48b53e9342f09ebe9a 151986 --> testing pass Upstream job id: Generic-Unit-Test-DPDK#318248 Test environment and result as below: +-----------------------------+----------------+--------------+---------------------------+------------------------------+ | Environment | dpdk_unit_test | lpm_autotest | cryptodev_sw_zuc_autotest | cryptodev_sw_snow3g_autotest | +=============================+================+==============+===========================+==============================+ | CentOS Stream 10 (ARM) | PASS | SKIPPED | SKIPPED | SKIPPED | +-----------------------------+----------------+--------------+---------------------------+------------------------------+ | 32-bit Ubuntu 22.04.4 (ARM) | PASS | SKIPPED | SKIPPED | SKIPPED | +-----------------------------+----------------+--------------+---------------------------+------------------------------+ | Debian 11 (Buster) (ARM) | PASS | SKIPPED | SKIPPED | SKIPPED | +-----------------------------+----------------+--------------+---------------------------+------------------------------+ | CentOS Stream 9 (ARM) | PASS | SKIPPED | SKIPPED | SKIPPED | +-----------------------------+----------------+--------------+---------------------------+------------------------------+ | Fedora 41 (ARM Clang) | PASS | SKIPPED | SKIPPED | SKIPPED | +-----------------------------+----------------+--------------+---------------------------+------------------------------+ | Fedora 41 (ARM) | PASS | SKIPPED | SKIPPED | SKIPPED | +-----------------------------+----------------+--------------+---------------------------+------------------------------+ | Fedora 40 (ARM) | PASS | SKIPPED | SKIPPED | SKIPPED | +-----------------------------+----------------+--------------+---------------------------+------------------------------+ | Fedora 40 (ARM Clang) | PASS | SKIPPED | SKIPPED | SKIPPED | +-----------------------------+----------------+--------------+---------------------------+------------------------------+ | Debian 12 (arm) | PASS | SKIPPED | PASS | PASS | +-----------------------------+----------------+--------------+---------------------------+------------------------------+ | RHEL9 (ARM) | PASS | SKIPPED | SKIPPED | SKIPPED | +-----------------------------+----------------+--------------+---------------------------+------------------------------+ | Ubuntu 20.04 (ARM) | PASS | SKIPPED | SKIPPED | SKIPPED | +-----------------------------+----------------+--------------+---------------------------+------------------------------+ | Ubuntu 22.04 (ARM) | PASS | SKIPPED | SKIPPED | SKIPPED | +-----------------------------+----------------+--------------+---------------------------+------------------------------+ | Ubuntu 24.04 (ARM) | PASS | SKIPPED | SKIPPED | SKIPPED | +-----------------------------+----------------+--------------+---------------------------+------------------------------+ | Ubuntu 20.04 ARM SVE | SKIPPED | PASS | SKIPPED | SKIPPED | +-----------------------------+----------------+--------------+---------------------------+------------------------------+ CentOS Stream 10 (ARM) Kernel: Depends on container host Compiler: gcc 14.2.1 20241104 (Red Hat 14.2.1-6) 32-bit Ubuntu 22.04.4 (ARM) Kernel: 5.15.83+ aarch64 Compiler: gcc (Ubuntu 11.4.0-1ubuntu1~22.04) 11.4.0 Debian 11 (Buster) (ARM) Kernel: Depends on container host Compiler: gcc (Debian 10.2.1-6) 10.2.1 20210110 CentOS Stream 9 (ARM) Kernel: Depends on container host Compiler: gcc 11.5.0 20240719 (Red Hat 11.5.0-2) Fedora 41 (ARM Clang) Kernel: Depends on container host Compiler: clang 19.1.5 (Fedora 19.1.5-1.fc41) Fedora 41 (ARM) Kernel: Depends on container host Compiler: gcc 14.2.1 20240912 (Red Hat 14.2.1-3) Fedora 40 (ARM) Kernel: Depends on container host Compiler: gcc 14.2.1 20240912 (Red Hat 14.2.1-3) Fedora 40 (ARM Clang) Kernel: Depends on container host Compiler: clang 18.1.8 (Fedora 18.1.8-1.fc40) Debian 12 (arm) Kernel: Depends on container host Compiler: gcc (Debian 12.2.0-14) 12.2.0 RHEL9 (ARM) Kernel: Depends on container host Compiler: gcc 11.5.0 20240719 (Red Hat 11.5.0-2) Ubuntu 20.04 (ARM) Kernel: Depends on container host Compiler: gcc (Ubuntu 9.4.0-1ubuntu1~20.04.2) 9.4.0 Ubuntu 22.04 (ARM) Kernel: Depends on container host Compiler: gcc (Ubuntu 11.4.0-1ubuntu1~22.04) 11.4.0 Ubuntu 24.04 (ARM) Kernel: Depends on container host Compiler: gcc (Ubuntu 13.3.0-6ubuntu2~24.04) 13.3.0 Ubuntu 20.04 ARM SVE Kernel: Depends on container host Compiler: gcc (Ubuntu 10.5.0-1ubuntu1~20.04) 10.5.0 To view detailed results, visit: https://lab.dpdk.org/results/dashboard/patchsets/32673/ UNH-IOL DPDK Community Lab To manage your email subscriptions, visit: https://lab.dpdk.org/results/dashboard/preferences/subscriptions/