From mboxrd@z Thu Jan 1 00:00:00 1970 Return-Path: Received: from mails.dpdk.org (mails.dpdk.org [217.70.189.124]) by inbox.dpdk.org (Postfix) with ESMTP id 0DB61462B9 for ; Tue, 25 Feb 2025 10:20:34 +0100 (CET) Received: from mails.dpdk.org (localhost [127.0.0.1]) by mails.dpdk.org (Postfix) with ESMTP id 095E842D97; Tue, 25 Feb 2025 10:20:34 +0100 (CET) Received: from mail-ot1-f100.google.com (mail-ot1-f100.google.com [209.85.210.100]) by mails.dpdk.org (Postfix) with ESMTP id 860E3427C5 for ; Tue, 25 Feb 2025 10:20:28 +0100 (CET) Received: by mail-ot1-f100.google.com with SMTP id 46e09a7af769-7272c68780aso2461564a34.3 for ; Tue, 25 Feb 2025 01:20:28 -0800 (PST) DKIM-Signature: v=1; a=rsa-sha256; c=relaxed/relaxed; d=iol.unh.edu; s=unh-iol; t=1740475227; x=1741080027; darn=dpdk.org; h=references:in-reply-to:cc:to:from:subject:message-id:date:from:to :cc:subject:date:message-id:reply-to; bh=pvbwYk0qjGzJHR6qj0NlduJu7rpB2p2DuLrmDeNf4/E=; b=ZmDp7nBH0wm3SBuL93KQVgpAafTZbueNLlQh2lIU7eXznL5PkvvNVhSh6zHLR8XKJ0 gXgnV5Ooi+tTn6eqfD0kNbnldXahJ9cC23qnVZmNwCzNmIuO+2zI6sLyBJRjo9O5EZDQ k/wC5wxoSxoi7Vxj6XuSSFAa9COYNF+3QOImA= X-Google-DKIM-Signature: v=1; a=rsa-sha256; c=relaxed/relaxed; d=1e100.net; s=20230601; t=1740475227; x=1741080027; h=references:in-reply-to:cc:to:from:subject:message-id:date :x-gm-message-state:from:to:cc:subject:date:message-id:reply-to; bh=pvbwYk0qjGzJHR6qj0NlduJu7rpB2p2DuLrmDeNf4/E=; b=ms23egdDL3FclaZwINWL8AE6EemwtAd86g8k6/I+cG77Z4dXK2NXyIyl0yRJpYV79n eEgU3PVI8tyCguwju0prKvmWJ07Kv3KScpAFZYYgTZqpJi7paQnvruIBcC2HDY4066Ma sMbifcw+wo3GqotmbdVGridFZAXTKiPQc+InM8HXlS5iW5tTNCJTZ8Ihoc/YdWK73YSI a/KiDVGHRkXTiSdF8baIy982zZGUnSKPgQvfXB6NQel4OpQDdNsqUDdIuawRYQD6/lac pT7Jmws+d72bShw9EBTetDbM6XVHo9gVo7rfWmZnO53pL3G6WSCNy0dEl/dVlUIzoo2T 09xg== X-Gm-Message-State: AOJu0Yz9oPiFk+Lf1TBAZi7oyXR7NvxgvbhZASV4fA2ohzVnkT2ATCT3 jUcQwNAw7GzyrqNnLLvxUSOI2bIWwYJGse0mfwFnmHADtJSvTl7F52fapRgO5jp43IRzGLUpZoj kO+N/AwwqaRqhOg4EVbPBYsODsL8sLGpCMVUERvEN X-Gm-Gg: ASbGncuA59kJu4lcVQmg3c4pJyzVWR4DPj74dzEqO4A58fwVv+TM5EJb+llmEV7f6cx /y1w2g1FxEKOldqt0w0Ve6v7iVCUV0yfM+K/fEuOAyraepqp9mwYSTGbd9gkrFCapp2z8xddL3w 39zGTHMUQAuaNwrRyC4SQmvSJa0SIMnRJJlYte1Fks7iW8FksUgSUtKFONFFCAk6EbL2U+toS04 PhSrWLBqYXPbGvn6OnaXCd8Ie+20pRI/KgRI2C2HDkgUDCcOmXRKQnsU0PVy5f38qajadWVEs7J vTaBKPkXCjDKq48ENAqPej57qMqJZ0QZxs/E3dBt X-Google-Smtp-Source: AGHT+IF7JJOpFsBvLxWX9pcp7JJTynHZTlvrIkTW/miciodtAAaA0CqB5xSK556M0iY8Zjv1RNxPBrRHoqvV X-Received: by 2002:a05:6830:2108:b0:727:3da4:4652 with SMTP id 46e09a7af769-7274c183f98mr11886782a34.6.1740475227670; Tue, 25 Feb 2025 01:20:27 -0800 (PST) Received: from postal.iol.unh.edu (postal.iol.unh.edu. [132.177.123.84]) by smtp-relay.gmail.com with ESMTPS id 586e51a60fabf-2c1111a590csm54377fac.1.2025.02.25.01.20.27 (version=TLS1_2 cipher=ECDHE-ECDSA-AES128-GCM-SHA256 bits=128/128); Tue, 25 Feb 2025 01:20:27 -0800 (PST) X-Relaying-Domain: iol.unh.edu Date: Tue, 25 Feb 2025 01:20:27 -0800 (PST) Message-ID: <67bd8b5b.050a0220.85797.31dcSMTPIN_ADDED_MISSING@mx.google.com> Received: from [172.17.0.2] (unknown [172.18.0.215]) by postal.iol.unh.edu (Postfix) with ESMTP id ED2476052471; Tue, 25 Feb 2025 04:20:26 -0500 (EST) Subject: |SUCCESS| pw151986 [PATCH] net/nfp: fix get represetor wrong port st From: dpdklab@iol.unh.edu To: Test Report Cc: dpdk-test-reports@iol.unh.edu In-Reply-To: <20250225013454.442170-1-chaoyong.he@corigine.com> References: <20250225013454.442170-1-chaoyong.he@corigine.com> Content-Type: text/plain X-BeenThere: test-report@dpdk.org X-Mailman-Version: 2.1.29 Precedence: list List-Id: automatic DPDK test reports List-Unsubscribe: , List-Archive: List-Post: List-Help: List-Subscribe: , Errors-To: test-report-bounces@dpdk.org Test-Label: iol-unit-amd64-testing Test-Status: SUCCESS http://dpdk.org/patch/151986 _Testing PASS_ Submitter: Chaoyong He Date: Tuesday, February 25 2025 01:34:54 DPDK git baseline: Repo:dpdk Branch: master CommitID:a9257af8d8f4f2eb93780a48b53e9342f09ebe9a 151986 --> testing pass Upstream job id: Generic-Unit-Test-DPDK#318240 Test environment and result as below: +-------------------+----------------+ | Environment | dpdk_unit_test | +===================+================+ | Debian Bullseye | PASS | +-------------------+----------------+ | CentOS Stream 9 | PASS | +-------------------+----------------+ | Debian 12 | PASS | +-------------------+----------------+ | CentOS Stream 10 | PASS | +-------------------+----------------+ | Fedora 41 | PASS | +-------------------+----------------+ | Fedora 41 (Clang) | PASS | +-------------------+----------------+ | Fedora 40 | PASS | +-------------------+----------------+ | Fedora 40 (Clang) | PASS | +-------------------+----------------+ | Ubuntu 20.04 | PASS | +-------------------+----------------+ | RHEL8 | PASS | +-------------------+----------------+ | RHEL9 | PASS | +-------------------+----------------+ | Ubuntu 22.04 | PASS | +-------------------+----------------+ | Ubuntu 24.04 | PASS | +-------------------+----------------+ Debian Bullseye Kernel: Depends on container host Compiler: gcc (Debian 10.2.1-6) 10.2.1 20210110 CentOS Stream 9 Kernel: Depends on container host Compiler: gcc 11.5.0 20240719 (Red Hat 11.5.0-2) Debian 12 Kernel: Depends on container host Compiler: gcc (Debian 12.2.0-14) 12.2.0 CentOS Stream 10 Kernel: Depends on container host Compiler: gcc 14.2.1 20241104 (Red Hat 14.2.1-6) Fedora 41 Kernel: Depends on container host Compiler: gcc 14.2.1 20240912 (Red Hat 14.2.1-3) Fedora 41 (Clang) Kernel: Depends on container host Compiler: clang 19.1.5 (Fedora 19.1.5-1.fc41) Fedora 40 Kernel: Depends on container host Compiler: gcc 14.2.1 20240912 (Red Hat 14.2.1-3) Fedora 40 (Clang) Kernel: Depends on container host Compiler: clang 18.1.8 (Fedora 18.1.8-1.fc40) Ubuntu 20.04 Kernel: Depends on container host Compiler: gcc (Ubuntu 9.4.0-1ubuntu1~20.04.2) 9.4.0 RHEL8 Kernel: Depends on container host Compiler: gcc 8.5.0 20210514 (Red Hat 8.5.0-22) RHEL9 Kernel: Depends on container host Compiler: gcc 11.5.0 20240719 (Red Hat 11.5.0-2) Ubuntu 22.04 Kernel: Depends on container host Compiler: gcc (Ubuntu 11.4.0-1ubuntu1~22.04) 11.4.0 Ubuntu 24.04 Kernel: Depends on container host Compiler: gcc (Ubuntu 13.3.0-6ubuntu2~24.04) 13.3.0 To view detailed results, visit: https://lab.dpdk.org/results/dashboard/patchsets/32673/ UNH-IOL DPDK Community Lab To manage your email subscriptions, visit: https://lab.dpdk.org/results/dashboard/preferences/subscriptions/