From mboxrd@z Thu Jan 1 00:00:00 1970 Return-Path: Received: from mails.dpdk.org (mails.dpdk.org [217.70.189.124]) by inbox.dpdk.org (Postfix) with ESMTP id 26B48462B9 for ; Tue, 25 Feb 2025 11:04:45 +0100 (CET) Received: from mails.dpdk.org (localhost [127.0.0.1]) by mails.dpdk.org (Postfix) with ESMTP id 2255042D7A; Tue, 25 Feb 2025 11:04:45 +0100 (CET) Received: from mail-qv1-f98.google.com (mail-qv1-f98.google.com [209.85.219.98]) by mails.dpdk.org (Postfix) with ESMTP id C04E0427C5 for ; Tue, 25 Feb 2025 11:04:43 +0100 (CET) Received: by mail-qv1-f98.google.com with SMTP id 6a1803df08f44-6e67bc04a3bso59268246d6.3 for ; Tue, 25 Feb 2025 02:04:43 -0800 (PST) DKIM-Signature: v=1; a=rsa-sha256; c=relaxed/relaxed; d=iol.unh.edu; s=unh-iol; t=1740477883; x=1741082683; darn=dpdk.org; h=references:in-reply-to:cc:to:from:subject:message-id:date:from:to :cc:subject:date:message-id:reply-to; bh=oSfPsR/TApyLkAn+tUuOnSvdUeOPXfFAWBqw2EzyAAo=; b=NA01e8b3xmWeCGSx2as68faNvjBDcY6xSv3db4LjQuBx4JdMhuLFHKTKmo4ZK3OCqW e6wcrhMi9d+R9Q6crNclsJkYSPFEijqbEspGL7y6DhFY+vxg+0UgH+U1K1sK5LKlzN5T rc0a+N8CMbYLgPYef/6AaH4MhiWO5hg7GmZDw= X-Google-DKIM-Signature: v=1; a=rsa-sha256; c=relaxed/relaxed; d=1e100.net; s=20230601; t=1740477883; x=1741082683; h=references:in-reply-to:cc:to:from:subject:message-id:date :x-gm-message-state:from:to:cc:subject:date:message-id:reply-to; bh=oSfPsR/TApyLkAn+tUuOnSvdUeOPXfFAWBqw2EzyAAo=; b=w6fNY4Bo1dhpyCwtBPv/BVrNofNNEgdoZOwDbQ4AUeqZ/LtmW9zlnj+2/lJXWibo2L boLcbNFdKm/HgO77ujznINzaRw/8zdGBTbNmIyH3cl1f6vv2nGOQouTrZ057TwmUyrny JVIGj3J1k0biinF9SgOH17JDHXUvAKeN+rsGcb/LHJbfjqxhXIjiDVTyT5bFktPGLhxy dsw9L1hjSPGPs84Bstk90OeRR7ybvTyDxowzUVVsXPApLonbWEkGs5EXoptw7U5vDXU1 lkHgzOzhzNsC/vO+1by0ACGrp9ZjG8NhwMO3EOfALMtO/bWp39Qu81z7aOowrDhfNFiv iHcg== X-Gm-Message-State: AOJu0Yyr55m2e5IvlnG53sOu1P4ExhyvyNbnx58TJKM+hc4PuM8wSIBt rUcHNnzMjTaj5jazlPU5acU5dqZ20hPRPCR2ukcP7dmf6hCgivwCHKKyEyUFHA1N/5PtO1y+fJh HJcDKFl4jZYxGqmFBx8OVafLURlzESf4zNbH41F3oc8wUYVcC+06B1Lzy X-Gm-Gg: ASbGncslRKoz4Prww+W4Q3YUlw9dP8ysvFlZHyWdK6m5Wg4Li8HUEkMn0/Wfi0yKH8I gkzK/vIjbSociLm7encOwpaWU9aDfIZfUnehUqRG6te64pi1oRGTpLI22BUESIyNQf9SnK1/SYh ZzO/YPNZ6OJ/8RSpEKf0usz5sS5XbxHHi2knyxQnJBr+ZdYRSUHTBRem1hW3EXXF+JeSezvIx9K j9s5dYItOEvFnVqjAXNzwR+k81ntUhe5CfbelOPHvGt7+VtnxqWU39hlCIN1IUqLL9q5QF0Z67i iXrmsjv3SywHiPzrMvSvymwYoFxEr4HJzYtV1G8mi4JjVVrsbNAa X-Google-Smtp-Source: AGHT+IHrSNJ/iefi9XPFbw1K+cN3JEYqskoR9ZRT049aeREZ760W5eXW/+oQ0yXW5aKzMxI/AZTy28Qkb9+y X-Received: by 2002:a05:6214:2264:b0:6e4:42c2:dd91 with SMTP id 6a1803df08f44-6e87abafb11mr32808056d6.37.1740477883115; Tue, 25 Feb 2025 02:04:43 -0800 (PST) Received: from postal.iol.unh.edu (postal.iol.unh.edu. [2606:4100:3880:1234::84]) by smtp-relay.gmail.com with ESMTPS id 6a1803df08f44-6e87b059842sm635376d6.42.2025.02.25.02.04.43 (version=TLS1_2 cipher=ECDHE-ECDSA-AES128-GCM-SHA256 bits=128/128); Tue, 25 Feb 2025 02:04:43 -0800 (PST) X-Relaying-Domain: iol.unh.edu Date: Tue, 25 Feb 2025 02:04:43 -0800 (PST) Message-ID: <67bd95bb.050a0220.11e4d4.3e03SMTPIN_ADDED_MISSING@mx.google.com> Received: from [172.21.0.7] (unknown [172.18.0.240]) by postal.iol.unh.edu (Postfix) with ESMTP id 3D6776052471; Tue, 25 Feb 2025 05:04:42 -0500 (EST) Subject: |SUCCESS| pw151987-151988 [PATCH] [2/2] net/xsc: suppress assign the From: dpdklab@iol.unh.edu To: Test Report Cc: dpdk-test-reports@iol.unh.edu In-Reply-To: <20250225024813.2489747-3-wanry@yunsilicon.com> References: <20250225024813.2489747-3-wanry@yunsilicon.com> Content-Type: text/plain X-BeenThere: test-report@dpdk.org X-Mailman-Version: 2.1.29 Precedence: list List-Id: automatic DPDK test reports List-Unsubscribe: , List-Archive: List-Post: List-Help: List-Subscribe: , Errors-To: test-report-bounces@dpdk.org Test-Label: iol-compile-amd64-testing Test-Status: SUCCESS http://dpdk.org/patch/151988 _Testing PASS_ Submitter: Renyong Wan Date: Tuesday, February 25 2025 02:48:15 DPDK git baseline: Repo:dpdk Branch: master CommitID:a9257af8d8f4f2eb93780a48b53e9342f09ebe9a 151987-151988 --> testing pass Upstream job id: Windows-Compile-DPDK-Native#26894 Test environment and result as below: +---------------------+--------------------+-------------------+------------------+-------------------+----------------------+ | Environment | dpdk_meson_compile | dpdk_compile_spdk | dpdk_compile_ovs | dpdk_msvc_compile | dpdk_mingw64_compile | +=====================+====================+===================+==================+===================+======================+ | CentOS Stream 9 | PASS | PASS | SKIPPED | SKIPPED | SKIPPED | +---------------------+--------------------+-------------------+------------------+-------------------+----------------------+ | CentOS Stream 10 | PASS | SKIPPED | SKIPPED | SKIPPED | SKIPPED | +---------------------+--------------------+-------------------+------------------+-------------------+----------------------+ | Debian Bullseye | PASS | PASS | SKIPPED | SKIPPED | SKIPPED | +---------------------+--------------------+-------------------+------------------+-------------------+----------------------+ | Fedora 41 | PASS | PASS | PASS | SKIPPED | SKIPPED | +---------------------+--------------------+-------------------+------------------+-------------------+----------------------+ | Fedora 41 (Clang) | PASS | PASS | PASS | SKIPPED | SKIPPED | +---------------------+--------------------+-------------------+------------------+-------------------+----------------------+ | Debian 12 | PASS | PASS | SKIPPED | SKIPPED | SKIPPED | +---------------------+--------------------+-------------------+------------------+-------------------+----------------------+ | Fedora 40 (Clang) | PASS | PASS | SKIPPED | SKIPPED | SKIPPED | +---------------------+--------------------+-------------------+------------------+-------------------+----------------------+ | Fedora 40 | PASS | PASS | SKIPPED | SKIPPED | SKIPPED | +---------------------+--------------------+-------------------+------------------+-------------------+----------------------+ | Ubuntu 20.04 | PASS | SKIPPED | SKIPPED | SKIPPED | SKIPPED | +---------------------+--------------------+-------------------+------------------+-------------------+----------------------+ | openSUSE Leap 15 | PASS | SKIPPED | SKIPPED | SKIPPED | SKIPPED | +---------------------+--------------------+-------------------+------------------+-------------------+----------------------+ | RHEL9 | PASS | SKIPPED | SKIPPED | SKIPPED | SKIPPED | +---------------------+--------------------+-------------------+------------------+-------------------+----------------------+ | RHEL8 | PASS | SKIPPED | SKIPPED | SKIPPED | SKIPPED | +---------------------+--------------------+-------------------+------------------+-------------------+----------------------+ | Ubuntu 24.04 | PASS | PASS | PASS | SKIPPED | SKIPPED | +---------------------+--------------------+-------------------+------------------+-------------------+----------------------+ | Alpine | PASS | SKIPPED | SKIPPED | SKIPPED | SKIPPED | +---------------------+--------------------+-------------------+------------------+-------------------+----------------------+ | FreeBSD 13.4 | PASS | SKIPPED | SKIPPED | SKIPPED | SKIPPED | +---------------------+--------------------+-------------------+------------------+-------------------+----------------------+ | FreeBSD 14.2 | PASS | SKIPPED | SKIPPED | SKIPPED | SKIPPED | +---------------------+--------------------+-------------------+------------------+-------------------+----------------------+ | Ubuntu 22.04 | PASS | PASS | SKIPPED | SKIPPED | SKIPPED | +---------------------+--------------------+-------------------+------------------+-------------------+----------------------+ | Windows Server 2022 | SKIPPED | SKIPPED | SKIPPED | PASS | PASS | +---------------------+--------------------+-------------------+------------------+-------------------+----------------------+ CentOS Stream 9 Kernel: Depends on container host Compiler: gcc 11.5.0 20240719 (Red Hat 11.5.0-2) CentOS Stream 10 Kernel: Depends on container host Compiler: gcc 14.2.1 20241104 (Red Hat 14.2.1-6) Debian Bullseye Kernel: Depends on container host Compiler: gcc (Debian 10.2.1-6) 10.2.1 20210110 Fedora 41 Kernel: Depends on container host Compiler: gcc 14.2.1 20240912 (Red Hat 14.2.1-3) Fedora 41 (Clang) Kernel: Depends on container host Compiler: clang 19.1.5 (Fedora 19.1.5-1.fc41) Debian 12 Kernel: Depends on container host Compiler: gcc (Debian 12.2.0-14) 12.2.0 Fedora 40 (Clang) Kernel: Depends on container host Compiler: clang 18.1.8 (Fedora 18.1.8-1.fc40) Fedora 40 Kernel: Depends on container host Compiler: gcc 14.2.1 20240912 (Red Hat 14.2.1-3) Ubuntu 20.04 Kernel: Depends on container host Compiler: gcc (Ubuntu 9.4.0-1ubuntu1~20.04.2) 9.4.0 openSUSE Leap 15 Kernel: Depends on container host Compiler: gcc (SUSE Linux) 7.5.0 RHEL9 Kernel: Depends on container host Compiler: gcc 11.5.0 20240719 (Red Hat 11.5.0-2) RHEL8 Kernel: Depends on container host Compiler: gcc 8.5.0 20210514 (Red Hat 8.5.0-22) Ubuntu 24.04 Kernel: Depends on container host Compiler: gcc (Ubuntu 13.3.0-6ubuntu2~24.04) 13.3.0 Alpine Kernel: Depends on container host Compiler: gcc (Alpine 14.2.0) 14.2.0 FreeBSD 13.4 Kernel: 13.4-RELEASE-p1 Compiler: clang 18.1.6 FreeBSD 14.2 Kernel: 14.2-RELEASE Compiler: clang 18.1.6 Ubuntu 22.04 Kernel: Depends on container host Compiler: gcc (Ubuntu 11.4.0-1ubuntu1~22.04) 11.4.0 Windows Server 2022 Kernel: 10.0.20348.2031 Compiler: clang 15.0.7, gcc 14.1.0 (MinGW), and MSVC VS 19.39.33521 To view detailed results, visit: https://lab.dpdk.org/results/dashboard/patchsets/32674/ UNH-IOL DPDK Community Lab To manage your email subscriptions, visit: https://lab.dpdk.org/results/dashboard/preferences/subscriptions/