From mboxrd@z Thu Jan 1 00:00:00 1970 Return-Path: Received: from mails.dpdk.org (mails.dpdk.org [217.70.189.124]) by inbox.dpdk.org (Postfix) with ESMTP id 45698462B9 for ; Tue, 25 Feb 2025 11:24:53 +0100 (CET) Received: from mails.dpdk.org (localhost [127.0.0.1]) by mails.dpdk.org (Postfix) with ESMTP id 3754C42D7A; Tue, 25 Feb 2025 11:24:53 +0100 (CET) Received: from mail-io1-f100.google.com (mail-io1-f100.google.com [209.85.166.100]) by mails.dpdk.org (Postfix) with ESMTP id 27536427C5 for ; Tue, 25 Feb 2025 11:24:52 +0100 (CET) Received: by mail-io1-f100.google.com with SMTP id ca18e2360f4ac-855bb6041a6so132380339f.0 for ; Tue, 25 Feb 2025 02:24:52 -0800 (PST) DKIM-Signature: v=1; a=rsa-sha256; c=relaxed/relaxed; d=iol.unh.edu; s=unh-iol; t=1740479091; x=1741083891; darn=dpdk.org; h=cc:to:from:subject:message-id:date:from:to:cc:subject:date :message-id:reply-to; bh=xdIyXARV7tc8l2L/CVy7NL1NoXF0Ds7cwZwo6ZX6WYc=; b=TwZM6XpNIHr0K5likvB0xOT2Hma2SxVX5gKJrXeofbZW17cDgHV/tVWDFAL0xTWoo4 pH/ocAe3fBWNv/YHrKkfPquu8p5yrqSuB1s0iZ33Z5AmCiIEJDM9VNh/yvG7Gf5JSpsl Fpz1TZ3qDDMLPbVLw/92iaHSPgL8hDnrcofC8= X-Google-DKIM-Signature: v=1; a=rsa-sha256; c=relaxed/relaxed; d=1e100.net; s=20230601; t=1740479091; x=1741083891; h=cc:to:from:subject:message-id:date:x-gm-message-state:from:to:cc :subject:date:message-id:reply-to; bh=xdIyXARV7tc8l2L/CVy7NL1NoXF0Ds7cwZwo6ZX6WYc=; b=CGuWSMix+B2u5/VDWJvUQYvgfSmz/71ukaFVxh1EaQgD0Kt+WaIZvgnwNQxQo/1vGh 2XSy7bKMgX7K7Yf3j0IOR+9KP12jYFs5LkFNyZgQPwyAhjshi6t1E8Un+eUGNwFOBqfJ AVHD88XY9z7zITiuLl0BtbfN/vSKqhxddDUazsVCTj+ucDGmyBEGaQQy3IenKPCcH/9I Ug0kj8hnLIOveMf8sO+xs6xDN8ZPrAAV4dOi6rTvtM4ktdZEgHJbbkz9po7jzM2pr6uO qiZ395fofn6ZNgOGSLgNenQQkXLvgcBvSLP07nAdrsnRar8IH4CBHu/6NFB1HFSdVi2N US7A== X-Gm-Message-State: AOJu0YyQ2RPsL3eZHEdR3AwaJy2J2Yg/ueWdiYzwlE/gKc45fqtRAbF3 RwX6HS5WZ0xpqRRTMdPbipGyN51aRIuWOapO4W4Hb0RFqrWO0uDvBNyj4g7ieMJL/gxTq0u9rpo ZnQ5bfgsGhuuJuH+LOqgUb+J/3DfEkQ+WxmTSsXvwkQFoXT7/I0mOINpw X-Gm-Gg: ASbGnct6wUp0YPnjGwT0theBSrEElp+FahIaFzek9qTRB0/F/RL9+W00MCNOuWEC4q6 ZidqkM25+lO3m6vwh3J7DXQt8MtLsNQ7Ur9+CozLCMe/J8k3hVf40QEgexJfiT8Jj+3ZoES5Ta/ 3x4/GzNlD5v+KgwB9YK0tZcr0ottB3lNR24rcXlLjRomrVgCb4wLRDduQfMnBBS4/7xI/n+26SX FLXt+eSQpEaf9ltpZcXGN6C3Z3b5a/iXxLBITXalb7rODlVkmnY1a7a3LNb21E8RCWaxLSbmxZV VKMxvHnS8BjBwdoPkLoLmx92kguzg1nyRhDoAPFtjGDYHj2nZcHL X-Google-Smtp-Source: AGHT+IGL4tfvKN3wYMakzCf42GIWtkzKKGDyvMnAH2cJZQuLQ0I1F8NSA5mXNyDBnjWG6D3GY3tcCucwcsyG X-Received: by 2002:a05:6e02:4819:b0:3d1:883c:6e86 with SMTP id e9e14a558f8ab-3d2cae695c8mr132848155ab.8.1740479091427; Tue, 25 Feb 2025 02:24:51 -0800 (PST) Received: from postal.iol.unh.edu (postal.iol.unh.edu. [2606:4100:3880:1234::84]) by smtp-relay.gmail.com with ESMTPS id e9e14a558f8ab-3d361652899sm721695ab.17.2025.02.25.02.24.51 (version=TLS1_2 cipher=ECDHE-ECDSA-AES128-GCM-SHA256 bits=128/128); Tue, 25 Feb 2025 02:24:51 -0800 (PST) X-Relaying-Domain: iol.unh.edu Date: Tue, 25 Feb 2025 02:24:51 -0800 (PST) Message-ID: <67bd9a73.920a0220.46b56.4273SMTPIN_ADDED_MISSING@mx.google.com> Received: from [172.21.0.8] (unknown [172.18.0.240]) by postal.iol.unh.edu (Postfix) with ESMTP id D67F26052471; Tue, 25 Feb 2025 05:24:50 -0500 (EST) Subject: |SUCCESS| [GIT MASTER] a9257af8d8f4f2eb93780a48b53e9342f09ebe9a From: dpdklab@iol.unh.edu To: Test Report Cc: dpdk-test-reports@iol.unh.edu, Stephen Hemminger Content-Type: text/plain X-BeenThere: test-report@dpdk.org X-Mailman-Version: 2.1.29 Precedence: list List-Id: automatic DPDK test reports List-Unsubscribe: , List-Archive: List-Post: List-Help: List-Subscribe: , Errors-To: test-report-bounces@dpdk.org _Testing PASS_ Branch: dpdk-next-net a9257af8d8f4f2eb93780a48b53e9342f09ebe9a --> testing pass Upstream job id: Generic-Unit-Test-DPDK#318271 Test environment and result as below: +-----------------------------+------------------------------+----------------+---------------------------+ | Environment | cryptodev_sw_snow3g_autotest | dpdk_unit_test | cryptodev_sw_zuc_autotest | +=============================+==============================+================+===========================+ | Debian 12 (arm) | PASS | PASS | PASS | +-----------------------------+------------------------------+----------------+---------------------------+ | 32-bit Ubuntu 22.04.4 (ARM) | SKIPPED | PASS | SKIPPED | +-----------------------------+------------------------------+----------------+---------------------------+ | CentOS Stream 9 (ARM) | SKIPPED | PASS | SKIPPED | +-----------------------------+------------------------------+----------------+---------------------------+ | CentOS Stream 10 (ARM) | SKIPPED | PASS | SKIPPED | +-----------------------------+------------------------------+----------------+---------------------------+ | Debian 11 (Buster) (ARM) | SKIPPED | PASS | SKIPPED | +-----------------------------+------------------------------+----------------+---------------------------+ | Fedora 40 (ARM) | SKIPPED | PASS | SKIPPED | +-----------------------------+------------------------------+----------------+---------------------------+ | Fedora 41 (ARM) | SKIPPED | PASS | SKIPPED | +-----------------------------+------------------------------+----------------+---------------------------+ | Fedora 40 (ARM Clang) | SKIPPED | PASS | SKIPPED | +-----------------------------+------------------------------+----------------+---------------------------+ | RHEL9 (ARM) | SKIPPED | PASS | SKIPPED | +-----------------------------+------------------------------+----------------+---------------------------+ | Fedora 41 (ARM Clang) | SKIPPED | PASS | SKIPPED | +-----------------------------+------------------------------+----------------+---------------------------+ | Ubuntu 20.04 (ARM) | SKIPPED | PASS | SKIPPED | +-----------------------------+------------------------------+----------------+---------------------------+ | Ubuntu 22.04 (ARM) | SKIPPED | PASS | SKIPPED | +-----------------------------+------------------------------+----------------+---------------------------+ | Ubuntu 24.04 (ARM) | SKIPPED | PASS | SKIPPED | +-----------------------------+------------------------------+----------------+---------------------------+ Debian 12 (arm) Kernel: Depends on container host Compiler: gcc (Debian 12.2.0-14) 12.2.0 32-bit Ubuntu 22.04.4 (ARM) Kernel: 5.15.83+ aarch64 Compiler: gcc (Ubuntu 11.4.0-1ubuntu1~22.04) 11.4.0 CentOS Stream 9 (ARM) Kernel: Depends on container host Compiler: gcc 11.5.0 20240719 (Red Hat 11.5.0-2) CentOS Stream 10 (ARM) Kernel: Depends on container host Compiler: gcc 14.2.1 20241104 (Red Hat 14.2.1-6) Debian 11 (Buster) (ARM) Kernel: Depends on container host Compiler: gcc (Debian 10.2.1-6) 10.2.1 20210110 Fedora 40 (ARM) Kernel: Depends on container host Compiler: gcc 14.2.1 20240912 (Red Hat 14.2.1-3) Fedora 41 (ARM) Kernel: Depends on container host Compiler: gcc 14.2.1 20240912 (Red Hat 14.2.1-3) Fedora 40 (ARM Clang) Kernel: Depends on container host Compiler: clang 18.1.8 (Fedora 18.1.8-1.fc40) RHEL9 (ARM) Kernel: Depends on container host Compiler: gcc 11.5.0 20240719 (Red Hat 11.5.0-2) Fedora 41 (ARM Clang) Kernel: Depends on container host Compiler: clang 19.1.5 (Fedora 19.1.5-1.fc41) Ubuntu 20.04 (ARM) Kernel: Depends on container host Compiler: gcc (Ubuntu 9.4.0-1ubuntu1~20.04.2) 9.4.0 Ubuntu 22.04 (ARM) Kernel: Depends on container host Compiler: gcc (Ubuntu 11.4.0-1ubuntu1~22.04) 11.4.0 Ubuntu 24.04 (ARM) Kernel: Depends on container host Compiler: gcc (Ubuntu 13.3.0-6ubuntu2~24.04) 13.3.0 To view detailed results, visit: https://lab.dpdk.org/results/dashboard/tarballs/32716/ UNH-IOL DPDK Community Lab To manage your email subscriptions, visit: https://lab.dpdk.org/results/dashboard/preferences/subscriptions/