From mboxrd@z Thu Jan 1 00:00:00 1970 Return-Path: Received: from mails.dpdk.org (mails.dpdk.org [217.70.189.124]) by inbox.dpdk.org (Postfix) with ESMTP id 568DB462BA for ; Tue, 25 Feb 2025 12:15:34 +0100 (CET) Received: from mails.dpdk.org (localhost [127.0.0.1]) by mails.dpdk.org (Postfix) with ESMTP id 4BB89427C5; Tue, 25 Feb 2025 12:15:34 +0100 (CET) Received: from mail-pj1-f100.google.com (mail-pj1-f100.google.com [209.85.216.100]) by mails.dpdk.org (Postfix) with ESMTP id 091AD41101 for ; Tue, 25 Feb 2025 12:15:33 +0100 (CET) Received: by mail-pj1-f100.google.com with SMTP id 98e67ed59e1d1-2f42992f608so8484977a91.0 for ; Tue, 25 Feb 2025 03:15:32 -0800 (PST) DKIM-Signature: v=1; a=rsa-sha256; c=relaxed/relaxed; d=iol.unh.edu; s=unh-iol; t=1740482132; x=1741086932; darn=dpdk.org; h=references:in-reply-to:cc:to:from:subject:message-id:date:from:to :cc:subject:date:message-id:reply-to; bh=2s/NbL9lwFu2Hy8RqE6tShCBfrO9a9Cmw3lyiPh52io=; b=WmAMpo8G5TZLo5MaKx27NYa3L/wXvMyrzLRxzg6ZxGepYx0Zw0R/63Z/ZUB6h5aFWp +hovVn9Hy3dsTxh8byFhG3/vBDXCyOqQQgDlD/spQpE3BoRgB2QwYu81dQvJQKRKxpnH Fyf9LTuqsx9tZnvbXAdH9xeXhJIbMfKiyb7rg= X-Google-DKIM-Signature: v=1; a=rsa-sha256; c=relaxed/relaxed; d=1e100.net; s=20230601; t=1740482132; x=1741086932; h=references:in-reply-to:cc:to:from:subject:message-id:date :x-gm-message-state:from:to:cc:subject:date:message-id:reply-to; bh=2s/NbL9lwFu2Hy8RqE6tShCBfrO9a9Cmw3lyiPh52io=; b=Lcmz9RRlKjnezzlh4n2G33IlUPGzywYicuz/e0CgLtY1uCrPR1x4kCs1C/k7Um4TWa hUBkp23+vo/s1x0K2/KjUCLwElBb00A16KTC7K7aGWCsNEu6peSOAYoAS/Cr9Y5try1a zoolsdnltaikmIHZmst0qDa7wbjmvJvZrJ6d3n6Pug2aivSzrDt0pSwEB8Ym4d/vKqOz wEgEComHnleIrmRqgGfvVyDi9thTAIXoCaCaAGXzOl6kZpYKh4Ghxf+F0oMnn6LgkxI1 WjfV0Cbt/DX7wEQn21bw+AMj4SWQPetRHYxgneB3dQtSlKX0NdBbIcklLesLz1PFzGzt bCzQ== X-Gm-Message-State: AOJu0YwXix7yecB+bUk84MCY1lGWSwh7g8YMtWTeIWD/DbTGnBRsY1fz dmERHgWwmzMdpFnlXGE6e/4E7PnGWEprlr2Lq8hOcTil6uPMVwDWIgDfjnCeh9cAKzrAsB8DLlA nLcCrsaWYQs6lQAELpVbkO45TktOto1JUEBz+cYde X-Gm-Gg: ASbGnctrmo8KZ+168gok93/zwqXfFokqOkbTqpY9ZFEKjOoEMKwruW7Bp7c0ncmJ5yv CbuX1htYR94R1OLgGGiLpX0QxLAVcAl3pd2KRJezTIGshUW2I8sdvbhrbGLRq5S6voh6TTf0FQY 3v+vA0WrMMqt12P3CW565Yok1+7wiivtsGEXcSjVptVgn0+lvIPI+MWwGxxtn4KbwQyIjEqjMd7 ibXeN/EOuaUJsZgA8sGf7yll1bYLwlKXrqov/qjHjdEWclOLkWgtKpxEBXB5JYvx3nEy3DBx/Xi btKBXTOJqKgwPqw8dbeWpczfvnjdN4tQO07rLtCZ X-Google-Smtp-Source: AGHT+IFz9Ea0c4RcpBMKMJK8EfYELFjMH+cc+SiJcIID3mhM3Mld/beGxy7RjX5yKXWeIFi5GL9RZnrBRazQ X-Received: by 2002:a17:90b:4ecf:b0:2ee:f19b:86e5 with SMTP id 98e67ed59e1d1-2fe68ada443mr5363899a91.14.1740482132080; Tue, 25 Feb 2025 03:15:32 -0800 (PST) Received: from postal.iol.unh.edu (postal.iol.unh.edu. [132.177.123.84]) by smtp-relay.gmail.com with ESMTPS id 98e67ed59e1d1-2fceae3044asm731435a91.0.2025.02.25.03.15.31 (version=TLS1_2 cipher=ECDHE-ECDSA-AES128-GCM-SHA256 bits=128/128); Tue, 25 Feb 2025 03:15:32 -0800 (PST) X-Relaying-Domain: iol.unh.edu Date: Tue, 25 Feb 2025 03:15:32 -0800 (PST) Message-ID: <67bda654.170a0220.19b970.4bfcSMTPIN_ADDED_MISSING@mx.google.com> Received: from [172.21.0.7] (unknown [172.18.0.240]) by postal.iol.unh.edu (Postfix) with ESMTP id 76EED6052471; Tue, 25 Feb 2025 06:15:31 -0500 (EST) Subject: |SUCCESS| pw151987-151988 [PATCH] [2/2] net/xsc: suppress assign the From: dpdklab@iol.unh.edu To: Test Report Cc: dpdk-test-reports@iol.unh.edu In-Reply-To: <20250225024813.2489747-3-wanry@yunsilicon.com> References: <20250225024813.2489747-3-wanry@yunsilicon.com> Content-Type: text/plain X-BeenThere: test-report@dpdk.org X-Mailman-Version: 2.1.29 Precedence: list List-Id: automatic DPDK test reports List-Unsubscribe: , List-Archive: List-Post: List-Help: List-Subscribe: , Errors-To: test-report-bounces@dpdk.org Test-Label: iol-sample-apps-testing Test-Status: SUCCESS http://dpdk.org/patch/151988 _Testing PASS_ Submitter: Renyong Wan Date: Tuesday, February 25 2025 02:48:15 DPDK git baseline: Repo:dpdk Branch: master CommitID:a9257af8d8f4f2eb93780a48b53e9342f09ebe9a 151987-151988 --> testing pass Upstream job id: ACVP-FIPS-testing#9038 Test environment and result as below: +--------------------+----------------------+----------------------+ | Environment | compressdev_zlib_pmd | dpdk_fips_validation | +====================+======================+======================+ | Ubuntu 22.04 (ARM) | PASS | SKIPPED | +--------------------+----------------------+----------------------+ | Ubuntu 22.04 | PASS | SKIPPED | +--------------------+----------------------+----------------------+ | Ubuntu 20.04 | SKIPPED | PASS | +--------------------+----------------------+----------------------+ Ubuntu 22.04 (ARM) Kernel: 5.15.0-97-generic Compiler: gcc gcc (Ubuntu 11.4.0-1ubuntu1~22.04) 11.4.0 Ubuntu 22.04 Kernel: 5.15.0-100-generic Compiler: gcc gcc (Ubuntu 11.4.0-1ubuntu1~22.04) 11.4.0 Ubuntu 20.04 Kernel: Depends on container host Compiler: gcc (Ubuntu 9.4.0-1ubuntu1~20.04.2) 9.4.0 To view detailed results, visit: https://lab.dpdk.org/results/dashboard/patchsets/32674/ UNH-IOL DPDK Community Lab To manage your email subscriptions, visit: https://lab.dpdk.org/results/dashboard/preferences/subscriptions/