From mboxrd@z Thu Jan 1 00:00:00 1970 Return-Path: Received: from mails.dpdk.org (mails.dpdk.org [217.70.189.124]) by inbox.dpdk.org (Postfix) with ESMTP id 95931462BA for ; Tue, 25 Feb 2025 12:17:10 +0100 (CET) Received: from mails.dpdk.org (localhost [127.0.0.1]) by mails.dpdk.org (Postfix) with ESMTP id 8B3CD427C5; Tue, 25 Feb 2025 12:17:10 +0100 (CET) Received: from mail-pl1-f228.google.com (mail-pl1-f228.google.com [209.85.214.228]) by mails.dpdk.org (Postfix) with ESMTP id D56D741101 for ; Tue, 25 Feb 2025 12:17:09 +0100 (CET) Received: by mail-pl1-f228.google.com with SMTP id d9443c01a7336-22104c4de96so93151145ad.3 for ; Tue, 25 Feb 2025 03:17:09 -0800 (PST) DKIM-Signature: v=1; a=rsa-sha256; c=relaxed/relaxed; d=iol.unh.edu; s=unh-iol; t=1740482229; x=1741087029; darn=dpdk.org; h=references:in-reply-to:cc:to:from:subject:message-id:date:from:to :cc:subject:date:message-id:reply-to; bh=Vl43WYA/3n5963Gqs3xXVVsBpPLshGZtc37V3S654Mc=; b=NtJyF2kAowjkD9K3+wlUr+fkg/taWR8DTZ7vlqU7t9WeRoXxvPK3a3YYP8VKwUUHMs fm+oiRJy4RbQ/mdiTRtUNajfj1pBsSzNz1zOSL2t4sn9bPo4hOJ19CGFgAtNxBVB7Lxy fCkh237oBUZkAfMbb/oYxfKbleUNnZIyGB1dQ= X-Google-DKIM-Signature: v=1; a=rsa-sha256; c=relaxed/relaxed; d=1e100.net; s=20230601; t=1740482229; x=1741087029; h=references:in-reply-to:cc:to:from:subject:message-id:date :x-gm-message-state:from:to:cc:subject:date:message-id:reply-to; bh=Vl43WYA/3n5963Gqs3xXVVsBpPLshGZtc37V3S654Mc=; b=CAkmdR7UdgeEFE8/+NAyt7HIahaw9/0jqm6/Vs5x3jZO1e05IYtyQrsGkbIi4nMwbb xUvnzJQ3jD/9gZAqv5Bs1NVQLI9BbbRgHmGRI06yufXTsd0ISZWjFwdG4fLzPgqlE3it l7q7QfzWx81B7iiPxgfjythuhYV6vKwEvP1QcoBXLEHD7RJMzxQ7DGZhsZJ8JbfjGOMB oe3WOmxK0Jy/R+oe0Z24WdMeys2BBGbZctluTXWQouqA+Kme3A9Tn9uzkL4hwfJRhTNs xhcmwH18w6rD5gk63dhmNkkFdD8g7OeR58EmZ9ImVQX7wbUjmi/DaEdvH4UvPTz5ZaLs rUBA== X-Gm-Message-State: AOJu0YznkZHrMhCwwIlF+FI3hoFoNtmaGNMV21e7mFjpsXfXahi6WWYq dDSY+vL9yoE1iiGi406NUar8lJanXdlhCdFo8/QxGbqe37AT/Mcff//+98xlGoj4n8dOGUDlsEU y3RT8+ybYW6/7NqTnjQ6fTvU38xnXtYV7YbqRcxq+ X-Gm-Gg: ASbGnctQIcMCbIiXQZSe0KdeZa9146RyWLX/zWnJ127HVUDw/PkffnSb5aRz+81VVNB gQdP5vj+EaApjCkXDLKNUJK35ti/vBVUA9vdo525/GkF2UOYzihzNUsWl13Wt7emS+2HyXix2IS njCQcW8AGOgkeccYXgPUfQWrchOIt5oTPuUjfvwSk0EO2uPyTkovlcn6HOFWm8Lo7Mgc5caw6w5 IFqxUov+GH3nmzBsr4RpJcIa8FTxgOF08rd4hL7l947jpChtlRwhBjSGcj4aYJi4ddinyxJLOrH kBIesvYiVEw9hHtT3NZyytBhNDWZsabW7cMGraEz X-Google-Smtp-Source: AGHT+IG3RNPPO6qbVoKtNssJeygHPchIz06Nt+6F+N9JcF4i2yQyQcvzEeklmWKF0dqq8ezErqUVEge4P61Z X-Received: by 2002:a05:6a00:8c3:b0:730:94e5:1ea2 with SMTP id d2e1a72fcca58-734790a2709mr4222739b3a.4.1740482228929; Tue, 25 Feb 2025 03:17:08 -0800 (PST) Received: from postal.iol.unh.edu (postal.iol.unh.edu. [132.177.123.84]) by smtp-relay.gmail.com with ESMTPS id d2e1a72fcca58-7347a72ff6csm78314b3a.11.2025.02.25.03.17.08 (version=TLS1_2 cipher=ECDHE-ECDSA-AES128-GCM-SHA256 bits=128/128); Tue, 25 Feb 2025 03:17:08 -0800 (PST) X-Relaying-Domain: iol.unh.edu Date: Tue, 25 Feb 2025 03:17:08 -0800 (PST) Message-ID: <67bda6b4.050a0220.27f81e.46d1SMTPIN_ADDED_MISSING@mx.google.com> Received: from [172.17.0.3] (unknown [172.18.0.217]) by postal.iol.unh.edu (Postfix) with ESMTP id 009606052471; Tue, 25 Feb 2025 06:17:08 -0500 (EST) Subject: |SUCCESS| pw151991-152015 [PATCH] [v15,29/29] net/rnp: add multicast From: dpdklab@iol.unh.edu To: Test Report Cc: dpdk-test-reports@iol.unh.edu In-Reply-To: <1740472886-30411-30-git-send-email-caowenbo@mucse.com> References: <1740472886-30411-30-git-send-email-caowenbo@mucse.com> Content-Type: text/plain X-BeenThere: test-report@dpdk.org X-Mailman-Version: 2.1.29 Precedence: list List-Id: automatic DPDK test reports List-Unsubscribe: , List-Archive: List-Post: List-Help: List-Subscribe: , Errors-To: test-report-bounces@dpdk.org Test-Label: iol-unit-amd64-testing Test-Status: SUCCESS http://dpdk.org/patch/152015 _Testing PASS_ Submitter: Wenbo Cao Date: Tuesday, February 25 2025 08:41:26 DPDK git baseline: Repo:dpdk Branch: master CommitID:a9257af8d8f4f2eb93780a48b53e9342f09ebe9a 151991-152015 --> testing pass Upstream job id: Generic-Unit-Test-DPDK#318303 Test environment and result as below: +-------------------+----------------+ | Environment | dpdk_unit_test | +===================+================+ | CentOS Stream 10 | PASS | +-------------------+----------------+ | Debian Bullseye | PASS | +-------------------+----------------+ | CentOS Stream 9 | PASS | +-------------------+----------------+ | Debian 12 | PASS | +-------------------+----------------+ | Fedora 40 (Clang) | PASS | +-------------------+----------------+ | Fedora 40 | PASS | +-------------------+----------------+ | Fedora 41 | PASS | +-------------------+----------------+ | Fedora 41 (Clang) | PASS | +-------------------+----------------+ | RHEL8 | PASS | +-------------------+----------------+ | RHEL9 | PASS | +-------------------+----------------+ | Ubuntu 20.04 | PASS | +-------------------+----------------+ | Ubuntu 22.04 | PASS | +-------------------+----------------+ | Ubuntu 24.04 | PASS | +-------------------+----------------+ CentOS Stream 10 Kernel: Depends on container host Compiler: gcc 14.2.1 20241104 (Red Hat 14.2.1-6) Debian Bullseye Kernel: Depends on container host Compiler: gcc (Debian 10.2.1-6) 10.2.1 20210110 CentOS Stream 9 Kernel: Depends on container host Compiler: gcc 11.5.0 20240719 (Red Hat 11.5.0-2) Debian 12 Kernel: Depends on container host Compiler: gcc (Debian 12.2.0-14) 12.2.0 Fedora 40 (Clang) Kernel: Depends on container host Compiler: clang 18.1.8 (Fedora 18.1.8-1.fc40) Fedora 40 Kernel: Depends on container host Compiler: gcc 14.2.1 20240912 (Red Hat 14.2.1-3) Fedora 41 Kernel: Depends on container host Compiler: gcc 14.2.1 20240912 (Red Hat 14.2.1-3) Fedora 41 (Clang) Kernel: Depends on container host Compiler: clang 19.1.5 (Fedora 19.1.5-1.fc41) RHEL8 Kernel: Depends on container host Compiler: gcc 8.5.0 20210514 (Red Hat 8.5.0-22) RHEL9 Kernel: Depends on container host Compiler: gcc 11.5.0 20240719 (Red Hat 11.5.0-2) Ubuntu 20.04 Kernel: Depends on container host Compiler: gcc (Ubuntu 9.4.0-1ubuntu1~20.04.2) 9.4.0 Ubuntu 22.04 Kernel: Depends on container host Compiler: gcc (Ubuntu 11.4.0-1ubuntu1~22.04) 11.4.0 Ubuntu 24.04 Kernel: Depends on container host Compiler: gcc (Ubuntu 13.3.0-6ubuntu2~24.04) 13.3.0 To view detailed results, visit: https://lab.dpdk.org/results/dashboard/patchsets/32675/ UNH-IOL DPDK Community Lab To manage your email subscriptions, visit: https://lab.dpdk.org/results/dashboard/preferences/subscriptions/