From mboxrd@z Thu Jan 1 00:00:00 1970 Return-Path: Received: from mails.dpdk.org (mails.dpdk.org [217.70.189.124]) by inbox.dpdk.org (Postfix) with ESMTP id AF900462BA for ; Tue, 25 Feb 2025 12:17:51 +0100 (CET) Received: from mails.dpdk.org (localhost [127.0.0.1]) by mails.dpdk.org (Postfix) with ESMTP id AB40C427C5; Tue, 25 Feb 2025 12:17:51 +0100 (CET) Received: from mail-pl1-f226.google.com (mail-pl1-f226.google.com [209.85.214.226]) by mails.dpdk.org (Postfix) with ESMTP id 9C8B941101 for ; Tue, 25 Feb 2025 12:17:50 +0100 (CET) Received: by mail-pl1-f226.google.com with SMTP id d9443c01a7336-220ecbdb4c2so35874675ad.3 for ; Tue, 25 Feb 2025 03:17:50 -0800 (PST) DKIM-Signature: v=1; a=rsa-sha256; c=relaxed/relaxed; d=iol.unh.edu; s=unh-iol; t=1740482270; x=1741087070; darn=dpdk.org; h=references:in-reply-to:cc:to:from:subject:message-id:date:from:to :cc:subject:date:message-id:reply-to; bh=gkR3CueGQMXy//kIS5fhHezO/LtCKlYJYPRjiOytoQ4=; b=LJLpusi56GCS0D+y9T9CKFUtwkcNkM0M0T4FsfLXau1DNUYob9p0c8OqndPjO/NZs4 2u0DA3T9uxL8YJ7DTO0X7cYHXN/giw0UHt+X4aGv/kWMuyz8e95g8ZKL8FzrqydzKRh2 XkO5zS3wVjBcJjeCvikLYuzddDGIso+Ib7hvY= X-Google-DKIM-Signature: v=1; a=rsa-sha256; c=relaxed/relaxed; d=1e100.net; s=20230601; t=1740482270; x=1741087070; h=references:in-reply-to:cc:to:from:subject:message-id:date :x-gm-message-state:from:to:cc:subject:date:message-id:reply-to; bh=gkR3CueGQMXy//kIS5fhHezO/LtCKlYJYPRjiOytoQ4=; b=jnK0ANGPYEZ5da/uq3CUhqtJb+9d/xzeGGnIdwT4cBohK+MuCjb+u65Mg/owV4n/aH IQqgtqsLSMTn+F2vAyWh2N383CfqHKPY9/02rPAKm2bjju463S6NqX+KfiywqH9nt5rw on3JminiOq2eYvAhEMQ0viDzXkTDWr2qXFaI7QC8zII555LcSIuBaP4BdFooOdfGkzap /XJCVsqbf146UNXxQOksllunDKUpfbcBWqMxLSC1Jr//39dBNCqbzoNP4gqvWDtP27yt ZrjIDwe01ySqSGJ+YqTOGLcQlI7HyCB5oHwoFdHe019BY2aTU2PwkQjbrhU1T6OVT9U+ FrNQ== X-Gm-Message-State: AOJu0YxelYQhgZP1wB6e7Up/KfXhJCxpLaH8Oj/wxlmzR6yQ/hIxMHiU 3CAsPNipyvoOZ5rokPFNSsWjgQBktyWmuAShAeAYp1WX7DMDsILYAL+4TrVlLwTaWbi24P1meuj rkFP6pKuUnuF3ugmhg9cxWQ/UtGs+fXEgflFEZareDTwqLkBmlPiL/CKL X-Gm-Gg: ASbGncuw5vkIq0TXB2h6BTjQgAO5GTglhg/3rXbLVp/MS1fkzdO1dTuxMFD5hPuFvlf oB2pE+4/wkZxwfbWfZEzOrFavPAL773mxv07UG0WlySgahyqCNBNZAkfn2mmBIo9TGeyQMoAlox a4QVfsLEvLSBD8+LTNErsVabqJJuXx37d3CNqoLuDCnXZv+8h4Xa/D75yCqX2QLyEYFwrceE5kX HZUKoryKZWVJP2da4menNZ/2uJmTWQXwRa7N7iaX/gUFll9Y9PHZ15gv7eP+tbGc31wBQwOmSQn PWUpfCj5h6BZbuiP9s86G4P4nJaZv8NKl6+soVmXswAtjAEuTUfT X-Google-Smtp-Source: AGHT+IGSQbbHNgXWaxRUHaZlA+OKpZdLMR/xABWCepGcQ2V/YOWyKUleqVUpssnmZW62tUAZPZUU9fMQCQJK X-Received: by 2002:a17:902:ce82:b0:221:283:5884 with SMTP id d9443c01a7336-221a10df197mr277339805ad.29.1740482269817; Tue, 25 Feb 2025 03:17:49 -0800 (PST) Received: from postal.iol.unh.edu (postal.iol.unh.edu. [2606:4100:3880:1234::84]) by smtp-relay.gmail.com with ESMTPS id d9443c01a7336-2230a08977esm637285ad.76.2025.02.25.03.17.49 (version=TLS1_2 cipher=ECDHE-ECDSA-AES128-GCM-SHA256 bits=128/128); Tue, 25 Feb 2025 03:17:49 -0800 (PST) X-Relaying-Domain: iol.unh.edu Date: Tue, 25 Feb 2025 03:17:49 -0800 (PST) Message-ID: <67bda6dd.170a0220.2becf.3b3bSMTPIN_ADDED_MISSING@mx.google.com> Received: from [172.17.0.3] (unknown [172.18.0.217]) by postal.iol.unh.edu (Postfix) with ESMTP id 32F1E6052471; Tue, 25 Feb 2025 06:17:49 -0500 (EST) Subject: |SUCCESS| pw151991-152015 [PATCH] [v15,29/29] net/rnp: add multicast From: dpdklab@iol.unh.edu To: Test Report Cc: dpdk-test-reports@iol.unh.edu In-Reply-To: <1740472886-30411-30-git-send-email-caowenbo@mucse.com> References: <1740472886-30411-30-git-send-email-caowenbo@mucse.com> Content-Type: text/plain X-BeenThere: test-report@dpdk.org X-Mailman-Version: 2.1.29 Precedence: list List-Id: automatic DPDK test reports List-Unsubscribe: , List-Archive: List-Post: List-Help: List-Subscribe: , Errors-To: test-report-bounces@dpdk.org Test-Label: iol-unit-amd64-testing Test-Status: SUCCESS http://dpdk.org/patch/152015 _Testing PASS_ Submitter: Wenbo Cao Date: Tuesday, February 25 2025 08:41:26 DPDK git baseline: Repo:dpdk Branch: master CommitID:a9257af8d8f4f2eb93780a48b53e9342f09ebe9a 151991-152015 --> testing pass Upstream job id: Generic-Unit-Test-DPDK#318307 Test environment and result as below: +-------------------+----------------+ | Environment | dpdk_unit_test | +===================+================+ | CentOS Stream 10 | PASS | +-------------------+----------------+ | Debian Bullseye | PASS | +-------------------+----------------+ | CentOS Stream 9 | PASS | +-------------------+----------------+ | Debian 12 | PASS | +-------------------+----------------+ | Fedora 40 (Clang) | PASS | +-------------------+----------------+ | Fedora 40 | PASS | +-------------------+----------------+ | Fedora 41 | PASS | +-------------------+----------------+ | Fedora 41 (Clang) | PASS | +-------------------+----------------+ | RHEL8 | PASS | +-------------------+----------------+ | RHEL9 | PASS | +-------------------+----------------+ | Ubuntu 20.04 | PASS | +-------------------+----------------+ | Ubuntu 22.04 | PASS | +-------------------+----------------+ | Ubuntu 24.04 | PASS | +-------------------+----------------+ CentOS Stream 10 Kernel: Depends on container host Compiler: gcc 14.2.1 20241104 (Red Hat 14.2.1-6) Debian Bullseye Kernel: Depends on container host Compiler: gcc (Debian 10.2.1-6) 10.2.1 20210110 CentOS Stream 9 Kernel: Depends on container host Compiler: gcc 11.5.0 20240719 (Red Hat 11.5.0-2) Debian 12 Kernel: Depends on container host Compiler: gcc (Debian 12.2.0-14) 12.2.0 Fedora 40 (Clang) Kernel: Depends on container host Compiler: clang 18.1.8 (Fedora 18.1.8-1.fc40) Fedora 40 Kernel: Depends on container host Compiler: gcc 14.2.1 20240912 (Red Hat 14.2.1-3) Fedora 41 Kernel: Depends on container host Compiler: gcc 14.2.1 20240912 (Red Hat 14.2.1-3) Fedora 41 (Clang) Kernel: Depends on container host Compiler: clang 19.1.5 (Fedora 19.1.5-1.fc41) RHEL8 Kernel: Depends on container host Compiler: gcc 8.5.0 20210514 (Red Hat 8.5.0-22) RHEL9 Kernel: Depends on container host Compiler: gcc 11.5.0 20240719 (Red Hat 11.5.0-2) Ubuntu 20.04 Kernel: Depends on container host Compiler: gcc (Ubuntu 9.4.0-1ubuntu1~20.04.2) 9.4.0 Ubuntu 22.04 Kernel: Depends on container host Compiler: gcc (Ubuntu 11.4.0-1ubuntu1~22.04) 11.4.0 Ubuntu 24.04 Kernel: Depends on container host Compiler: gcc (Ubuntu 13.3.0-6ubuntu2~24.04) 13.3.0 To view detailed results, visit: https://lab.dpdk.org/results/dashboard/patchsets/32675/ UNH-IOL DPDK Community Lab To manage your email subscriptions, visit: https://lab.dpdk.org/results/dashboard/preferences/subscriptions/