From mboxrd@z Thu Jan 1 00:00:00 1970 Return-Path: Received: from mails.dpdk.org (mails.dpdk.org [217.70.189.124]) by inbox.dpdk.org (Postfix) with ESMTP id 57A1F462BA for ; Tue, 25 Feb 2025 12:21:48 +0100 (CET) Received: from mails.dpdk.org (localhost [127.0.0.1]) by mails.dpdk.org (Postfix) with ESMTP id 32290427C5; Tue, 25 Feb 2025 12:21:48 +0100 (CET) Received: from mail-ot1-f100.google.com (mail-ot1-f100.google.com [209.85.210.100]) by mails.dpdk.org (Postfix) with ESMTP id 33D6841101 for ; Tue, 25 Feb 2025 12:21:47 +0100 (CET) Received: by mail-ot1-f100.google.com with SMTP id 46e09a7af769-72732ef2d9cso3056988a34.1 for ; Tue, 25 Feb 2025 03:21:47 -0800 (PST) DKIM-Signature: v=1; a=rsa-sha256; c=relaxed/relaxed; d=iol.unh.edu; s=unh-iol; t=1740482506; x=1741087306; darn=dpdk.org; h=references:in-reply-to:cc:to:from:subject:message-id:date:from:to :cc:subject:date:message-id:reply-to; bh=8B7vsjEX/NylaaQMFAhQX6klxdPyaqJS450gGpo/w7g=; b=PTuuiSuflXHcB6cvgjC1yFtTuuYrLMpM95mh8An5dlOC48yi1Zr3eCOFWTS0WJkD5e HOvMwPhJvOSZ5YiQ/mKJ3bY9ZU6t8Pa1mrKvaoP/e0rVqn4IZbc3ccGD9X35g42ajH9z KS9C3nkjmzVVA35NW5jgnFuiQ8xkxDVlxEKTo= X-Google-DKIM-Signature: v=1; a=rsa-sha256; c=relaxed/relaxed; d=1e100.net; s=20230601; t=1740482506; x=1741087306; h=references:in-reply-to:cc:to:from:subject:message-id:date :x-gm-message-state:from:to:cc:subject:date:message-id:reply-to; bh=8B7vsjEX/NylaaQMFAhQX6klxdPyaqJS450gGpo/w7g=; b=af+mb/Du6tR1EemsFwszLjmfrtf3TUIMLxRSGn+LOuscuBOJjfnUKvWsLugWfHOC90 bYN0uRifo/W10GtX4b1R9lMkIZcl2QcnN+on8nX8TirW8nibH5ZSOkWiumZJpY402og8 /fD5eg/Nvp+zvc4Xnsu5usgM7b6rdiFDeIdI6L506s9jJLMBjpjpzthCrz/bat4P04LA FyvP8b3MZuVv7PAhUne+19u71xY8SZpNhWs/R6Ge6zRPLvWYrA26ZJvdgq5yeP0jzBLa vCs6aASRevYr6w5IAPUhBXge0OAU3BspOXlbrnp0xGQqwGUjyIyDWwz/Vazfee1+RzFI /ZGw== X-Gm-Message-State: AOJu0YwWdaAYsQXjKCe3KKN94a5VBJeW8wjHxEo2gYaR2WdUeseeCprN z1EXyPhd+xz1M9NkcVF5/x+hdHofgPNzX/iMv3F2Tjao59ED90JrGYQNPH21BB357wV14E8YNd8 4p4eeTF2BPBmolhCO/s+iw18tDVa3eXu7j49REwRq X-Gm-Gg: ASbGncs65H0KCQeprw1voElZD7NZlkPtENTgoJSMUVcZb3sYhinp3hv8XYqu3pgfM/O ogcwurofihQiPJ40Jh7JcmpmtqU1BdV/ZbiRUQv3LcpJJbIxRXv+7qmTtRtcypSj0if1CRGVtG7 PTkLzxIInx8L3GQtTyJ9MvnzDwW38FhKXS8YdfZRADGfCnlrqgJHw2qIbnzgOhvyyWxzz5w8Tqu P/q2alSOt2/T4rBR+OFDcQFFyfmhMQsMCqwkZ8e8ORbk5cnnOGrWGT+Favo93p4gsnHzoRSohFt iceXgDsXRu//HH8DgaCpR0Ex2GYptS/zdAEs+EJT X-Google-Smtp-Source: AGHT+IHPyAaGGyMOq+94caHt3L75DQNWlyjAzE5wbcUM7KFHOS06SAMGnSz4d6wMsQClUt8sMt4LX00BxZ9H X-Received: by 2002:a9d:68cc:0:b0:727:2511:b9b8 with SMTP id 46e09a7af769-727418bbecfmr14547467a34.6.1740482506235; Tue, 25 Feb 2025 03:21:46 -0800 (PST) Received: from postal.iol.unh.edu (postal.iol.unh.edu. [132.177.123.84]) by smtp-relay.gmail.com with ESMTPS id 586e51a60fabf-2c111287474sm58034fac.18.2025.02.25.03.21.46 (version=TLS1_2 cipher=ECDHE-ECDSA-AES128-GCM-SHA256 bits=128/128); Tue, 25 Feb 2025 03:21:46 -0800 (PST) X-Relaying-Domain: iol.unh.edu Date: Tue, 25 Feb 2025 03:21:46 -0800 (PST) Message-ID: <67bda7ca.050a0220.5e76b.34c0SMTPIN_ADDED_MISSING@mx.google.com> Received: from [172.21.0.8] (unknown [172.18.0.240]) by postal.iol.unh.edu (Postfix) with ESMTP id 8F1706052471; Tue, 25 Feb 2025 06:21:45 -0500 (EST) Subject: |SUCCESS| pw151991-152015 [PATCH] [v15,29/29] net/rnp: add multicast From: dpdklab@iol.unh.edu To: Test Report Cc: dpdk-test-reports@iol.unh.edu In-Reply-To: <1740472886-30411-30-git-send-email-caowenbo@mucse.com> References: <1740472886-30411-30-git-send-email-caowenbo@mucse.com> Content-Type: text/plain X-BeenThere: test-report@dpdk.org X-Mailman-Version: 2.1.29 Precedence: list List-Id: automatic DPDK test reports List-Unsubscribe: , List-Archive: List-Post: List-Help: List-Subscribe: , Errors-To: test-report-bounces@dpdk.org Test-Label: iol-unit-arm64-testing Test-Status: SUCCESS http://dpdk.org/patch/152015 _Testing PASS_ Submitter: Wenbo Cao Date: Tuesday, February 25 2025 08:41:26 DPDK git baseline: Repo:dpdk Branch: master CommitID:a9257af8d8f4f2eb93780a48b53e9342f09ebe9a 151991-152015 --> testing pass Upstream job id: Generic-Unit-Test-DPDK#318298 Test environment and result as below: +-----------------------------+----------------+--------------+------------------------------+---------------------------+ | Environment | dpdk_unit_test | lpm_autotest | cryptodev_sw_snow3g_autotest | cryptodev_sw_zuc_autotest | +=============================+================+==============+==============================+===========================+ | CentOS Stream 9 (ARM) | PASS | SKIPPED | SKIPPED | SKIPPED | +-----------------------------+----------------+--------------+------------------------------+---------------------------+ | 32-bit Ubuntu 22.04.4 (ARM) | PASS | SKIPPED | SKIPPED | SKIPPED | +-----------------------------+----------------+--------------+------------------------------+---------------------------+ | CentOS Stream 10 (ARM) | PASS | SKIPPED | SKIPPED | SKIPPED | +-----------------------------+----------------+--------------+------------------------------+---------------------------+ | Debian 11 (Buster) (ARM) | PASS | SKIPPED | SKIPPED | SKIPPED | +-----------------------------+----------------+--------------+------------------------------+---------------------------+ | Fedora 40 (ARM Clang) | PASS | SKIPPED | SKIPPED | SKIPPED | +-----------------------------+----------------+--------------+------------------------------+---------------------------+ | Fedora 40 (ARM) | PASS | SKIPPED | SKIPPED | SKIPPED | +-----------------------------+----------------+--------------+------------------------------+---------------------------+ | Debian 12 (arm) | PASS | SKIPPED | PASS | PASS | +-----------------------------+----------------+--------------+------------------------------+---------------------------+ | Fedora 41 (ARM) | PASS | SKIPPED | SKIPPED | SKIPPED | +-----------------------------+----------------+--------------+------------------------------+---------------------------+ | Fedora 41 (ARM Clang) | PASS | SKIPPED | SKIPPED | SKIPPED | +-----------------------------+----------------+--------------+------------------------------+---------------------------+ | Ubuntu 20.04 (ARM) | PASS | SKIPPED | SKIPPED | SKIPPED | +-----------------------------+----------------+--------------+------------------------------+---------------------------+ | RHEL9 (ARM) | PASS | SKIPPED | SKIPPED | SKIPPED | +-----------------------------+----------------+--------------+------------------------------+---------------------------+ | Ubuntu 22.04 (ARM) | PASS | SKIPPED | SKIPPED | SKIPPED | +-----------------------------+----------------+--------------+------------------------------+---------------------------+ | Ubuntu 24.04 (ARM) | PASS | SKIPPED | SKIPPED | SKIPPED | +-----------------------------+----------------+--------------+------------------------------+---------------------------+ | Ubuntu 20.04 ARM SVE | SKIPPED | PASS | SKIPPED | SKIPPED | +-----------------------------+----------------+--------------+------------------------------+---------------------------+ CentOS Stream 9 (ARM) Kernel: Depends on container host Compiler: gcc 11.5.0 20240719 (Red Hat 11.5.0-2) 32-bit Ubuntu 22.04.4 (ARM) Kernel: 5.15.83+ aarch64 Compiler: gcc (Ubuntu 11.4.0-1ubuntu1~22.04) 11.4.0 CentOS Stream 10 (ARM) Kernel: Depends on container host Compiler: gcc 14.2.1 20241104 (Red Hat 14.2.1-6) Debian 11 (Buster) (ARM) Kernel: Depends on container host Compiler: gcc (Debian 10.2.1-6) 10.2.1 20210110 Fedora 40 (ARM Clang) Kernel: Depends on container host Compiler: clang 18.1.8 (Fedora 18.1.8-1.fc40) Fedora 40 (ARM) Kernel: Depends on container host Compiler: gcc 14.2.1 20240912 (Red Hat 14.2.1-3) Debian 12 (arm) Kernel: Depends on container host Compiler: gcc (Debian 12.2.0-14) 12.2.0 Fedora 41 (ARM) Kernel: Depends on container host Compiler: gcc 14.2.1 20240912 (Red Hat 14.2.1-3) Fedora 41 (ARM Clang) Kernel: Depends on container host Compiler: clang 19.1.5 (Fedora 19.1.5-1.fc41) Ubuntu 20.04 (ARM) Kernel: Depends on container host Compiler: gcc (Ubuntu 9.4.0-1ubuntu1~20.04.2) 9.4.0 RHEL9 (ARM) Kernel: Depends on container host Compiler: gcc 11.5.0 20240719 (Red Hat 11.5.0-2) Ubuntu 22.04 (ARM) Kernel: Depends on container host Compiler: gcc (Ubuntu 11.4.0-1ubuntu1~22.04) 11.4.0 Ubuntu 24.04 (ARM) Kernel: Depends on container host Compiler: gcc (Ubuntu 13.3.0-6ubuntu2~24.04) 13.3.0 Ubuntu 20.04 ARM SVE Kernel: Depends on container host Compiler: gcc (Ubuntu 10.5.0-1ubuntu1~20.04) 10.5.0 To view detailed results, visit: https://lab.dpdk.org/results/dashboard/patchsets/32675/ UNH-IOL DPDK Community Lab To manage your email subscriptions, visit: https://lab.dpdk.org/results/dashboard/preferences/subscriptions/