From mboxrd@z Thu Jan  1 00:00:00 1970
Return-Path: <test-report-bounces@dpdk.org>
Received: from mails.dpdk.org (mails.dpdk.org [217.70.189.124])
	by inbox.dpdk.org (Postfix) with ESMTP id 0C447462BA
	for <public@inbox.dpdk.org>; Tue, 25 Feb 2025 12:29:05 +0100 (CET)
Received: from mails.dpdk.org (localhost [127.0.0.1])
	by mails.dpdk.org (Postfix) with ESMTP id DBBF6427C5;
	Tue, 25 Feb 2025 12:29:04 +0100 (CET)
Received: from mail-oa1-f100.google.com (mail-oa1-f100.google.com
 [209.85.160.100])
 by mails.dpdk.org (Postfix) with ESMTP id 2B01241101
 for <test-report@dpdk.org>; Tue, 25 Feb 2025 12:29:04 +0100 (CET)
Received: by mail-oa1-f100.google.com with SMTP id
 586e51a60fabf-2bcceee7b40so3489965fac.3
 for <test-report@dpdk.org>; Tue, 25 Feb 2025 03:29:04 -0800 (PST)
DKIM-Signature: v=1; a=rsa-sha256; c=relaxed/relaxed;
 d=iol.unh.edu; s=unh-iol; t=1740482943; x=1741087743; darn=dpdk.org;
 h=references:in-reply-to:cc:to:from:subject:message-id:date:from:to
 :cc:subject:date:message-id:reply-to;
 bh=mDQRZRh3yaMVV9Wp/vyEMCi3VPlSCwj2Frp92/BUfls=;
 b=eUny+VKYNjNjf3+6BX8XmhgeIdDGh7bQHyhdPRTabQ7hlxrC8lwmdmiL4e/hB6s7ci
 juF8Oyy7GrKtDphvpXFZO91JLrEqtj7oMCYkHmT9/rMuH76rLtGtm37KmpSEYDermA0J
 E2PqZfp/bJ4xsTXQNotddyeGz+/FiAUkchsNM=
X-Google-DKIM-Signature: v=1; a=rsa-sha256; c=relaxed/relaxed;
 d=1e100.net; s=20230601; t=1740482943; x=1741087743;
 h=references:in-reply-to:cc:to:from:subject:message-id:date
 :x-gm-message-state:from:to:cc:subject:date:message-id:reply-to;
 bh=mDQRZRh3yaMVV9Wp/vyEMCi3VPlSCwj2Frp92/BUfls=;
 b=u2/GsK/9AJtbgmjQ9no3vaBWHVSbx178k0194zskBksvanPqkjJJlUGBJPLWsdS7du
 JIxh0fNhwryRvpPzSzwqLWe4a/EqlBDpvyOECKKLCgPVPbwwGbCxp1W+keglVCWkcHMS
 yyibjqV5T6H3RuxdYICyihvcG7/h1ePHDw1B2w+DO6RMUa9/t0PVUF1AQ2ezZhe5BtTy
 6WgA8umSMIl5saNzSheanVhILMfdQcznsCYq3T26FmIu8oJ925YYKVxeBvykIdBm88Ro
 gwbvDZGSdqQ6teC6phVVDO7OowJ7EOjgqAX0srpOsEVPSg9WxRXvJc6sWhVfjXL9+I71
 qXcw==
X-Gm-Message-State: AOJu0YydG8troKOHlhDXhSmRjLQa6MrgMs6Od7o5ADD67sBEO4wbhGKU
 +pw/AeiKnjgsXjzIgY636I6bQyA5u8F71C3relw0nPpFJjm9eHy/tidg+h16K400w7zfzF2EUvo
 Vrp71whj49yhYXXMqBGJUmR2VTDAJmq4WgcSc8gl7/QspGWhOR9DPhkuE
X-Gm-Gg: ASbGncv60M2+erEzpDPRBRgX+OIEVgRo0QtoGx06b5Ma3/Fp0p2fZlrAoIt2wXaBADy
 gwE+An9YZu15Vx8av0EcYKRfK/0wn0sokenYKLP6V3JIYYwzqCQAFdx/NYEMhaesfaFxf3/qeuM
 YN1MNkneAugUNPdUo3LFn0kva2GOAnaaPAs3LFFQDxyUxyGkQkJ4SAUi5fK7DtEGSELjacq7Q4a
 WIWcWmsBi/2nKQJR93vQyZSzTtjOm80R8lMq2Wjnhqcxyf8lzsAjA9WJKUgTIMM2GaZ4wmMnnTW
 wYcUPPvMiC2V8b4rlU11Ai6YA+AWImM8EG6MEUDzhJAqqUKLZLC8
X-Google-Smtp-Source: AGHT+IEtT5mjlXnCQ1zgU01sPhF16frymffUj44/K1XRQgVJRcnYVK96ZKDWfe/9J6BXnD/jfIgvlSOmGj1O
X-Received: by 2002:a05:6870:7988:b0:2b7:f2dc:a4bf with SMTP id
 586e51a60fabf-2bd50d807efmr11926599fac.18.1740482943191; 
 Tue, 25 Feb 2025 03:29:03 -0800 (PST)
Received: from postal.iol.unh.edu (postal.iol.unh.edu.
 [2606:4100:3880:1234::84]) by smtp-relay.gmail.com with ESMTPS id
 586e51a60fabf-2c111624c50sm62640fac.30.2025.02.25.03.29.03
 (version=TLS1_2 cipher=ECDHE-ECDSA-AES128-GCM-SHA256 bits=128/128);
 Tue, 25 Feb 2025 03:29:03 -0800 (PST)
X-Relaying-Domain: iol.unh.edu
Date: Tue, 25 Feb 2025 03:29:03 -0800 (PST)
Message-ID: <67bda97f.050a0220.1b39ae.39abSMTPIN_ADDED_MISSING@mx.google.com>
Received: from [172.21.0.7] (unknown [172.18.0.240])
 by postal.iol.unh.edu (Postfix) with ESMTP id 896D76052471;
 Tue, 25 Feb 2025 06:29:02 -0500 (EST)
Subject: |SUCCESS| pw151991-152015 [PATCH] [v15,29/29] net/rnp: add multicast
From: dpdklab@iol.unh.edu
To: Test Report <test-report@dpdk.org>
Cc: dpdk-test-reports@iol.unh.edu
In-Reply-To: <1740472886-30411-30-git-send-email-caowenbo@mucse.com>
References: <1740472886-30411-30-git-send-email-caowenbo@mucse.com>
Content-Type: text/plain
X-BeenThere: test-report@dpdk.org
X-Mailman-Version: 2.1.29
Precedence: list
List-Id: automatic DPDK test reports <test-report.dpdk.org>
List-Unsubscribe: <https://mails.dpdk.org/options/test-report>,
 <mailto:test-report-request@dpdk.org?subject=unsubscribe>
List-Archive: <http://mails.dpdk.org/archives/test-report/>
List-Post: <mailto:test-report@dpdk.org>
List-Help: <mailto:test-report-request@dpdk.org?subject=help>
List-Subscribe: <https://mails.dpdk.org/listinfo/test-report>,
 <mailto:test-report-request@dpdk.org?subject=subscribe>
Errors-To: test-report-bounces@dpdk.org

Test-Label: iol-abi-testing
Test-Status: SUCCESS
http://dpdk.org/patch/152015

_Testing PASS_

Submitter: Wenbo Cao <caowenbo@mucse.com>
Date: Tuesday, February 25 2025 08:41:26 
DPDK git baseline: Repo:dpdk
  Branch: master
  CommitID:a9257af8d8f4f2eb93780a48b53e9342f09ebe9a

151991-152015 --> testing pass

Upstream job id: Generic-DPDK-Compile-ABI#117673

Test environment and result as below:

+-------------------+----------+
|    Environment    | abi_test |
+===================+==========+
| CentOS Stream 9   | PASS     |
+-------------------+----------+
| Debian Bullseye   | PASS     |
+-------------------+----------+
| Fedora 40 (Clang) | PASS     |
+-------------------+----------+
| Fedora 40         | PASS     |
+-------------------+----------+
| Fedora 41 (Clang) | PASS     |
+-------------------+----------+
| Fedora 41         | PASS     |
+-------------------+----------+
| openSUSE Leap 15  | PASS     |
+-------------------+----------+
| RHEL8             | PASS     |
+-------------------+----------+
| RHEL9             | PASS     |
+-------------------+----------+
| Ubuntu 22.04      | PASS     |
+-------------------+----------+
| Ubuntu 24.04      | PASS     |
+-------------------+----------+
| CentOS Stream 10  | PASS     |
+-------------------+----------+
| Debian 12         | PASS     |
+-------------------+----------+


CentOS Stream 9
	Kernel: Depends on container host
	Compiler: gcc 11.5.0 20240719 (Red Hat 11.5.0-2)

Debian Bullseye
	Kernel: Depends on container host
	Compiler: gcc (Debian 10.2.1-6) 10.2.1 20210110

Fedora 40 (Clang)
	Kernel: Depends on container host
	Compiler: clang 18.1.8 (Fedora 18.1.8-1.fc40)

Fedora 40
	Kernel: Depends on container host
	Compiler: gcc 14.2.1 20240912 (Red Hat 14.2.1-3)

Fedora 41 (Clang)
	Kernel: Depends on container host
	Compiler: clang 19.1.5 (Fedora 19.1.5-1.fc41)

Fedora 41
	Kernel: Depends on container host
	Compiler: gcc 14.2.1 20240912 (Red Hat 14.2.1-3)

openSUSE Leap 15
	Kernel: Depends on container host
	Compiler: gcc (SUSE Linux) 7.5.0

RHEL8
	Kernel: Depends on container host
	Compiler: gcc 8.5.0 20210514 (Red Hat 8.5.0-22)

RHEL9
	Kernel: Depends on container host
	Compiler: gcc 11.5.0 20240719 (Red Hat 11.5.0-2)

Ubuntu 22.04
	Kernel: Depends on container host
	Compiler: gcc (Ubuntu 11.4.0-1ubuntu1~22.04) 11.4.0

Ubuntu 24.04
	Kernel: Depends on container host
	Compiler: gcc (Ubuntu 13.3.0-6ubuntu2~24.04) 13.3.0

CentOS Stream 10
	Kernel: Depends on container host
	Compiler: gcc 14.2.1 20241104 (Red Hat 14.2.1-6)

Debian 12
	Kernel: Depends on container host
	Compiler: gcc (Debian 12.2.0-14) 12.2.0

To view detailed results, visit:
https://lab.dpdk.org/results/dashboard/patchsets/32675/

UNH-IOL DPDK Community Lab

To manage your email subscriptions, visit: 
https://lab.dpdk.org/results/dashboard/preferences/subscriptions/