From mboxrd@z Thu Jan 1 00:00:00 1970 Return-Path: Received: from mails.dpdk.org (mails.dpdk.org [217.70.189.124]) by inbox.dpdk.org (Postfix) with ESMTP id 48AE6462B0 for ; Tue, 25 Feb 2025 15:40:11 +0100 (CET) Received: from mails.dpdk.org (localhost [127.0.0.1]) by mails.dpdk.org (Postfix) with ESMTP id 3D68E402D2; Tue, 25 Feb 2025 15:40:11 +0100 (CET) Received: from mail-il1-f225.google.com (mail-il1-f225.google.com [209.85.166.225]) by mails.dpdk.org (Postfix) with ESMTP id 002CF402AE for ; Tue, 25 Feb 2025 15:40:09 +0100 (CET) Received: by mail-il1-f225.google.com with SMTP id e9e14a558f8ab-3d04932a36cso56739875ab.1 for ; Tue, 25 Feb 2025 06:40:09 -0800 (PST) DKIM-Signature: v=1; a=rsa-sha256; c=relaxed/relaxed; d=iol.unh.edu; s=unh-iol; t=1740494409; x=1741099209; darn=dpdk.org; h=references:in-reply-to:cc:to:from:subject:message-id:date:from:to :cc:subject:date:message-id:reply-to; bh=MTpr/NKvQzkQ0aexmKwptlcsW882O5+WPz9ldZvQJUM=; b=UrMN4JF5pxC90p3kMZx2XXah999M4Gs05Z3KMavxf1hQrkAnJEItP/zcKpHJ3egWoB KTYH4KPMVbhfjmAh8jz7SOVHGKIIm/QCIXKEpuGIJZMLNxnqHh1qWsyN/oxT+YaSLu75 V0IuwzPh9cpq7Gw3PoAEX1g6+JYqKQBmKUMno= X-Google-DKIM-Signature: v=1; a=rsa-sha256; c=relaxed/relaxed; d=1e100.net; s=20230601; t=1740494409; x=1741099209; h=references:in-reply-to:cc:to:from:subject:message-id:date :x-gm-message-state:from:to:cc:subject:date:message-id:reply-to; bh=MTpr/NKvQzkQ0aexmKwptlcsW882O5+WPz9ldZvQJUM=; b=WdbBseBOgxyPUJEFKuzVpsEwNOEUuWqVFKpybXn4sKo8MYNasj4iP1K538ZxAaiLE8 pph8FW4Zl7Xr8502haVSicYyZWo2albPpum2JmVze6XroPjNlaskh/M1wMwmgCdqjoKZ QannIHyP4Pcb9Y3w1iDbYHkSzwRcI9sSgBuKeyQxzcZDr53f1b/XB6WEFnKIZCbrSzvR BuLs+9d05dT+kkbkG1kzVxWYdYaih9BRZD7bCfSF4liycmfRh8BYIKX/Y+U1Bc+kNWf2 Kax6GplwxEQFiFFosHiUW10pJzBgiTn754PV1CzxC3gVKBAQHwTyH62deV4MiYGRJHlI 2ffA== X-Gm-Message-State: AOJu0YySpUfDMAIVq6w3z5Q+gmIHr/cqBLELQuxeJ5o3O6gqF6Aftove NaZ8uzJr2WfFDMOamMr6RiIdJMCkaopl1sxH9KK3KCdZla1PYrkzLpZBRPisL74Las3n+r5rFEz Lyaul3iZe8TPcg/ALUtrjGC1VuB4TLji6+paC+m3J5bMXCRInhWJ/NPkq X-Gm-Gg: ASbGncsuVu6T8iLLCFi3T+GW8tNqC2IeIOK7bJVIbyLPAdviKPl0f4hxBbw0sU2M6Vi CoI0vqTtY2DqIl6YSDNOmqbttQwi0gDxpdNWxDOKTQv1ArQon1pH7BdZ+u+bggSm1a4WPkgNI18 dkqE2W0Db8HGGSyi+g/FGe7xrwIid0DJJG0BjKF2v41xrtZcuYkMviA2HqdVHf8ChfNzSacUBMZ IO6GJP8fEZTvEuIhpEr3w4yh6/0mt3cTmmodz1NN6ah0plrvlmb9W7dd/N9xBS38F0WnUof8Y6m /5abwwBllcSxaju1SXDKEzhGE5OgqveeNodjWBgFBFW3nklZY3Mk X-Google-Smtp-Source: AGHT+IFUScjcOMIPZ+u4rLCRp5Ap19jVjDgPb566/IpYCA75wCA1QXN57vzyol6Y9oZxfoiw/AhtizUBPBr3 X-Received: by 2002:a05:6e02:992:b0:3d3:d163:ec84 with SMTP id e9e14a558f8ab-3d3d163eea9mr3556795ab.10.1740494409341; Tue, 25 Feb 2025 06:40:09 -0800 (PST) Received: from postal.iol.unh.edu (postal.iol.unh.edu. [2606:4100:3880:1234::84]) by smtp-relay.gmail.com with ESMTPS id 8926c6da1cb9f-4f047453f4bsm92237173.10.2025.02.25.06.40.09 (version=TLS1_2 cipher=ECDHE-ECDSA-AES128-GCM-SHA256 bits=128/128); Tue, 25 Feb 2025 06:40:09 -0800 (PST) X-Relaying-Domain: iol.unh.edu Date: Tue, 25 Feb 2025 06:40:09 -0800 (PST) Message-ID: <67bdd649.050a0220.224df3.54ffSMTPIN_ADDED_MISSING@mx.google.com> Received: from [172.21.0.8] (unknown [172.18.0.240]) by postal.iol.unh.edu (Postfix) with ESMTP id BCBF56052471; Tue, 25 Feb 2025 09:40:08 -0500 (EST) Subject: |SUCCESS| pw152019-152022 [PATCH] [4/4] app/testpmd: support disable From: dpdklab@iol.unh.edu To: Test Report Cc: dpdk-test-reports@iol.unh.edu In-Reply-To: <20250225091929.25072-5-fengchengwen@huawei.com> References: <20250225091929.25072-5-fengchengwen@huawei.com> Content-Type: text/plain X-BeenThere: test-report@dpdk.org X-Mailman-Version: 2.1.29 Precedence: list List-Id: automatic DPDK test reports List-Unsubscribe: , List-Archive: List-Post: List-Help: List-Subscribe: , Errors-To: test-report-bounces@dpdk.org Test-Label: iol-compile-arm64-testing Test-Status: SUCCESS http://dpdk.org/patch/152022 _Testing PASS_ Submitter: Chengwen Feng Date: Tuesday, February 25 2025 09:19:29 DPDK git baseline: Repo:dpdk Branch: master CommitID:fab31a03ba98e7457284df95dd9eef2223a4ccaa 152019-152022 --> testing pass Upstream job id: Generic-DPDK-Compile-Meson#365114 Test environment and result as below: +----------------------------------------+--------------------+ | Environment | dpdk_meson_compile | +========================================+====================+ | RHEL9 (ARM) | PASS | +----------------------------------------+--------------------+ | Ubuntu 20.04 ARM SVE | PASS | +----------------------------------------+--------------------+ | Ubuntu 20.04 ARM GCC Cross Compile | PASS | +----------------------------------------+--------------------+ | Fedora 40 (ARM) | PASS | +----------------------------------------+--------------------+ | Debian 12 with MUSDK | PASS | +----------------------------------------+--------------------+ | Fedora 40 (ARM Clang) | PASS | +----------------------------------------+--------------------+ | Fedora 41 (ARM) | PASS | +----------------------------------------+--------------------+ | Fedora 41 (ARM Clang) | PASS | +----------------------------------------+--------------------+ | Ubuntu 20.04 (ARM) | PASS | +----------------------------------------+--------------------+ | Ubuntu 22.04 (ARM) | PASS | +----------------------------------------+--------------------+ | Ubuntu 24.04 (ARM) | PASS | +----------------------------------------+--------------------+ | CentOS Stream 9 (ARM) | PASS | +----------------------------------------+--------------------+ | CentOS Stream 10 (ARM) | PASS | +----------------------------------------+--------------------+ | Debian 11 (Buster) (ARM) | PASS | +----------------------------------------+--------------------+ | Debian 12 (arm) | PASS | +----------------------------------------+--------------------+ | Ubuntu 20.04 ARM Clang Cross Compile | PASS | +----------------------------------------+--------------------+ | Ubuntu 20.04 aarch32 GCC Cross Compile | PASS | +----------------------------------------+--------------------+ RHEL9 (ARM) Kernel: Depends on container host Compiler: gcc 11.5.0 20240719 (Red Hat 11.5.0-2) Ubuntu 20.04 ARM SVE Kernel: Depends on container host Compiler: gcc (Ubuntu 10.5.0-1ubuntu1~20.04) 10.5.0 Ubuntu 20.04 ARM GCC Cross Compile Kernel: Depends on container host Compiler: aarch64-linux-gnu-gcc (Ubuntu 9.4.0-1ubuntu1~20.04.2) 9.4.0 Fedora 40 (ARM) Kernel: Depends on container host Compiler: gcc 14.2.1 20240912 (Red Hat 14.2.1-3) Debian 12 with MUSDK Kernel: Depends on container host Compiler: gcc (Debian 12.2.0-14) 12.2.0 Fedora 40 (ARM Clang) Kernel: Depends on container host Compiler: clang 18.1.8 (Fedora 18.1.8-1.fc40) Fedora 41 (ARM) Kernel: Depends on container host Compiler: gcc 14.2.1 20240912 (Red Hat 14.2.1-3) Fedora 41 (ARM Clang) Kernel: Depends on container host Compiler: clang 19.1.5 (Fedora 19.1.5-1.fc41) Ubuntu 20.04 (ARM) Kernel: Depends on container host Compiler: gcc (Ubuntu 9.4.0-1ubuntu1~20.04.2) 9.4.0 Ubuntu 22.04 (ARM) Kernel: Depends on container host Compiler: gcc (Ubuntu 11.4.0-1ubuntu1~22.04) 11.4.0 Ubuntu 24.04 (ARM) Kernel: Depends on container host Compiler: gcc (Ubuntu 13.3.0-6ubuntu2~24.04) 13.3.0 CentOS Stream 9 (ARM) Kernel: Depends on container host Compiler: gcc 11.5.0 20240719 (Red Hat 11.5.0-2) CentOS Stream 10 (ARM) Kernel: Depends on container host Compiler: gcc 14.2.1 20241104 (Red Hat 14.2.1-6) Debian 11 (Buster) (ARM) Kernel: Depends on container host Compiler: gcc (Debian 10.2.1-6) 10.2.1 20210110 Debian 12 (arm) Kernel: Depends on container host Compiler: gcc (Debian 12.2.0-14) 12.2.0 Ubuntu 20.04 ARM Clang Cross Compile Kernel: Depends on container host Compiler: clang 10.0.0-4ubuntu1 Ubuntu 20.04 aarch32 GCC Cross Compile Kernel: Depends on container host Compiler: gcc 9.4.0 To view detailed results, visit: https://lab.dpdk.org/results/dashboard/patchsets/32677/ UNH-IOL DPDK Community Lab To manage your email subscriptions, visit: https://lab.dpdk.org/results/dashboard/preferences/subscriptions/