From mboxrd@z Thu Jan 1 00:00:00 1970 Return-Path: Received: from mails.dpdk.org (mails.dpdk.org [217.70.189.124]) by inbox.dpdk.org (Postfix) with ESMTP id DAC28462B0 for ; Tue, 25 Feb 2025 15:52:17 +0100 (CET) Received: from mails.dpdk.org (localhost [127.0.0.1]) by mails.dpdk.org (Postfix) with ESMTP id B28A3402D2; Tue, 25 Feb 2025 15:52:17 +0100 (CET) Received: from mail-yw1-f227.google.com (mail-yw1-f227.google.com [209.85.128.227]) by mails.dpdk.org (Postfix) with ESMTP id 2BD44402AE for ; Tue, 25 Feb 2025 15:52:16 +0100 (CET) Received: by mail-yw1-f227.google.com with SMTP id 00721157ae682-6f4434b5305so48151397b3.3 for ; Tue, 25 Feb 2025 06:52:16 -0800 (PST) DKIM-Signature: v=1; a=rsa-sha256; c=relaxed/relaxed; d=iol.unh.edu; s=unh-iol; t=1740495135; x=1741099935; darn=dpdk.org; h=references:in-reply-to:cc:to:from:subject:message-id:date:from:to :cc:subject:date:message-id:reply-to; bh=RL5e2o/rLYikxQg9EajKdS1gYAO8lBK7/5tylMthgRg=; b=hlsdL5yybwFt5y82hAnK23+72DcA024L8XR86qc+dc7S6ZIkzXQePMFXBT8pq4R/cy auhCHIKOhlsHVhRtbLf2RDytX/Q++4WxjAqDozaUSW83h8x34x7EwdlyB9zP16M4jWbF cpIT2ZpsEIPfQ8E1+hBp1frplcn9gC0sgaPEI= X-Google-DKIM-Signature: v=1; a=rsa-sha256; c=relaxed/relaxed; d=1e100.net; s=20230601; t=1740495135; x=1741099935; h=references:in-reply-to:cc:to:from:subject:message-id:date :x-gm-message-state:from:to:cc:subject:date:message-id:reply-to; bh=RL5e2o/rLYikxQg9EajKdS1gYAO8lBK7/5tylMthgRg=; b=KqsXltVcsr5k7z3C6VaOg1UuuBdEGit8jNFyRzMi1vZxH0s0YV6+N/ixe7pulL8w+Z rOxVAwjn2NhvMdfC93T7yv+FvuhqPn2QmWHWfa6xba4Fks1t/vlUIHklptBRQl4aNLOf ahkaJWoTMavwavH1qPt4vCug+B9xlaj8u47ULvzoSTZCjPLvHYgdcMnnFVWAWCNgJ5px UHrwtJaPQFyNF5FEoapWUQROi5yTuLLJGQIqJ+tFcv/SpVPVEPDAfto3ixixIEAE5rPV 6GGmtZX72wfYIl/z6+bANF69ht41WJ7zGjCzOeW07IEPTRQQvqjvMA4mvw0oClc0TpoI 4tyQ== X-Gm-Message-State: AOJu0Yxc9AgIrbSdGso+gogsIj77iUmu28BxtgoFTRCpdPCnghXPqeH+ m4qmx42bOh3CgnR2NyE+JvqR95D+pe+0DOImKqkygPA39u40HWoVFpSb29FvXNH1uDtbXfW8CQ7 h8E3buONuUO28s87wF/aNMbr2lP8f9nRrGzVuWvX7uxwiuzwDutVobFKi X-Gm-Gg: ASbGncv9xMCgPFpgvWk3iCTVcFsJMjDqqsJWwt8FFP5aZrMnz5la9OGfSsjqrr7RD9J lA33pEX43AsVNIlcCI6LVSPecnRtRUAFCvQcvkhvNJ/RoKYdGY2iJqOfoOqdkPPq8shRCqLmXKo TLWGQ9gbnVVppyXSKZIxa9/TFXHL87qqtHTClQJC3eR1exi7pXQGVve7J9Ls58X7hm4dlZYUAFw UsNBKQ0HLSJLiLrEjMUNhT9FJkG+7unr0oW9/KjYYQNLpG5JFpmjhL5gF1Zv9duB38Na/vxskyD j6PXUawYUzmDBU1J7Bx7yyG7fjjCDpwPmW4PszoFOkXB475RMjtK X-Google-Smtp-Source: AGHT+IFgb1yqcBgRDHIqjwl2S5+WtwIBXI/+gW5PTyErxs2NaWEShK3f/mk6XAW+ShZwco27TudzNs7YbmxE X-Received: by 2002:a05:690c:28b:b0:6f7:55a2:4cd8 with SMTP id 00721157ae682-6fd109aae04mr27040367b3.5.1740495134026; Tue, 25 Feb 2025 06:52:14 -0800 (PST) Received: from postal.iol.unh.edu (postal.iol.unh.edu. [2606:4100:3880:1234::84]) by smtp-relay.gmail.com with ESMTPS id 00721157ae682-6fd116e6394sm475257b3.30.2025.02.25.06.52.13 (version=TLS1_2 cipher=ECDHE-ECDSA-AES128-GCM-SHA256 bits=128/128); Tue, 25 Feb 2025 06:52:14 -0800 (PST) X-Relaying-Domain: iol.unh.edu Date: Tue, 25 Feb 2025 06:52:14 -0800 (PST) Message-ID: <67bdd91e.050a0220.2eaec4.2ab2SMTPIN_ADDED_MISSING@mx.google.com> Received: from [172.21.0.8] (unknown [172.18.0.240]) by postal.iol.unh.edu (Postfix) with ESMTP id 9693E6052471; Tue, 25 Feb 2025 09:52:13 -0500 (EST) Subject: |SUCCESS| pw152023 [PATCH] [v2] net/ixgbe: fix min Rx/Tx descriptors From: dpdklab@iol.unh.edu To: Test Report Cc: dpdk-test-reports@iol.unh.edu In-Reply-To: <20250225091236.357008-1-mingjinx.ye@intel.com> References: <20250225091236.357008-1-mingjinx.ye@intel.com> Content-Type: text/plain X-BeenThere: test-report@dpdk.org X-Mailman-Version: 2.1.29 Precedence: list List-Id: automatic DPDK test reports List-Unsubscribe: , List-Archive: List-Post: List-Help: List-Subscribe: , Errors-To: test-report-bounces@dpdk.org Test-Label: iol-unit-amd64-testing Test-Status: SUCCESS http://dpdk.org/patch/152023 _Testing PASS_ Submitter: Mingjin Ye Date: Tuesday, February 25 2025 09:12:36 DPDK git baseline: Repo:dpdk Branch: master CommitID:138c5eab9a55b3007d2b9748769c6c2e48f2a92a 152023 --> testing pass Upstream job id: Generic-Unit-Test-DPDK#318363 Test environment and result as below: +---------------------+----------------+ | Environment | dpdk_unit_test | +=====================+================+ | CentOS Stream 9 | PASS | +---------------------+----------------+ | CentOS Stream 10 | PASS | +---------------------+----------------+ | Debian Bullseye | PASS | +---------------------+----------------+ | Fedora 40 | PASS | +---------------------+----------------+ | Debian 12 | PASS | +---------------------+----------------+ | Fedora 41 | PASS | +---------------------+----------------+ | Fedora 40 (Clang) | PASS | +---------------------+----------------+ | Fedora 41 (Clang) | PASS | +---------------------+----------------+ | Ubuntu 20.04 | PASS | +---------------------+----------------+ | RHEL9 | PASS | +---------------------+----------------+ | Ubuntu 22.04 | PASS | +---------------------+----------------+ | RHEL8 | PASS | +---------------------+----------------+ | Ubuntu 24.04 | PASS | +---------------------+----------------+ | Windows Server 2022 | PASS | +---------------------+----------------+ CentOS Stream 9 Kernel: Depends on container host Compiler: gcc 11.5.0 20240719 (Red Hat 11.5.0-2) CentOS Stream 10 Kernel: Depends on container host Compiler: gcc 14.2.1 20241104 (Red Hat 14.2.1-6) Debian Bullseye Kernel: Depends on container host Compiler: gcc (Debian 10.2.1-6) 10.2.1 20210110 Fedora 40 Kernel: Depends on container host Compiler: gcc 14.2.1 20240912 (Red Hat 14.2.1-3) Debian 12 Kernel: Depends on container host Compiler: gcc (Debian 12.2.0-14) 12.2.0 Fedora 41 Kernel: Depends on container host Compiler: gcc 14.2.1 20240912 (Red Hat 14.2.1-3) Fedora 40 (Clang) Kernel: Depends on container host Compiler: clang 18.1.8 (Fedora 18.1.8-1.fc40) Fedora 41 (Clang) Kernel: Depends on container host Compiler: clang 19.1.5 (Fedora 19.1.5-1.fc41) Ubuntu 20.04 Kernel: Depends on container host Compiler: gcc (Ubuntu 9.4.0-1ubuntu1~20.04.2) 9.4.0 RHEL9 Kernel: Depends on container host Compiler: gcc 11.5.0 20240719 (Red Hat 11.5.0-2) Ubuntu 22.04 Kernel: Depends on container host Compiler: gcc (Ubuntu 11.4.0-1ubuntu1~22.04) 11.4.0 RHEL8 Kernel: Depends on container host Compiler: gcc 8.5.0 20210514 (Red Hat 8.5.0-22) Ubuntu 24.04 Kernel: Depends on container host Compiler: gcc (Ubuntu 13.3.0-6ubuntu2~24.04) 13.3.0 Windows Server 2022 Kernel: 10.0.20348.2031 Compiler: clang 15.0.7, gcc 14.1.0 (MinGW), and MSVC VS 19.39.33521 To view detailed results, visit: https://lab.dpdk.org/results/dashboard/patchsets/32678/ UNH-IOL DPDK Community Lab To manage your email subscriptions, visit: https://lab.dpdk.org/results/dashboard/preferences/subscriptions/