From mboxrd@z Thu Jan 1 00:00:00 1970 Return-Path: Received: from mails.dpdk.org (mails.dpdk.org [217.70.189.124]) by inbox.dpdk.org (Postfix) with ESMTP id 2ACB5462B0 for ; Tue, 25 Feb 2025 15:55:20 +0100 (CET) Received: from mails.dpdk.org (localhost [127.0.0.1]) by mails.dpdk.org (Postfix) with ESMTP id 0FB55402D2; Tue, 25 Feb 2025 15:55:20 +0100 (CET) Received: from mail-il1-f226.google.com (mail-il1-f226.google.com [209.85.166.226]) by mails.dpdk.org (Postfix) with ESMTP id 50791402AE for ; Tue, 25 Feb 2025 15:55:18 +0100 (CET) Received: by mail-il1-f226.google.com with SMTP id e9e14a558f8ab-3cf82bd380bso49150525ab.0 for ; Tue, 25 Feb 2025 06:55:18 -0800 (PST) DKIM-Signature: v=1; a=rsa-sha256; c=relaxed/relaxed; d=iol.unh.edu; s=unh-iol; t=1740495317; x=1741100117; darn=dpdk.org; h=references:in-reply-to:cc:to:from:subject:message-id:date:from:to :cc:subject:date:message-id:reply-to; bh=ylHqKZm/7Oy9fPt9KphyO9tZ4Iinr0s1seVjG3EGBbQ=; b=UP6GvA6RgxvQtlg6j5Akiapfvt2LogBnst4cSo4MrV1k5Xn9y72P2hI8t5UE1k1tvj I/pmb2lwoK60B29Ai+nWFnbLfa/Hvex5ivd1f4srNW6nzUEkqdOyiU8vGHBLxRaGHfbr SZIh9GoZG5Z/UKj72H+ozUnQR00RypMd+sCDY= X-Google-DKIM-Signature: v=1; a=rsa-sha256; c=relaxed/relaxed; d=1e100.net; s=20230601; t=1740495317; x=1741100117; h=references:in-reply-to:cc:to:from:subject:message-id:date :x-gm-message-state:from:to:cc:subject:date:message-id:reply-to; bh=ylHqKZm/7Oy9fPt9KphyO9tZ4Iinr0s1seVjG3EGBbQ=; b=KHSyYxYzmEz3wAPwhWmKIY6eOVnYSicSOV3RBTDDw60k2OFYfTrwWU8ak3XPTlmhCL x5wKMrIqzAca5P/dg9crgZiSjkF1WknQhRWF3ItLbucJnF1+fknjfW7kT9rBh2IrhCut lc7HWBsFNZY6T3b0H1H9ypBVmwwqBVft59/hoSX9p88pyRvGE3A4PfWi2qkmZ3h8cjLe B/UG2KrchIMw0EgF6vpBYzfTXkVod0jwV50le0YtC3AKSvF0tnXS9gBrPFXbP5H5glgH eAT4/vjtLOmAoWrJdrqXM0ES7atPlz8zflH+t7tmB2WHNnjUyLz3ekEmcHIxUY/IMtWc uj5Q== X-Gm-Message-State: AOJu0YzdxjB7/iPcuvwb+2Ax44u6hfPQbH31jaZPD8bDQCedVdigJjN5 as+08d9u644ugkE6+YlOqRPkxuEQiZ5UZQGxdeF0Xj2WImc1rkKTO5+ID2QdQ2JkgAlRw3FPhlR ADVmoRhkvBSoyVHydVSC4AUpGemL0JZMJnWA/ZCNv X-Gm-Gg: ASbGnctLHQg6cfeIgBqDuLStgIE1XCZ0lzHVEqRUVQKJ250wX5mui+3UIHTEpr+dsFm AKQMmjMHN+B09KZx7wWIENPF07gioIPNQG1WzJQd+VqNg65j/jia3xy9hEsEPUV0fW9XFt7zOx5 PAZo3OtjP2YevELzg675TUtYlhYeRDBqg8xj8AU/+UaE04RCC/nmAR/hbOYsTyqZRtF7mb3GZfN H4x9cSNd/x6P2iBIf6PKxYDCupPclfkh/MQNNx2q5P7LC4ckOM7b7S5Dw2AdZYNumTrQTxDf3I7 uIeuRQ7IehWtDNHXpVWWWp/5JYvKLC/BykSE+/n1 X-Google-Smtp-Source: AGHT+IE7vb9/SC6owHC6I8FTtheAqgtG+D6OxkejEGgUMORg9gfOO3ewqg5apNzrXtyU+mUymY2NzG/HsQna X-Received: by 2002:a05:6e02:138a:b0:3d2:b72d:a502 with SMTP id e9e14a558f8ab-3d2cb5450f2mr189190975ab.22.1740495317587; Tue, 25 Feb 2025 06:55:17 -0800 (PST) Received: from postal.iol.unh.edu (postal.iol.unh.edu. [132.177.123.84]) by smtp-relay.gmail.com with ESMTPS id e9e14a558f8ab-3d361651f8esm914575ab.20.2025.02.25.06.55.17 (version=TLS1_2 cipher=ECDHE-ECDSA-AES128-GCM-SHA256 bits=128/128); Tue, 25 Feb 2025 06:55:17 -0800 (PST) X-Relaying-Domain: iol.unh.edu Date: Tue, 25 Feb 2025 06:55:17 -0800 (PST) Message-ID: <67bdd9d5.050a0220.269740.53bcSMTPIN_ADDED_MISSING@mx.google.com> Received: from [172.21.0.8] (unknown [172.18.0.240]) by postal.iol.unh.edu (Postfix) with ESMTP id 26CA26052471; Tue, 25 Feb 2025 09:55:17 -0500 (EST) Subject: |SUCCESS| pw152023 [PATCH] [v2] net/ixgbe: fix min Rx/Tx descriptors From: dpdklab@iol.unh.edu To: Test Report Cc: dpdk-test-reports@iol.unh.edu In-Reply-To: <20250225091236.357008-1-mingjinx.ye@intel.com> References: <20250225091236.357008-1-mingjinx.ye@intel.com> Content-Type: text/plain X-BeenThere: test-report@dpdk.org X-Mailman-Version: 2.1.29 Precedence: list List-Id: automatic DPDK test reports List-Unsubscribe: , List-Archive: List-Post: List-Help: List-Subscribe: , Errors-To: test-report-bounces@dpdk.org Test-Label: iol-unit-amd64-testing Test-Status: SUCCESS http://dpdk.org/patch/152023 _Testing PASS_ Submitter: Mingjin Ye Date: Tuesday, February 25 2025 09:12:36 DPDK git baseline: Repo:dpdk Branch: master CommitID:138c5eab9a55b3007d2b9748769c6c2e48f2a92a 152023 --> testing pass Upstream job id: Generic-VM-Unit-Test-DPDK#27363 Test environment and result as below: +---------------------+----------------+ | Environment | dpdk_unit_test | +=====================+================+ | CentOS Stream 9 | PASS | +---------------------+----------------+ | CentOS Stream 10 | PASS | +---------------------+----------------+ | Debian Bullseye | PASS | +---------------------+----------------+ | Fedora 40 | PASS | +---------------------+----------------+ | Debian 12 | PASS | +---------------------+----------------+ | Fedora 41 | PASS | +---------------------+----------------+ | Fedora 40 (Clang) | PASS | +---------------------+----------------+ | Fedora 41 (Clang) | PASS | +---------------------+----------------+ | Ubuntu 20.04 | PASS | +---------------------+----------------+ | RHEL9 | PASS | +---------------------+----------------+ | Ubuntu 22.04 | PASS | +---------------------+----------------+ | RHEL8 | PASS | +---------------------+----------------+ | Ubuntu 24.04 | PASS | +---------------------+----------------+ | Windows Server 2022 | PASS | +---------------------+----------------+ CentOS Stream 9 Kernel: Depends on container host Compiler: gcc 11.5.0 20240719 (Red Hat 11.5.0-2) CentOS Stream 10 Kernel: Depends on container host Compiler: gcc 14.2.1 20241104 (Red Hat 14.2.1-6) Debian Bullseye Kernel: Depends on container host Compiler: gcc (Debian 10.2.1-6) 10.2.1 20210110 Fedora 40 Kernel: Depends on container host Compiler: gcc 14.2.1 20240912 (Red Hat 14.2.1-3) Debian 12 Kernel: Depends on container host Compiler: gcc (Debian 12.2.0-14) 12.2.0 Fedora 41 Kernel: Depends on container host Compiler: gcc 14.2.1 20240912 (Red Hat 14.2.1-3) Fedora 40 (Clang) Kernel: Depends on container host Compiler: clang 18.1.8 (Fedora 18.1.8-1.fc40) Fedora 41 (Clang) Kernel: Depends on container host Compiler: clang 19.1.5 (Fedora 19.1.5-1.fc41) Ubuntu 20.04 Kernel: Depends on container host Compiler: gcc (Ubuntu 9.4.0-1ubuntu1~20.04.2) 9.4.0 RHEL9 Kernel: Depends on container host Compiler: gcc 11.5.0 20240719 (Red Hat 11.5.0-2) Ubuntu 22.04 Kernel: Depends on container host Compiler: gcc (Ubuntu 11.4.0-1ubuntu1~22.04) 11.4.0 RHEL8 Kernel: Depends on container host Compiler: gcc 8.5.0 20210514 (Red Hat 8.5.0-22) Ubuntu 24.04 Kernel: Depends on container host Compiler: gcc (Ubuntu 13.3.0-6ubuntu2~24.04) 13.3.0 Windows Server 2022 Kernel: 10.0.20348.2031 Compiler: clang 15.0.7, gcc 14.1.0 (MinGW), and MSVC VS 19.39.33521 To view detailed results, visit: https://lab.dpdk.org/results/dashboard/patchsets/32678/ UNH-IOL DPDK Community Lab To manage your email subscriptions, visit: https://lab.dpdk.org/results/dashboard/preferences/subscriptions/