From mboxrd@z Thu Jan 1 00:00:00 1970 Return-Path: Received: from mails.dpdk.org (mails.dpdk.org [217.70.189.124]) by inbox.dpdk.org (Postfix) with ESMTP id 42E17462B0 for ; Tue, 25 Feb 2025 15:56:34 +0100 (CET) Received: from mails.dpdk.org (localhost [127.0.0.1]) by mails.dpdk.org (Postfix) with ESMTP id 39C51402D2; Tue, 25 Feb 2025 15:56:34 +0100 (CET) Received: from mail-pl1-f225.google.com (mail-pl1-f225.google.com [209.85.214.225]) by mails.dpdk.org (Postfix) with ESMTP id 79C04402AE for ; Tue, 25 Feb 2025 15:56:32 +0100 (CET) Received: by mail-pl1-f225.google.com with SMTP id d9443c01a7336-22128b7d587so111861465ad.3 for ; Tue, 25 Feb 2025 06:56:32 -0800 (PST) DKIM-Signature: v=1; a=rsa-sha256; c=relaxed/relaxed; d=iol.unh.edu; s=unh-iol; t=1740495391; x=1741100191; darn=dpdk.org; h=references:in-reply-to:cc:to:from:subject:message-id:date:from:to :cc:subject:date:message-id:reply-to; bh=xFv357yUpL/eJqd3D2ioOPKooGD5zn1cycQQHVgsnsE=; b=ON/oOi45Gp2m4tb81DQiTTxI0lvG27zUZu/0EYHbWZ46QkH+lSJFIzcXfOk/kS0rPR CJ8jbHBOyMQGBdaf63QiD2rqVHkthtHelVaTgTp1JjIgZ09kWIS2r9HlOJX1KoceLBKV L34D/Plk93TsvQduUOLYQitrGZ12kEQGN1sls= X-Google-DKIM-Signature: v=1; a=rsa-sha256; c=relaxed/relaxed; d=1e100.net; s=20230601; t=1740495391; x=1741100191; h=references:in-reply-to:cc:to:from:subject:message-id:date :x-gm-message-state:from:to:cc:subject:date:message-id:reply-to; bh=xFv357yUpL/eJqd3D2ioOPKooGD5zn1cycQQHVgsnsE=; b=hFIaG/9EWOxOiZYLj/Zlg/UF39T8NXqAkyTS5UBBf+8TmFRgcwCO4xgxW9Zpsgbdip 75QFkCEqpJkCPBfm4FknAylBx9nEcJYbc+9u5mPf35piygc4i0obNnm1sWZBlbbsZ/qJ EFYWdiex0XGFFQJzBkDwr7i3SIomaVZwo3ZQIeSWkpojbSd1y5WElrDqo1S/45/0MG+F c6Pfa33ze49Q6+Vt3ZRtwwB82dCk9ImZekDwNf/A6QVH72Z3CekaUS0DeqdtzPhNf3nn z0aHX3ptyzbO/3fAdE2HACfUA5NQaZilt73qm7LFyWgm4TKHbCxWceStElHoeWChwNpG FYeg== X-Gm-Message-State: AOJu0YzW8QpRLzmbVacmSukRs20gzh1sxDYhQA8DozcWSCz+YLKwsyly BPdkOtiURGCyPxqRwFxcvHIRpg60+F9+JJ6Wovy2Vy/ZkIR8OdUOGjb9TxepVKJxpu69hUqKnLu ixn5GBx9tOxjltR++fhHN+51MPWGz0JJnrmC16ntH X-Gm-Gg: ASbGncsCgls1ZC21e8nRoOoME375UWqPg5YUjxYtHswtOxozNdCNfJTbdVuuU4uYVze 8tmRT2NZX01G10JXElicqCxEpCB+LM+Gy6WXg3nuqkMbaTZdarjrMiQUPRc0yY7zn15MwTLlUW4 l4HHH3YAcwtAh1jXqTHqcTJp85YdtzZ8ldLIKyjkZmkTNlztLjmaiS3m/neBpYKa3teJ0l0tiR2 AAnqyvmltswYewRITlNMEzdqxVUzUTlqBDxW2IyhVMJ/9pfx9BMV0F9sRrF+MIIMSOZELrEuZdq 8DHtPpU3EGcXvZjIMjMV4KNwBHDY0iIFtU4Xmjy4 X-Google-Smtp-Source: AGHT+IETDFjM6eU6bVcwesjN0WNyuUUbx5vxCcT0x7frDGp8F4DVKkE8txtF8AoUhApiw2U4eWfOKtTsVvwv X-Received: by 2002:a05:6a21:a41:b0:1ee:7af6:6983 with SMTP id adf61e73a8af0-1eef3cb382dmr33864071637.24.1740495391568; Tue, 25 Feb 2025 06:56:31 -0800 (PST) Received: from postal.iol.unh.edu (postal.iol.unh.edu. [132.177.123.84]) by smtp-relay.gmail.com with ESMTPS id d2e1a72fcca58-7347a6ad9d4sm89164b3a.5.2025.02.25.06.56.31 (version=TLS1_2 cipher=ECDHE-ECDSA-AES128-GCM-SHA256 bits=128/128); Tue, 25 Feb 2025 06:56:31 -0800 (PST) X-Relaying-Domain: iol.unh.edu Date: Tue, 25 Feb 2025 06:56:31 -0800 (PST) Message-ID: <67bdda1f.050a0220.1fb379.56d7SMTPIN_ADDED_MISSING@mx.google.com> Received: from [172.21.0.7] (unknown [172.18.0.240]) by postal.iol.unh.edu (Postfix) with ESMTP id 94CE06052471; Tue, 25 Feb 2025 09:56:30 -0500 (EST) Subject: |SUCCESS| pw152024 [PATCH] dts: add TG setup and teardown From: dpdklab@iol.unh.edu To: Test Report Cc: dpdk-test-reports@iol.unh.edu In-Reply-To: <20250225102222.345716-1-luca.vizzarro@arm.com> References: <20250225102222.345716-1-luca.vizzarro@arm.com> Content-Type: text/plain X-BeenThere: test-report@dpdk.org X-Mailman-Version: 2.1.29 Precedence: list List-Id: automatic DPDK test reports List-Unsubscribe: , List-Archive: List-Post: List-Help: List-Subscribe: , Errors-To: test-report-bounces@dpdk.org Test-Label: iol-abi-testing Test-Status: SUCCESS http://dpdk.org/patch/152024 _Testing PASS_ Submitter: Luca Vizzarro Date: Tuesday, February 25 2025 10:22:22 DPDK git baseline: Repo:dpdk Branch: master CommitID:bdc023381a2c719fa6cb0e1c60aebd9c8c4afa21 152024 --> testing pass Upstream job id: Generic-DPDK-Compile-ABI#117717 Test environment and result as below: +-------------------+----------+ | Environment | abi_test | +===================+==========+ | openSUSE Leap 15 | PASS | +-------------------+----------+ | Fedora 40 (Clang) | PASS | +-------------------+----------+ | RHEL9 | PASS | +-------------------+----------+ | Ubuntu 24.04 | PASS | +-------------------+----------+ openSUSE Leap 15 Kernel: Depends on container host Compiler: gcc (SUSE Linux) 7.5.0 Fedora 40 (Clang) Kernel: Depends on container host Compiler: clang 18.1.8 (Fedora 18.1.8-1.fc40) RHEL9 Kernel: Depends on container host Compiler: gcc 11.5.0 20240719 (Red Hat 11.5.0-2) Ubuntu 24.04 Kernel: Depends on container host Compiler: gcc (Ubuntu 13.3.0-6ubuntu2~24.04) 13.3.0 To view detailed results, visit: https://lab.dpdk.org/results/dashboard/patchsets/32679/ UNH-IOL DPDK Community Lab To manage your email subscriptions, visit: https://lab.dpdk.org/results/dashboard/preferences/subscriptions/