From mboxrd@z Thu Jan 1 00:00:00 1970 Return-Path: Received: from mails.dpdk.org (mails.dpdk.org [217.70.189.124]) by inbox.dpdk.org (Postfix) with ESMTP id 33A7C462BA for ; Tue, 25 Feb 2025 16:52:51 +0100 (CET) Received: from mails.dpdk.org (localhost [127.0.0.1]) by mails.dpdk.org (Postfix) with ESMTP id 2F2C640299; Tue, 25 Feb 2025 16:52:51 +0100 (CET) Received: from mail-pl1-f225.google.com (mail-pl1-f225.google.com [209.85.214.225]) by mails.dpdk.org (Postfix) with ESMTP id A3D544025E for ; Tue, 25 Feb 2025 16:52:49 +0100 (CET) Received: by mail-pl1-f225.google.com with SMTP id d9443c01a7336-22114b800f7so116335505ad.2 for ; Tue, 25 Feb 2025 07:52:49 -0800 (PST) DKIM-Signature: v=1; a=rsa-sha256; c=relaxed/relaxed; d=iol.unh.edu; s=unh-iol; t=1740498768; x=1741103568; darn=dpdk.org; h=references:in-reply-to:cc:to:from:subject:message-id:date:from:to :cc:subject:date:message-id:reply-to; bh=Am3/6am39aNrCtmKVHXJEsoe6wsZrRH+hzX1hXSeFF4=; b=JdNYic4Z8MPmPCDrJHi80qQydQIclXRWUsUubcpBrpurjksrF76SgT18ViKfP0vRPk h2bpF0hOTZfS90p2n3YRSO6gbsH5O+IAsWSzM/ghfSrvW5azCOJFRYOlCVyUX0C76H8d cZpzBssVMxGJu8hYZHzCNJEWAb0zqxxVhGCcQ= X-Google-DKIM-Signature: v=1; a=rsa-sha256; c=relaxed/relaxed; d=1e100.net; s=20230601; t=1740498768; x=1741103568; h=references:in-reply-to:cc:to:from:subject:message-id:date :x-gm-message-state:from:to:cc:subject:date:message-id:reply-to; bh=Am3/6am39aNrCtmKVHXJEsoe6wsZrRH+hzX1hXSeFF4=; b=kEmJx2eTq/Ok5n/mB23UJWWLS/8ew4geqcpr3dp2LaPzMAhdzih6wc9/2zGAQR6o96 XNVYOXRPkwze1jUsr1ml+pHljZg6D5vBbbQtmlidiqTnBlF94NF72Ptz5/+EC79pPBne Ro+3qr/rnc0OYc40PM6nO9hHxE49RtXSRbR0W+oJU0acH/HnG030iux+Axr5Yi0ze6NH E9q/JH+OOcPXC0uJfBH7Lw2BOYTv0/i4ZlA9ZQMCqrUCwaVOXzfVFBfoGg7/eXRdB8K/ 2teESFjfIWw8YIbVJT7iU6XCZyOR4bs/Pmj4Wvu81CFwkqPi8IV3ckkeLa0cOrnib2/S QmqA== X-Gm-Message-State: AOJu0YwrmAyOgr9L+bJ2HzNyvrPFVQ5h7hDmQvJbG7+L6GO7CkigBTDS 6z/JtM/mE8kLc2gUgO11FqClsVO88wcDYmdl9lJGs/kQhyDAJtnGNcGwETSke1nYL+NH/aKv2k8 Jj0skVXHhCe/uA0PRlO8UaQK06JcPo4ZXjTfr7Jfh X-Gm-Gg: ASbGncuJfzVUMnb7W3VBjXjlpI411DXl3rV0HElZXDBaDlAlQmK5v6ixHGzRq1yJ+f4 CA1oPkdRtfJYmmdLFaI7nvLlmsAofybokxmqypRwH4vYcJ+0R6vbRZfxRXqqh/HF1zUOCaa0t4F /MOptXxXm44uqHrxoqu5TxDdQyMMxkjRlO6QDeGMTieQJy/ApiU/9pxczzuMtWQ4rJvhJWzptZz p9FYxxQdyQcfSHivRTo6bno0nFCNlwuAYjgzIWQbZyajhZrTQnYQmoVX8kOF9pmiqYZNmSyAVgv IjRhqg3uTzk+L7/tYoYF6PVsSMfNJIsbwDeLbwpv X-Google-Smtp-Source: AGHT+IFC5yLIbpL2KLjDzeWy05xx8ms3VmO1Xd99T/Jn8Ayas5eNZs7JN3/hBeRD48Csbl/kk3ezGfLGjL0b X-Received: by 2002:a05:6a20:7f81:b0:1ee:c6bf:7c49 with SMTP id adf61e73a8af0-1eef3c490efmr36407104637.6.1740498768518; Tue, 25 Feb 2025 07:52:48 -0800 (PST) Received: from postal.iol.unh.edu (postal.iol.unh.edu. [132.177.123.84]) by smtp-relay.gmail.com with ESMTPS id d2e1a72fcca58-7347a73477csm100633b3a.13.2025.02.25.07.52.48 (version=TLS1_2 cipher=ECDHE-ECDSA-AES128-GCM-SHA256 bits=128/128); Tue, 25 Feb 2025 07:52:48 -0800 (PST) X-Relaying-Domain: iol.unh.edu Date: Tue, 25 Feb 2025 07:52:48 -0800 (PST) Message-ID: <67bde750.050a0220.18aad7.5cbfSMTPIN_ADDED_MISSING@mx.google.com> Received: from [172.21.0.8] (unknown [172.18.0.240]) by postal.iol.unh.edu (Postfix) with ESMTP id 984DA6052471; Tue, 25 Feb 2025 10:52:47 -0500 (EST) Subject: |SUCCESS| pw152023 [PATCH] [v2] net/ixgbe: fix min Rx/Tx descriptors From: dpdklab@iol.unh.edu To: Test Report Cc: dpdk-test-reports@iol.unh.edu In-Reply-To: <20250225091236.357008-1-mingjinx.ye@intel.com> References: <20250225091236.357008-1-mingjinx.ye@intel.com> Content-Type: text/plain X-BeenThere: test-report@dpdk.org X-Mailman-Version: 2.1.29 Precedence: list List-Id: automatic DPDK test reports List-Unsubscribe: , List-Archive: List-Post: List-Help: List-Subscribe: , Errors-To: test-report-bounces@dpdk.org Test-Label: iol-compile-amd64-testing Test-Status: SUCCESS http://dpdk.org/patch/152023 _Testing PASS_ Submitter: Mingjin Ye Date: Tuesday, February 25 2025 09:12:36 DPDK git baseline: Repo:dpdk Branch: master CommitID:138c5eab9a55b3007d2b9748769c6c2e48f2a92a 152023 --> testing pass Upstream job id: Generic-DPDK-Compile-Meson#365138 Test environment and result as below: +---------------------+--------------------+-------------------+------------------+-------------------+ | Environment | dpdk_meson_compile | dpdk_compile_spdk | dpdk_compile_ovs | dpdk_msvc_compile | +=====================+====================+===================+==================+===================+ | CentOS Stream 9 | PASS | PASS | SKIPPED | SKIPPED | +---------------------+--------------------+-------------------+------------------+-------------------+ | Debian Bullseye | PASS | PASS | SKIPPED | SKIPPED | +---------------------+--------------------+-------------------+------------------+-------------------+ | CentOS Stream 10 | PASS | SKIPPED | SKIPPED | SKIPPED | +---------------------+--------------------+-------------------+------------------+-------------------+ | Debian 12 | PASS | PASS | SKIPPED | SKIPPED | +---------------------+--------------------+-------------------+------------------+-------------------+ | Fedora 40 (Clang) | PASS | PASS | SKIPPED | SKIPPED | +---------------------+--------------------+-------------------+------------------+-------------------+ | Fedora 40 | PASS | PASS | SKIPPED | SKIPPED | +---------------------+--------------------+-------------------+------------------+-------------------+ | Fedora 41 (Clang) | PASS | PASS | PASS | SKIPPED | +---------------------+--------------------+-------------------+------------------+-------------------+ | openSUSE Leap 15 | PASS | SKIPPED | SKIPPED | SKIPPED | +---------------------+--------------------+-------------------+------------------+-------------------+ | Fedora 41 | PASS | PASS | PASS | SKIPPED | +---------------------+--------------------+-------------------+------------------+-------------------+ | RHEL8 | PASS | SKIPPED | SKIPPED | SKIPPED | +---------------------+--------------------+-------------------+------------------+-------------------+ | RHEL9 | PASS | SKIPPED | SKIPPED | SKIPPED | +---------------------+--------------------+-------------------+------------------+-------------------+ | Ubuntu 20.04 | PASS | SKIPPED | SKIPPED | SKIPPED | +---------------------+--------------------+-------------------+------------------+-------------------+ | Ubuntu 22.04 | PASS | PASS | SKIPPED | SKIPPED | +---------------------+--------------------+-------------------+------------------+-------------------+ | Ubuntu 24.04 | PASS | PASS | PASS | SKIPPED | +---------------------+--------------------+-------------------+------------------+-------------------+ | Alpine | PASS | SKIPPED | SKIPPED | SKIPPED | +---------------------+--------------------+-------------------+------------------+-------------------+ | FreeBSD 13.4 | PASS | SKIPPED | SKIPPED | SKIPPED | +---------------------+--------------------+-------------------+------------------+-------------------+ | FreeBSD 14.2 | PASS | SKIPPED | SKIPPED | SKIPPED | +---------------------+--------------------+-------------------+------------------+-------------------+ | Windows Server 2022 | SKIPPED | SKIPPED | SKIPPED | PASS | +---------------------+--------------------+-------------------+------------------+-------------------+ CentOS Stream 9 Kernel: Depends on container host Compiler: gcc 11.5.0 20240719 (Red Hat 11.5.0-2) Debian Bullseye Kernel: Depends on container host Compiler: gcc (Debian 10.2.1-6) 10.2.1 20210110 CentOS Stream 10 Kernel: Depends on container host Compiler: gcc 14.2.1 20241104 (Red Hat 14.2.1-6) Debian 12 Kernel: Depends on container host Compiler: gcc (Debian 12.2.0-14) 12.2.0 Fedora 40 (Clang) Kernel: Depends on container host Compiler: clang 18.1.8 (Fedora 18.1.8-1.fc40) Fedora 40 Kernel: Depends on container host Compiler: gcc 14.2.1 20240912 (Red Hat 14.2.1-3) Fedora 41 (Clang) Kernel: Depends on container host Compiler: clang 19.1.5 (Fedora 19.1.5-1.fc41) openSUSE Leap 15 Kernel: Depends on container host Compiler: gcc (SUSE Linux) 7.5.0 Fedora 41 Kernel: Depends on container host Compiler: gcc 14.2.1 20240912 (Red Hat 14.2.1-3) RHEL8 Kernel: Depends on container host Compiler: gcc 8.5.0 20210514 (Red Hat 8.5.0-22) RHEL9 Kernel: Depends on container host Compiler: gcc 11.5.0 20240719 (Red Hat 11.5.0-2) Ubuntu 20.04 Kernel: Depends on container host Compiler: gcc (Ubuntu 9.4.0-1ubuntu1~20.04.2) 9.4.0 Ubuntu 22.04 Kernel: Depends on container host Compiler: gcc (Ubuntu 11.4.0-1ubuntu1~22.04) 11.4.0 Ubuntu 24.04 Kernel: Depends on container host Compiler: gcc (Ubuntu 13.3.0-6ubuntu2~24.04) 13.3.0 Alpine Kernel: Depends on container host Compiler: gcc (Alpine 14.2.0) 14.2.0 FreeBSD 13.4 Kernel: 13.4-RELEASE-p1 Compiler: clang 18.1.6 FreeBSD 14.2 Kernel: 14.2-RELEASE Compiler: clang 18.1.6 Windows Server 2022 Kernel: 10.0.20348.2031 Compiler: clang 15.0.7, gcc 14.1.0 (MinGW), and MSVC VS 19.39.33521 To view detailed results, visit: https://lab.dpdk.org/results/dashboard/patchsets/32678/ UNH-IOL DPDK Community Lab To manage your email subscriptions, visit: https://lab.dpdk.org/results/dashboard/preferences/subscriptions/