From mboxrd@z Thu Jan  1 00:00:00 1970
Return-Path: <test-report-bounces@dpdk.org>
Received: from mails.dpdk.org (mails.dpdk.org [217.70.189.124])
	by inbox.dpdk.org (Postfix) with ESMTP id 5934B462BA
	for <public@inbox.dpdk.org>; Tue, 25 Feb 2025 17:04:38 +0100 (CET)
Received: from mails.dpdk.org (localhost [127.0.0.1])
	by mails.dpdk.org (Postfix) with ESMTP id 54C9C402B1;
	Tue, 25 Feb 2025 17:04:38 +0100 (CET)
Received: from mail-io1-f100.google.com (mail-io1-f100.google.com
 [209.85.166.100])
 by mails.dpdk.org (Postfix) with ESMTP id 5384240299
 for <test-report@dpdk.org>; Tue, 25 Feb 2025 17:04:37 +0100 (CET)
Received: by mail-io1-f100.google.com with SMTP id
 ca18e2360f4ac-854a68f5afcso154703439f.0
 for <test-report@dpdk.org>; Tue, 25 Feb 2025 08:04:37 -0800 (PST)
DKIM-Signature: v=1; a=rsa-sha256; c=relaxed/relaxed;
 d=iol.unh.edu; s=unh-iol; t=1740499476; x=1741104276; darn=dpdk.org;
 h=references:in-reply-to:cc:to:from:subject:message-id:date:from:to
 :cc:subject:date:message-id:reply-to;
 bh=u+xYQQR81jcu1ntaW2T6nRuDAdmteuRvlZrdywOD9q8=;
 b=YRvWTxXxH/cBkWrMUhMks8ocfUi7wmmPibuaQCb6Hg1nTm8t7QX57q1OSistx3y9/W
 nK8b7Oa/7SusaDSqvtMYJLCvFjuEeFXJPfpqIALVE+IQ9f75OGUeLthiet56EqJkZ8Ol
 Sn7/3JyX41/VjpKqFWHSQhnBqafiRWENl2Hzg=
X-Google-DKIM-Signature: v=1; a=rsa-sha256; c=relaxed/relaxed;
 d=1e100.net; s=20230601; t=1740499476; x=1741104276;
 h=references:in-reply-to:cc:to:from:subject:message-id:date
 :x-gm-message-state:from:to:cc:subject:date:message-id:reply-to;
 bh=u+xYQQR81jcu1ntaW2T6nRuDAdmteuRvlZrdywOD9q8=;
 b=KKGl9Htzy90AEzknc0ho3d+feHdEI7UZqWpDBdQxj9tCWo8PDauC7Rvfqe6i+IOHmb
 QYmM2IGeBCzb9RBaXCa/llyvDITkoT92YvKBiW8kf5FX9vbBNjkmu/OUI/P0UTXHPPIb
 dJWXK2uqOFB5doykRPBllrj2cse8FOLg+mSjhCqvf3GFBdoPKOSQgYTKxmRRj8xa2zzR
 T2y0RHL6pcGsheh51DMSrPJd2gQAF9nmZK8sXCRT4QzgKTiKkCR090EwbksLkd2CURul
 Ys7+X+UVYZ5OpG4h2CMdlFi0pcfDUi98KCE/G/DDA84q6evdtP/mp+6PLOq8QWEtdld1
 1SaQ==
X-Gm-Message-State: AOJu0YwmBQVaMXqIRgeo9nx1Q4/3U9o6h+T7JwjY47jPSWia9eSB739x
 9u08D5JUCSWn1P1y/AC5BVhtA9oHYB+ezEVrxHfpu9DJTzaVUzmvRrLoOwSiFKL/zD8aHhFoB0D
 k03cuw5rewax9B8fqBZ0umD5+Yr/2lD2YPkipxktc
X-Gm-Gg: ASbGncuOwRP3AuJF4gR8pOk+HmdiYWvDRaUcaWv7BZ7f58bB4Re/bkfgylLY2534Hp5
 8ZegYLBofft3YiAPStqNUIucM4jkfaQyA4NgxKq005cnubowvrqGGfpvFEcpcGCN/q9lK0H6fa2
 k71Ea4tR0fcfSl6yIaArgF37EsNfp4B9lnmIoM7trodlWwbrynIUxYuV+RmK/YlJ/adiTLQhQJU
 2XfFZ06VT5PWwl57yQOkUpONkNATXBFNII1X8tVICUaeP23Wk1n4GU9Rk3jKUYKJZdbt0MgPH+j
 5xragUDSVodL+co4oKF8Q+ES3aIcZ2mIJBVzd46Y
X-Google-Smtp-Source: AGHT+IGuMbFDGx+1k3fD917kEUtwgJcS9pxE+92hIplentuNhgl4d/ba8CmLYryuaJ2Nghw2o73wmAO8PAvJ
X-Received: by 2002:a05:6e02:1486:b0:3d0:d0d:db8e with SMTP id
 e9e14a558f8ab-3d2fc0c1165mr38485295ab.1.1740499476555; 
 Tue, 25 Feb 2025 08:04:36 -0800 (PST)
Received: from postal.iol.unh.edu (postal.iol.unh.edu. [132.177.123.84])
 by smtp-relay.gmail.com with ESMTPS id
 8926c6da1cb9f-4f04745404bsm103490173.3.2025.02.25.08.04.36
 (version=TLS1_2 cipher=ECDHE-ECDSA-AES128-GCM-SHA256 bits=128/128);
 Tue, 25 Feb 2025 08:04:36 -0800 (PST)
X-Relaying-Domain: iol.unh.edu
Date: Tue, 25 Feb 2025 08:04:36 -0800 (PST)
Message-ID: <67bdea14.050a0220.27e095.6247SMTPIN_ADDED_MISSING@mx.google.com>
Received: from [172.21.0.7] (unknown [172.18.0.240])
 by postal.iol.unh.edu (Postfix) with ESMTP id 290A56052471;
 Tue, 25 Feb 2025 11:04:36 -0500 (EST)
Subject: |SUCCESS| pw152024 [PATCH] dts: add TG setup and teardown
From: dpdklab@iol.unh.edu
To: Test Report <test-report@dpdk.org>
Cc: dpdk-test-reports@iol.unh.edu
In-Reply-To: <20250225102222.345716-1-luca.vizzarro@arm.com>
References: <20250225102222.345716-1-luca.vizzarro@arm.com>
Content-Type: text/plain
X-BeenThere: test-report@dpdk.org
X-Mailman-Version: 2.1.29
Precedence: list
List-Id: automatic DPDK test reports <test-report.dpdk.org>
List-Unsubscribe: <https://mails.dpdk.org/options/test-report>,
 <mailto:test-report-request@dpdk.org?subject=unsubscribe>
List-Archive: <http://mails.dpdk.org/archives/test-report/>
List-Post: <mailto:test-report@dpdk.org>
List-Help: <mailto:test-report-request@dpdk.org?subject=help>
List-Subscribe: <https://mails.dpdk.org/listinfo/test-report>,
 <mailto:test-report-request@dpdk.org?subject=subscribe>
Errors-To: test-report-bounces@dpdk.org

Test-Label: iol-unit-amd64-testing
Test-Status: SUCCESS
http://dpdk.org/patch/152024

_Testing PASS_

Submitter: Luca Vizzarro <luca.vizzarro@arm.com>
Date: Tuesday, February 25 2025 10:22:22 
DPDK git baseline: Repo:dpdk
  Branch: master
  CommitID:bdc023381a2c719fa6cb0e1c60aebd9c8c4afa21

152024 --> testing pass

Upstream job id: Generic-Unit-Test-DPDK#318380

Test environment and result as below:

+---------------------+----------------+
|     Environment     | dpdk_unit_test |
+=====================+================+
| CentOS Stream 10    | PASS           |
+---------------------+----------------+
| CentOS Stream 9     | PASS           |
+---------------------+----------------+
| Debian Bullseye     | PASS           |
+---------------------+----------------+
| Debian 12           | PASS           |
+---------------------+----------------+
| Fedora 40           | PASS           |
+---------------------+----------------+
| Fedora 40 (Clang)   | PASS           |
+---------------------+----------------+
| Fedora 41 (Clang)   | PASS           |
+---------------------+----------------+
| RHEL8               | PASS           |
+---------------------+----------------+
| Fedora 41           | PASS           |
+---------------------+----------------+
| RHEL9               | PASS           |
+---------------------+----------------+
| Ubuntu 20.04        | PASS           |
+---------------------+----------------+
| Ubuntu 24.04        | PASS           |
+---------------------+----------------+
| Ubuntu 22.04        | PASS           |
+---------------------+----------------+
| Windows Server 2022 | PASS           |
+---------------------+----------------+


CentOS Stream 10
	Kernel: Depends on container host
	Compiler: gcc 14.2.1 20241104 (Red Hat 14.2.1-6)

CentOS Stream 9
	Kernel: Depends on container host
	Compiler: gcc 11.5.0 20240719 (Red Hat 11.5.0-2)

Debian Bullseye
	Kernel: Depends on container host
	Compiler: gcc (Debian 10.2.1-6) 10.2.1 20210110

Debian 12
	Kernel: Depends on container host
	Compiler: gcc (Debian 12.2.0-14) 12.2.0

Fedora 40
	Kernel: Depends on container host
	Compiler: gcc 14.2.1 20240912 (Red Hat 14.2.1-3)

Fedora 40 (Clang)
	Kernel: Depends on container host
	Compiler: clang 18.1.8 (Fedora 18.1.8-1.fc40)

Fedora 41 (Clang)
	Kernel: Depends on container host
	Compiler: clang 19.1.5 (Fedora 19.1.5-1.fc41)

RHEL8
	Kernel: Depends on container host
	Compiler: gcc 8.5.0 20210514 (Red Hat 8.5.0-22)

Fedora 41
	Kernel: Depends on container host
	Compiler: gcc 14.2.1 20240912 (Red Hat 14.2.1-3)

RHEL9
	Kernel: Depends on container host
	Compiler: gcc 11.5.0 20240719 (Red Hat 11.5.0-2)

Ubuntu 20.04
	Kernel: Depends on container host
	Compiler: gcc (Ubuntu 9.4.0-1ubuntu1~20.04.2) 9.4.0

Ubuntu 24.04
	Kernel: Depends on container host
	Compiler: gcc (Ubuntu 13.3.0-6ubuntu2~24.04) 13.3.0

Ubuntu 22.04
	Kernel: Depends on container host
	Compiler: gcc (Ubuntu 11.4.0-1ubuntu1~22.04) 11.4.0

Windows Server 2022
	Kernel: 10.0.20348.2031
	Compiler: clang 15.0.7, gcc 14.1.0 (MinGW), and MSVC VS 19.39.33521

To view detailed results, visit:
https://lab.dpdk.org/results/dashboard/patchsets/32679/

UNH-IOL DPDK Community Lab

To manage your email subscriptions, visit: 
https://lab.dpdk.org/results/dashboard/preferences/subscriptions/