From mboxrd@z Thu Jan 1 00:00:00 1970 Return-Path: Received: from mails.dpdk.org (mails.dpdk.org [217.70.189.124]) by inbox.dpdk.org (Postfix) with ESMTP id 7B592462BA for ; Tue, 25 Feb 2025 17:05:09 +0100 (CET) Received: from mails.dpdk.org (localhost [127.0.0.1]) by mails.dpdk.org (Postfix) with ESMTP id 70D4240299; Tue, 25 Feb 2025 17:05:09 +0100 (CET) Received: from mail-qv1-f98.google.com (mail-qv1-f98.google.com [209.85.219.98]) by mails.dpdk.org (Postfix) with ESMTP id CBDB94025E for ; Tue, 25 Feb 2025 17:05:07 +0100 (CET) Received: by mail-qv1-f98.google.com with SMTP id 6a1803df08f44-6e65e0a3f7eso26222616d6.0 for ; Tue, 25 Feb 2025 08:05:07 -0800 (PST) DKIM-Signature: v=1; a=rsa-sha256; c=relaxed/relaxed; d=iol.unh.edu; s=unh-iol; t=1740499507; x=1741104307; darn=dpdk.org; h=references:in-reply-to:cc:to:from:subject:message-id:date:from:to :cc:subject:date:message-id:reply-to; bh=oXbFYG9NCyNxcQc9kzL69Qmnqmw3fi96zJwIZIVYfbs=; b=QNNJykSykD70yqQE0INH4i5yBHdEBM4H0pAiU5QyVPEOy1Yj9WtCETKTiKx14izML0 vYze2/OI8VKXBSMvYRdHbK6a16wuuaypHycLpCq81zOg5JOLWBokvc2Xwh/Zy5FmvVur Mph7g/gVtb1WRzruZ0QhwPWsK+0S6dj+mNdNQ= X-Google-DKIM-Signature: v=1; a=rsa-sha256; c=relaxed/relaxed; d=1e100.net; s=20230601; t=1740499507; x=1741104307; h=references:in-reply-to:cc:to:from:subject:message-id:date :x-gm-message-state:from:to:cc:subject:date:message-id:reply-to; bh=oXbFYG9NCyNxcQc9kzL69Qmnqmw3fi96zJwIZIVYfbs=; b=lZlHLsPPHPCKKm3FdNmco41qqDVXdSmHTweSqUiL5BHTbrRwasvzNFM0zwtTpEkpwr R3cTYOAVKh8Dcvct0yFDWeEvTaSNw5C2mMHrRJzLWaoTQyX6RESa+9l8VYgPuYhZPEGQ uzMfYs4UGmFDfCJ9bU1D3RN5v3k0iQBYl4yYeYyiuK+KtVpDQ+xsYU2imKTKVnrAruD7 5d8EtcSZAiJS+twyudHYPs5h3RHNmMM4nQ+NlWCeio3XiEsmKIHlNRMoDbyKKX2C7Rxs u2otUdMhidqqF3ZKgEKk0jlNiZyxTJtS6j4hDr/ZREbH6TaBBL0AZ4geAo+xhhDN1mPI gogg== X-Gm-Message-State: AOJu0Ywj0dw5CgL0c5WPTQ5luI8apIxLu4U1AuIQSdP0mf6IZFmWu5bJ nda88wREVxwIlYmIkFRUOr3hoC6cxqUAug1FJfhxxY20433EDfDoeVU9TiNv3HnzHkyYI5rCCPY Wctzas6T0VI/go+5WWN9rHJw6m9tTuxJZAHAO8yUHidSGTybu7YJRqZUp X-Gm-Gg: ASbGncsfywouVVtSWrqVidZ1Bc23JwR/YYcUDuaP6WHrO44lqzhuxtLA9/mUbIvpUUG fO5zFjBN1esaFGTTvSoEV/ZdKfU16d65wi9Z02kjvBkpIfj+rbFoLHk+lOyrkt8qp+4nEbvHZwg i8KbOPuVj30y1pU4ikFW06Ben/aIdcPSDySEVQW1/rEUTxuDx3EOKdT+DGi1byevLWLbR3icoef JuQJjBoBdXSXUw05zZER8scNCmm32I6y/WugVoZsD+RpkWSVMtezRdrwSkv5e1QgOpp/xEYwIEj 8NHp4lCKTvPwUmIgLWvrrMuwtyA2cCPG0GX0t16Ify6maHYdEi9B X-Google-Smtp-Source: AGHT+IGWVbsdlnkO4IpYbVy1aocqSH3zL2hY0oUG2Td/wshzVPGJkhIvWWGDkiv3I4C3RM/xWb1Mv0V2WP0+ X-Received: by 2002:a05:6214:ac1:b0:6e4:42bb:5ee0 with SMTP id 6a1803df08f44-6e6ae995a60mr259565796d6.28.1740499507195; Tue, 25 Feb 2025 08:05:07 -0800 (PST) Received: from postal.iol.unh.edu (postal.iol.unh.edu. [2606:4100:3880:1234::84]) by smtp-relay.gmail.com with ESMTPS id 6a1803df08f44-6e87b0d9895sm878626d6.55.2025.02.25.08.05.07 (version=TLS1_2 cipher=ECDHE-ECDSA-AES128-GCM-SHA256 bits=128/128); Tue, 25 Feb 2025 08:05:07 -0800 (PST) X-Relaying-Domain: iol.unh.edu Date: Tue, 25 Feb 2025 08:05:07 -0800 (PST) Message-ID: <67bdea33.050a0220.150594.5133SMTPIN_ADDED_MISSING@mx.google.com> Received: from [172.21.0.8] (unknown [172.18.0.240]) by postal.iol.unh.edu (Postfix) with ESMTP id ADAB76052471; Tue, 25 Feb 2025 11:05:06 -0500 (EST) Subject: |SUCCESS| pw152024 [PATCH] dts: add TG setup and teardown From: dpdklab@iol.unh.edu To: Test Report Cc: dpdk-test-reports@iol.unh.edu In-Reply-To: <20250225102222.345716-1-luca.vizzarro@arm.com> References: <20250225102222.345716-1-luca.vizzarro@arm.com> Content-Type: text/plain X-BeenThere: test-report@dpdk.org X-Mailman-Version: 2.1.29 Precedence: list List-Id: automatic DPDK test reports List-Unsubscribe: , List-Archive: List-Post: List-Help: List-Subscribe: , Errors-To: test-report-bounces@dpdk.org Test-Label: iol-unit-amd64-testing Test-Status: SUCCESS http://dpdk.org/patch/152024 _Testing PASS_ Submitter: Luca Vizzarro Date: Tuesday, February 25 2025 10:22:22 DPDK git baseline: Repo:dpdk Branch: master CommitID:bdc023381a2c719fa6cb0e1c60aebd9c8c4afa21 152024 --> testing pass Upstream job id: Generic-Unit-Test-DPDK#318387 Test environment and result as below: +---------------------+----------------+ | Environment | dpdk_unit_test | +=====================+================+ | CentOS Stream 10 | PASS | +---------------------+----------------+ | CentOS Stream 9 | PASS | +---------------------+----------------+ | Debian Bullseye | PASS | +---------------------+----------------+ | Debian 12 | PASS | +---------------------+----------------+ | Fedora 40 | PASS | +---------------------+----------------+ | Fedora 40 (Clang) | PASS | +---------------------+----------------+ | Fedora 41 (Clang) | PASS | +---------------------+----------------+ | RHEL8 | PASS | +---------------------+----------------+ | Fedora 41 | PASS | +---------------------+----------------+ | RHEL9 | PASS | +---------------------+----------------+ | Ubuntu 20.04 | PASS | +---------------------+----------------+ | Ubuntu 24.04 | PASS | +---------------------+----------------+ | Ubuntu 22.04 | PASS | +---------------------+----------------+ | Windows Server 2022 | PASS | +---------------------+----------------+ CentOS Stream 10 Kernel: Depends on container host Compiler: gcc 14.2.1 20241104 (Red Hat 14.2.1-6) CentOS Stream 9 Kernel: Depends on container host Compiler: gcc 11.5.0 20240719 (Red Hat 11.5.0-2) Debian Bullseye Kernel: Depends on container host Compiler: gcc (Debian 10.2.1-6) 10.2.1 20210110 Debian 12 Kernel: Depends on container host Compiler: gcc (Debian 12.2.0-14) 12.2.0 Fedora 40 Kernel: Depends on container host Compiler: gcc 14.2.1 20240912 (Red Hat 14.2.1-3) Fedora 40 (Clang) Kernel: Depends on container host Compiler: clang 18.1.8 (Fedora 18.1.8-1.fc40) Fedora 41 (Clang) Kernel: Depends on container host Compiler: clang 19.1.5 (Fedora 19.1.5-1.fc41) RHEL8 Kernel: Depends on container host Compiler: gcc 8.5.0 20210514 (Red Hat 8.5.0-22) Fedora 41 Kernel: Depends on container host Compiler: gcc 14.2.1 20240912 (Red Hat 14.2.1-3) RHEL9 Kernel: Depends on container host Compiler: gcc 11.5.0 20240719 (Red Hat 11.5.0-2) Ubuntu 20.04 Kernel: Depends on container host Compiler: gcc (Ubuntu 9.4.0-1ubuntu1~20.04.2) 9.4.0 Ubuntu 24.04 Kernel: Depends on container host Compiler: gcc (Ubuntu 13.3.0-6ubuntu2~24.04) 13.3.0 Ubuntu 22.04 Kernel: Depends on container host Compiler: gcc (Ubuntu 11.4.0-1ubuntu1~22.04) 11.4.0 Windows Server 2022 Kernel: 10.0.20348.2031 Compiler: clang 15.0.7, gcc 14.1.0 (MinGW), and MSVC VS 19.39.33521 To view detailed results, visit: https://lab.dpdk.org/results/dashboard/patchsets/32679/ UNH-IOL DPDK Community Lab To manage your email subscriptions, visit: https://lab.dpdk.org/results/dashboard/preferences/subscriptions/