* |WARNING| pw152024 [PATCH] dts: add TG setup and teardown
[not found] <20250225102222.345716-1-luca.vizzarro@arm.com>
@ 2025-02-25 9:48 ` qemudev
2025-02-25 10:24 ` |SUCCESS| " checkpatch
` (4 subsequent siblings)
5 siblings, 0 replies; 6+ messages in thread
From: qemudev @ 2025-02-25 9:48 UTC (permalink / raw)
To: test-report; +Cc: Luca Vizzarro, zhoumin
Test-Label: loongarch-compilation
Test-Status: WARNING
http://dpdk.org/patch/152024
_apply patch failure_
Submitter: Luca Vizzarro <luca.vizzarro@arm.com>
Date: Tue, 25 Feb 2025 10:22:22 +0000
DPDK git baseline: Repo:dpdk
Branch: main
CommitID: fab31a03ba98e7457284df95dd9eef2223a4ccaa
Apply patch set 152024 failed:
Checking patch dts/framework/test_run.py...
error: dts/framework/test_run.py: No such file or directory
Checking patch dts/framework/testbed_model/traffic_generator/traffic_generator.py...
error: while searching for:
def setup(self, ports: Iterable[Port]):
"""Setup the traffic generator."""
def teardown(self):
"""Teardown the traffic generator."""
def send_packet(self, packet: Packet, port: Port) -> None:
error: patch failed: dts/framework/testbed_model/traffic_generator/traffic_generator.py:53
error: dts/framework/testbed_model/traffic_generator/traffic_generator.py: patch does not apply
^ permalink raw reply [flat|nested] 6+ messages in thread
* |SUCCESS| pw152024 [PATCH] dts: add TG setup and teardown
[not found] <20250225102222.345716-1-luca.vizzarro@arm.com>
2025-02-25 9:48 ` |WARNING| pw152024 [PATCH] dts: add TG setup and teardown qemudev
@ 2025-02-25 10:24 ` checkpatch
2025-02-25 14:56 ` dpdklab
` (3 subsequent siblings)
5 siblings, 0 replies; 6+ messages in thread
From: checkpatch @ 2025-02-25 10:24 UTC (permalink / raw)
To: test-report
Test-Label: checkpatch
Test-Status: SUCCESS
http://dpdk.org/patch/152024
_coding style OK_
^ permalink raw reply [flat|nested] 6+ messages in thread
* |SUCCESS| pw152024 [PATCH] dts: add TG setup and teardown
[not found] <20250225102222.345716-1-luca.vizzarro@arm.com>
2025-02-25 9:48 ` |WARNING| pw152024 [PATCH] dts: add TG setup and teardown qemudev
2025-02-25 10:24 ` |SUCCESS| " checkpatch
@ 2025-02-25 14:56 ` dpdklab
2025-02-25 15:06 ` |PENDING| " dpdklab
` (2 subsequent siblings)
5 siblings, 0 replies; 6+ messages in thread
From: dpdklab @ 2025-02-25 14:56 UTC (permalink / raw)
To: Test Report; +Cc: dpdk-test-reports
Test-Label: iol-abi-testing
Test-Status: SUCCESS
http://dpdk.org/patch/152024
_Testing PASS_
Submitter: Luca Vizzarro <luca.vizzarro@arm.com>
Date: Tuesday, February 25 2025 10:22:22
DPDK git baseline: Repo:dpdk
Branch: master
CommitID:bdc023381a2c719fa6cb0e1c60aebd9c8c4afa21
152024 --> testing pass
Upstream job id: Generic-DPDK-Compile-ABI#117717
Test environment and result as below:
+-------------------+----------+
| Environment | abi_test |
+===================+==========+
| openSUSE Leap 15 | PASS |
+-------------------+----------+
| Fedora 40 (Clang) | PASS |
+-------------------+----------+
| RHEL9 | PASS |
+-------------------+----------+
| Ubuntu 24.04 | PASS |
+-------------------+----------+
openSUSE Leap 15
Kernel: Depends on container host
Compiler: gcc (SUSE Linux) 7.5.0
Fedora 40 (Clang)
Kernel: Depends on container host
Compiler: clang 18.1.8 (Fedora 18.1.8-1.fc40)
RHEL9
Kernel: Depends on container host
Compiler: gcc 11.5.0 20240719 (Red Hat 11.5.0-2)
Ubuntu 24.04
Kernel: Depends on container host
Compiler: gcc (Ubuntu 13.3.0-6ubuntu2~24.04) 13.3.0
To view detailed results, visit:
https://lab.dpdk.org/results/dashboard/patchsets/32679/
UNH-IOL DPDK Community Lab
To manage your email subscriptions, visit:
https://lab.dpdk.org/results/dashboard/preferences/subscriptions/
^ permalink raw reply [flat|nested] 6+ messages in thread
* |PENDING| pw152024 [PATCH] dts: add TG setup and teardown
[not found] <20250225102222.345716-1-luca.vizzarro@arm.com>
` (2 preceding siblings ...)
2025-02-25 14:56 ` dpdklab
@ 2025-02-25 15:06 ` dpdklab
2025-02-25 16:04 ` |SUCCESS| " dpdklab
2025-02-25 16:05 ` dpdklab
5 siblings, 0 replies; 6+ messages in thread
From: dpdklab @ 2025-02-25 15:06 UTC (permalink / raw)
To: Test Report; +Cc: dpdk-test-reports
Test-Label: iol-unit-amd64-testing
Test-Status: PENDING
http://dpdk.org/patch/152024
_Testing pending_
Submitter: Luca Vizzarro <luca.vizzarro@arm.com>
Date: Tuesday, February 25 2025 10:22:22
DPDK git baseline: Repo:dpdk
Branch: master
CommitID:bdc023381a2c719fa6cb0e1c60aebd9c8c4afa21
152024 --> testing pending
Upstream job id: Generic-Unit-Test-DPDK#318374
Test environment and result as below:
+-------------------+----------------+
| Environment | dpdk_unit_test |
+===================+================+
| CentOS Stream 10 | PEND |
+-------------------+----------------+
| CentOS Stream 9 | PEND |
+-------------------+----------------+
| Debian Bullseye | PEND |
+-------------------+----------------+
| Debian 12 | PASS |
+-------------------+----------------+
| Fedora 40 | PEND |
+-------------------+----------------+
| Fedora 40 (Clang) | PEND |
+-------------------+----------------+
| Fedora 41 (Clang) | PEND |
+-------------------+----------------+
| RHEL8 | PEND |
+-------------------+----------------+
| Fedora 41 | PEND |
+-------------------+----------------+
| RHEL9 | PEND |
+-------------------+----------------+
| Ubuntu 20.04 | PEND |
+-------------------+----------------+
| Ubuntu 24.04 | PEND |
+-------------------+----------------+
| Ubuntu 22.04 | PEND |
+-------------------+----------------+
CentOS Stream 10
Kernel: Depends on container host
Compiler: gcc 14.2.1 20241104 (Red Hat 14.2.1-6)
CentOS Stream 9
Kernel: Depends on container host
Compiler: gcc 11.5.0 20240719 (Red Hat 11.5.0-2)
Debian Bullseye
Kernel: Depends on container host
Compiler: gcc (Debian 10.2.1-6) 10.2.1 20210110
Debian 12
Kernel: Depends on container host
Compiler: gcc (Debian 12.2.0-14) 12.2.0
Fedora 40
Kernel: Depends on container host
Compiler: gcc 14.2.1 20240912 (Red Hat 14.2.1-3)
Fedora 40 (Clang)
Kernel: Depends on container host
Compiler: clang 18.1.8 (Fedora 18.1.8-1.fc40)
Fedora 41 (Clang)
Kernel: Depends on container host
Compiler: clang 19.1.5 (Fedora 19.1.5-1.fc41)
RHEL8
Kernel: Depends on container host
Compiler: gcc 8.5.0 20210514 (Red Hat 8.5.0-22)
Fedora 41
Kernel: Depends on container host
Compiler: gcc 14.2.1 20240912 (Red Hat 14.2.1-3)
RHEL9
Kernel: Depends on container host
Compiler: gcc 11.5.0 20240719 (Red Hat 11.5.0-2)
Ubuntu 20.04
Kernel: Depends on container host
Compiler: gcc (Ubuntu 9.4.0-1ubuntu1~20.04.2) 9.4.0
Ubuntu 24.04
Kernel: Depends on container host
Compiler: gcc (Ubuntu 13.3.0-6ubuntu2~24.04) 13.3.0
Ubuntu 22.04
Kernel: Depends on container host
Compiler: gcc (Ubuntu 11.4.0-1ubuntu1~22.04) 11.4.0
To view detailed results, visit:
https://lab.dpdk.org/results/dashboard/patchsets/32679/
UNH-IOL DPDK Community Lab
To manage your email subscriptions, visit:
https://lab.dpdk.org/results/dashboard/preferences/subscriptions/
^ permalink raw reply [flat|nested] 6+ messages in thread
* |SUCCESS| pw152024 [PATCH] dts: add TG setup and teardown
[not found] <20250225102222.345716-1-luca.vizzarro@arm.com>
` (3 preceding siblings ...)
2025-02-25 15:06 ` |PENDING| " dpdklab
@ 2025-02-25 16:04 ` dpdklab
2025-02-25 16:05 ` dpdklab
5 siblings, 0 replies; 6+ messages in thread
From: dpdklab @ 2025-02-25 16:04 UTC (permalink / raw)
To: Test Report; +Cc: dpdk-test-reports
Test-Label: iol-unit-amd64-testing
Test-Status: SUCCESS
http://dpdk.org/patch/152024
_Testing PASS_
Submitter: Luca Vizzarro <luca.vizzarro@arm.com>
Date: Tuesday, February 25 2025 10:22:22
DPDK git baseline: Repo:dpdk
Branch: master
CommitID:bdc023381a2c719fa6cb0e1c60aebd9c8c4afa21
152024 --> testing pass
Upstream job id: Generic-Unit-Test-DPDK#318380
Test environment and result as below:
+---------------------+----------------+
| Environment | dpdk_unit_test |
+=====================+================+
| CentOS Stream 10 | PASS |
+---------------------+----------------+
| CentOS Stream 9 | PASS |
+---------------------+----------------+
| Debian Bullseye | PASS |
+---------------------+----------------+
| Debian 12 | PASS |
+---------------------+----------------+
| Fedora 40 | PASS |
+---------------------+----------------+
| Fedora 40 (Clang) | PASS |
+---------------------+----------------+
| Fedora 41 (Clang) | PASS |
+---------------------+----------------+
| RHEL8 | PASS |
+---------------------+----------------+
| Fedora 41 | PASS |
+---------------------+----------------+
| RHEL9 | PASS |
+---------------------+----------------+
| Ubuntu 20.04 | PASS |
+---------------------+----------------+
| Ubuntu 24.04 | PASS |
+---------------------+----------------+
| Ubuntu 22.04 | PASS |
+---------------------+----------------+
| Windows Server 2022 | PASS |
+---------------------+----------------+
CentOS Stream 10
Kernel: Depends on container host
Compiler: gcc 14.2.1 20241104 (Red Hat 14.2.1-6)
CentOS Stream 9
Kernel: Depends on container host
Compiler: gcc 11.5.0 20240719 (Red Hat 11.5.0-2)
Debian Bullseye
Kernel: Depends on container host
Compiler: gcc (Debian 10.2.1-6) 10.2.1 20210110
Debian 12
Kernel: Depends on container host
Compiler: gcc (Debian 12.2.0-14) 12.2.0
Fedora 40
Kernel: Depends on container host
Compiler: gcc 14.2.1 20240912 (Red Hat 14.2.1-3)
Fedora 40 (Clang)
Kernel: Depends on container host
Compiler: clang 18.1.8 (Fedora 18.1.8-1.fc40)
Fedora 41 (Clang)
Kernel: Depends on container host
Compiler: clang 19.1.5 (Fedora 19.1.5-1.fc41)
RHEL8
Kernel: Depends on container host
Compiler: gcc 8.5.0 20210514 (Red Hat 8.5.0-22)
Fedora 41
Kernel: Depends on container host
Compiler: gcc 14.2.1 20240912 (Red Hat 14.2.1-3)
RHEL9
Kernel: Depends on container host
Compiler: gcc 11.5.0 20240719 (Red Hat 11.5.0-2)
Ubuntu 20.04
Kernel: Depends on container host
Compiler: gcc (Ubuntu 9.4.0-1ubuntu1~20.04.2) 9.4.0
Ubuntu 24.04
Kernel: Depends on container host
Compiler: gcc (Ubuntu 13.3.0-6ubuntu2~24.04) 13.3.0
Ubuntu 22.04
Kernel: Depends on container host
Compiler: gcc (Ubuntu 11.4.0-1ubuntu1~22.04) 11.4.0
Windows Server 2022
Kernel: 10.0.20348.2031
Compiler: clang 15.0.7, gcc 14.1.0 (MinGW), and MSVC VS 19.39.33521
To view detailed results, visit:
https://lab.dpdk.org/results/dashboard/patchsets/32679/
UNH-IOL DPDK Community Lab
To manage your email subscriptions, visit:
https://lab.dpdk.org/results/dashboard/preferences/subscriptions/
^ permalink raw reply [flat|nested] 6+ messages in thread
* |SUCCESS| pw152024 [PATCH] dts: add TG setup and teardown
[not found] <20250225102222.345716-1-luca.vizzarro@arm.com>
` (4 preceding siblings ...)
2025-02-25 16:04 ` |SUCCESS| " dpdklab
@ 2025-02-25 16:05 ` dpdklab
5 siblings, 0 replies; 6+ messages in thread
From: dpdklab @ 2025-02-25 16:05 UTC (permalink / raw)
To: Test Report; +Cc: dpdk-test-reports
Test-Label: iol-unit-amd64-testing
Test-Status: SUCCESS
http://dpdk.org/patch/152024
_Testing PASS_
Submitter: Luca Vizzarro <luca.vizzarro@arm.com>
Date: Tuesday, February 25 2025 10:22:22
DPDK git baseline: Repo:dpdk
Branch: master
CommitID:bdc023381a2c719fa6cb0e1c60aebd9c8c4afa21
152024 --> testing pass
Upstream job id: Generic-Unit-Test-DPDK#318387
Test environment and result as below:
+---------------------+----------------+
| Environment | dpdk_unit_test |
+=====================+================+
| CentOS Stream 10 | PASS |
+---------------------+----------------+
| CentOS Stream 9 | PASS |
+---------------------+----------------+
| Debian Bullseye | PASS |
+---------------------+----------------+
| Debian 12 | PASS |
+---------------------+----------------+
| Fedora 40 | PASS |
+---------------------+----------------+
| Fedora 40 (Clang) | PASS |
+---------------------+----------------+
| Fedora 41 (Clang) | PASS |
+---------------------+----------------+
| RHEL8 | PASS |
+---------------------+----------------+
| Fedora 41 | PASS |
+---------------------+----------------+
| RHEL9 | PASS |
+---------------------+----------------+
| Ubuntu 20.04 | PASS |
+---------------------+----------------+
| Ubuntu 24.04 | PASS |
+---------------------+----------------+
| Ubuntu 22.04 | PASS |
+---------------------+----------------+
| Windows Server 2022 | PASS |
+---------------------+----------------+
CentOS Stream 10
Kernel: Depends on container host
Compiler: gcc 14.2.1 20241104 (Red Hat 14.2.1-6)
CentOS Stream 9
Kernel: Depends on container host
Compiler: gcc 11.5.0 20240719 (Red Hat 11.5.0-2)
Debian Bullseye
Kernel: Depends on container host
Compiler: gcc (Debian 10.2.1-6) 10.2.1 20210110
Debian 12
Kernel: Depends on container host
Compiler: gcc (Debian 12.2.0-14) 12.2.0
Fedora 40
Kernel: Depends on container host
Compiler: gcc 14.2.1 20240912 (Red Hat 14.2.1-3)
Fedora 40 (Clang)
Kernel: Depends on container host
Compiler: clang 18.1.8 (Fedora 18.1.8-1.fc40)
Fedora 41 (Clang)
Kernel: Depends on container host
Compiler: clang 19.1.5 (Fedora 19.1.5-1.fc41)
RHEL8
Kernel: Depends on container host
Compiler: gcc 8.5.0 20210514 (Red Hat 8.5.0-22)
Fedora 41
Kernel: Depends on container host
Compiler: gcc 14.2.1 20240912 (Red Hat 14.2.1-3)
RHEL9
Kernel: Depends on container host
Compiler: gcc 11.5.0 20240719 (Red Hat 11.5.0-2)
Ubuntu 20.04
Kernel: Depends on container host
Compiler: gcc (Ubuntu 9.4.0-1ubuntu1~20.04.2) 9.4.0
Ubuntu 24.04
Kernel: Depends on container host
Compiler: gcc (Ubuntu 13.3.0-6ubuntu2~24.04) 13.3.0
Ubuntu 22.04
Kernel: Depends on container host
Compiler: gcc (Ubuntu 11.4.0-1ubuntu1~22.04) 11.4.0
Windows Server 2022
Kernel: 10.0.20348.2031
Compiler: clang 15.0.7, gcc 14.1.0 (MinGW), and MSVC VS 19.39.33521
To view detailed results, visit:
https://lab.dpdk.org/results/dashboard/patchsets/32679/
UNH-IOL DPDK Community Lab
To manage your email subscriptions, visit:
https://lab.dpdk.org/results/dashboard/preferences/subscriptions/
^ permalink raw reply [flat|nested] 6+ messages in thread