From mboxrd@z Thu Jan 1 00:00:00 1970 Return-Path: Received: from mails.dpdk.org (mails.dpdk.org [217.70.189.124]) by inbox.dpdk.org (Postfix) with ESMTP id 6336B462BA for ; Tue, 25 Feb 2025 17:49:11 +0100 (CET) Received: from mails.dpdk.org (localhost [127.0.0.1]) by mails.dpdk.org (Postfix) with ESMTP id 3EF4F40299; Tue, 25 Feb 2025 17:49:11 +0100 (CET) Received: from mail-qk1-f228.google.com (mail-qk1-f228.google.com [209.85.222.228]) by mails.dpdk.org (Postfix) with ESMTP id 8D92440041 for ; Tue, 25 Feb 2025 17:49:09 +0100 (CET) Received: by mail-qk1-f228.google.com with SMTP id af79cd13be357-7c0970e2e79so1074200985a.3 for ; Tue, 25 Feb 2025 08:49:09 -0800 (PST) DKIM-Signature: v=1; a=rsa-sha256; c=relaxed/relaxed; d=iol.unh.edu; s=unh-iol; t=1740502149; x=1741106949; darn=dpdk.org; h=references:in-reply-to:cc:to:from:subject:message-id:date:from:to :cc:subject:date:message-id:reply-to; bh=CWwfVzyeCjBraL575HTNuaLDu3Fe7zqwzTgHwNIzey4=; b=DcpqdnfRRJSPO+k8hxBRFKa4qJOJEnxzUrfHDeJkXMEowb18iyKEw4HQ7w+eOF4WIR p7ajjZVhjHzq8NG9YWAVSxWvM460C8ANQhq5uuxWCM6MsVNXZDvvEbS7NrxunmmBZ+sE Q9ZxtHr5xvfwQEHYSiWT+8Q+pkWL/Et6KX17w= X-Google-DKIM-Signature: v=1; a=rsa-sha256; c=relaxed/relaxed; d=1e100.net; s=20230601; t=1740502149; x=1741106949; h=references:in-reply-to:cc:to:from:subject:message-id:date :x-gm-message-state:from:to:cc:subject:date:message-id:reply-to; bh=CWwfVzyeCjBraL575HTNuaLDu3Fe7zqwzTgHwNIzey4=; b=nJm9C2znm/GO1Gfwj/VHBCRtPc/8lbh09QjOM0HwS9hY1kMUpSH8V7d3Liy9YQc7lv PGK4VQOoa69nz4mbF/I1AJAtiGGRwBCXAueGMfaEIiwUxaGfKWeNDFHtFQdaw1rFxREd dZXPXOhqBkEl5FLoHo0UZ2GuBfZ8MItRgAtRw3JCeHIPSSpdZ1Zgi+pllTinihUZPHho 4c66tRg5PUsdyPJH6D7pwutGm/5O6KrBicpB5VZAPP+KwSi/vJH+P2p5HgzXzwsZDWn/ 9wWUBYUjDMwuA5l/Z30/x2yWgqZGJb6eGp17FCzV7Qa3v7ALoiFxExZXBafvQHIwHN+f LVrw== X-Gm-Message-State: AOJu0YwM+Ob8i4UtD5Q9B2Wv5CBdL3DekYlNIYbBICOeyf/+mrGMSLgZ a70PgW/EYyh2W5/eAgLNFiIlawjGv+BxEQCY7yhPyXQ1mgG8ghBz4Uo1oRIP9yIrfDlliPaP3Yn t4mBvYSaihCw4XhTZ1puoCMBpVCPqOaNFxq8+fpqv X-Gm-Gg: ASbGncuWa5IKH6pMI92bt5ak46lx2kdHKyHhUmtY6b5ySVetbVISBln+itlfJPhcgml oRdm43IvnCR1ziq7FMiyS9ZN9+zewe9u1t8snxPAT3PFQzm2zwx9Ycn29/rI/M1IZvu5hND6mTw dX4KzHZav/hpxlyDuo53HBeIKNRprnLvvNI8zPYsts+XzB8QIp+dj/okSvgGPGxM6EkvR3b6C93 2oe5HoqEAkrFIuUDvNoCSPyoFimQ6O+j3M9yrMYtxJABCLj3PRptNK+bMw0H6hEmkQYbQMZug0x FIbCPeH7IoKcEWaaMd8TZ4rbLf1/kHDhqoItGsDi X-Google-Smtp-Source: AGHT+IEBkGRvJFwPR3RStcQ80OsNLpzx6Aq6iJxhidPEkh4yfvfLo3zoH5gtaVgXWI3p8YQi2QaMHW6/cKwz X-Received: by 2002:a05:6214:2622:b0:6e4:4484:f358 with SMTP id 6a1803df08f44-6e87aba2dcdmr43615946d6.33.1740502148898; Tue, 25 Feb 2025 08:49:08 -0800 (PST) Received: from postal.iol.unh.edu (postal.iol.unh.edu. [132.177.123.84]) by smtp-relay.gmail.com with ESMTPS id 6a1803df08f44-6e87b0d98a0sm956776d6.43.2025.02.25.08.49.08 (version=TLS1_2 cipher=ECDHE-ECDSA-AES128-GCM-SHA256 bits=128/128); Tue, 25 Feb 2025 08:49:08 -0800 (PST) X-Relaying-Domain: iol.unh.edu Date: Tue, 25 Feb 2025 08:49:08 -0800 (PST) Message-ID: <67bdf484.d40a0220.1743ab.5877SMTPIN_ADDED_MISSING@mx.google.com> Received: from [172.17.0.5] (unknown [172.18.0.217]) by postal.iol.unh.edu (Postfix) with ESMTP id 8CD6F6052471; Tue, 25 Feb 2025 11:49:08 -0500 (EST) Subject: |SUCCESS| pw152018 [PATCH] net/mlx5: fix queue counter error check From: dpdklab@iol.unh.edu To: Test Report Cc: dpdk-test-reports@iol.unh.edu In-Reply-To: <20250225090845.136968-1-dsosnowski@nvidia.com> References: <20250225090845.136968-1-dsosnowski@nvidia.com> Content-Type: text/plain X-BeenThere: test-report@dpdk.org X-Mailman-Version: 2.1.29 Precedence: list List-Id: automatic DPDK test reports List-Unsubscribe: , List-Archive: List-Post: List-Help: List-Subscribe: , Errors-To: test-report-bounces@dpdk.org Test-Label: iol-abi-testing Test-Status: SUCCESS http://dpdk.org/patch/152018 _Testing PASS_ Submitter: Dariusz Sosnowski Date: Tuesday, February 25 2025 09:08:45 DPDK git baseline: Repo:dpdk Branch: master CommitID:61fc05f1c6a079c0b25b27d1668450134a784d56 152018 --> testing pass Upstream job id: Generic-DPDK-Compile-ABI#117729 Test environment and result as below: +-------------------+----------+ | Environment | abi_test | +===================+==========+ | CentOS Stream 9 | PASS | +-------------------+----------+ | Debian Bullseye | PASS | +-------------------+----------+ | CentOS Stream 10 | PASS | +-------------------+----------+ | Debian 12 | PASS | +-------------------+----------+ | Fedora 40 | PASS | +-------------------+----------+ | Fedora 41 | PASS | +-------------------+----------+ | Fedora 41 (Clang) | PASS | +-------------------+----------+ | Fedora 40 (Clang) | PASS | +-------------------+----------+ | openSUSE Leap 15 | PASS | +-------------------+----------+ | RHEL8 | PASS | +-------------------+----------+ | RHEL9 | PASS | +-------------------+----------+ | Ubuntu 22.04 | PASS | +-------------------+----------+ | Ubuntu 24.04 | PASS | +-------------------+----------+ CentOS Stream 9 Kernel: Depends on container host Compiler: gcc 11.5.0 20240719 (Red Hat 11.5.0-2) Debian Bullseye Kernel: Depends on container host Compiler: gcc (Debian 10.2.1-6) 10.2.1 20210110 CentOS Stream 10 Kernel: Depends on container host Compiler: gcc 14.2.1 20241104 (Red Hat 14.2.1-6) Debian 12 Kernel: Depends on container host Compiler: gcc (Debian 12.2.0-14) 12.2.0 Fedora 40 Kernel: Depends on container host Compiler: gcc 14.2.1 20240912 (Red Hat 14.2.1-3) Fedora 41 Kernel: Depends on container host Compiler: gcc 14.2.1 20240912 (Red Hat 14.2.1-3) Fedora 41 (Clang) Kernel: Depends on container host Compiler: clang 19.1.5 (Fedora 19.1.5-1.fc41) Fedora 40 (Clang) Kernel: Depends on container host Compiler: clang 18.1.8 (Fedora 18.1.8-1.fc40) openSUSE Leap 15 Kernel: Depends on container host Compiler: gcc (SUSE Linux) 7.5.0 RHEL8 Kernel: Depends on container host Compiler: gcc 8.5.0 20210514 (Red Hat 8.5.0-22) RHEL9 Kernel: Depends on container host Compiler: gcc 11.5.0 20240719 (Red Hat 11.5.0-2) Ubuntu 22.04 Kernel: Depends on container host Compiler: gcc (Ubuntu 11.4.0-1ubuntu1~22.04) 11.4.0 Ubuntu 24.04 Kernel: Depends on container host Compiler: gcc (Ubuntu 13.3.0-6ubuntu2~24.04) 13.3.0 To view detailed results, visit: https://lab.dpdk.org/results/dashboard/patchsets/32676/ UNH-IOL DPDK Community Lab To manage your email subscriptions, visit: https://lab.dpdk.org/results/dashboard/preferences/subscriptions/