From mboxrd@z Thu Jan 1 00:00:00 1970 Return-Path: Received: from mails.dpdk.org (mails.dpdk.org [217.70.189.124]) by inbox.dpdk.org (Postfix) with ESMTP id 3C3F0462BA for ; Tue, 25 Feb 2025 17:50:33 +0100 (CET) Received: from mails.dpdk.org (localhost [127.0.0.1]) by mails.dpdk.org (Postfix) with ESMTP id 672D940299; Tue, 25 Feb 2025 17:50:32 +0100 (CET) Received: from mail-ot1-f99.google.com (mail-ot1-f99.google.com [209.85.210.99]) by mails.dpdk.org (Postfix) with ESMTP id 61D2340041 for ; Tue, 25 Feb 2025 17:50:31 +0100 (CET) Received: by mail-ot1-f99.google.com with SMTP id 46e09a7af769-7271239d89fso1702473a34.0 for ; Tue, 25 Feb 2025 08:50:31 -0800 (PST) DKIM-Signature: v=1; a=rsa-sha256; c=relaxed/relaxed; d=iol.unh.edu; s=unh-iol; t=1740502230; x=1741107030; darn=dpdk.org; h=references:in-reply-to:cc:to:from:subject:message-id:date:from:to :cc:subject:date:message-id:reply-to; bh=8Kls6FrkbYVv9V6pAFMqYtr0Rao+JQ4490Lr1JThR84=; b=YWwj0DBu5VgGeeA53PLtG3bpZjxVympXpkfr3snbZHc2I72wPVdPdcKTO5LBGNRaWN pXENb1CFmeiW1ho44HWXAp+frD4Cu/jrx5xpBRhJEQEYZWPguYMpPp2gcmrRisGMgMxt VVQb9at37VzBeKK3Z+bRBAmor+xbLJ/iH+aGk= X-Google-DKIM-Signature: v=1; a=rsa-sha256; c=relaxed/relaxed; d=1e100.net; s=20230601; t=1740502230; x=1741107030; h=references:in-reply-to:cc:to:from:subject:message-id:date :x-gm-message-state:from:to:cc:subject:date:message-id:reply-to; bh=8Kls6FrkbYVv9V6pAFMqYtr0Rao+JQ4490Lr1JThR84=; b=KFLdk1Ge8NoxbvXXKiasSn393jXXUoV/AKa9DNL4WmMIF2TpR2f/7sZOgCEaKs4TsI RJ1dcEis4VEY1zXwoHg7Wg9//Kef+NKQAUhrL1Vlrs+e5mG77eYR8F10oKY0BAq7aJJ+ mEgyD8uurxzOeRyWmYsr44LwFL70xpi7b8roMsO/MTKmEJJ0KY0kaJ/m1SQsa9Jl5aT5 37pDYDFaZzh2lt6JVqLoXtx5ehseXfnMt3qIUpQooSJGfSrYfZwPaHINDmdxFedjVtTB KOASyyAVUucghtyDHdXwOAOCszECnRi86uaWtf7ReLHuIKXAp8RJO92+VXVk6lDZ5xJB gr1A== X-Gm-Message-State: AOJu0YyP+c8zo46ODG1HylWxlOTLkv9TnXN1JTg4iSXuEydbbTNSa9MC PhbkkgEEPU/oaBmDC8qMzrUPJjg5W2RmlEhq8AD7APUhLUqG5mIn4ko0UWrNPzM8lCCUZMuLdKt +DPIU6C1uRvB891xUv89riy8Vs/oRtrWlcdCXCF0l7yyKQGw6vHVnoe9x X-Gm-Gg: ASbGncv4IFsoAYP0ie4FS/L8CJLSTIvemZRjar1HyPxZ6rF1+otUBKlbT0fTyzB2xvj AkLv4gfGpBOtL2E1s4aht9PtQMui07WXI5BPMxcpAi2Vkb7eMrSoI7GFMcDNKKCA6j5eh4alA8g XbdPMKAznaxddWLJLWBfCcYAacbDhuUBEefq9St9+Ylv9S7Rj3ncNqIHk89F8gZo2+Foshd33f/ GR0OHN0zCMrPBiNBr2OVxlekLk1fS1yrylUt2fFvH+8WVBrJdSle6r6DHYYfTYxxdVRjD7HVRdM tSzUkWzUKFtvjBwoOUiMW/b7cidJRmRxc9MjD2JRBjSJ4my49kwB X-Google-Smtp-Source: AGHT+IG60cPv5+EHfPZs3qvC9rZaSA7BMiP2AjBEy96GR46h6kPx3IMuLcj9GdjHdRhKOXk2wYpNDRp6ipWx X-Received: by 2002:a05:6830:7305:b0:727:41d9:bcc4 with SMTP id 46e09a7af769-7289d0eefedmr2451882a34.5.1740502230562; Tue, 25 Feb 2025 08:50:30 -0800 (PST) Received: from postal.iol.unh.edu (postal.iol.unh.edu. [2606:4100:3880:1234::84]) by smtp-relay.gmail.com with ESMTPS id 46e09a7af769-7289ded6a69sm51364a34.1.2025.02.25.08.50.30 (version=TLS1_2 cipher=ECDHE-ECDSA-AES128-GCM-SHA256 bits=128/128); Tue, 25 Feb 2025 08:50:30 -0800 (PST) X-Relaying-Domain: iol.unh.edu Date: Tue, 25 Feb 2025 08:50:30 -0800 (PST) Message-ID: <67bdf4d6.050a0220.7df23.30a8SMTPIN_ADDED_MISSING@mx.google.com> Received: from [172.17.0.5] (unknown [172.18.0.217]) by postal.iol.unh.edu (Postfix) with ESMTP id EC5346052471; Tue, 25 Feb 2025 11:50:29 -0500 (EST) Subject: |SUCCESS| pw152018 [PATCH] net/mlx5: fix queue counter error check From: dpdklab@iol.unh.edu To: Test Report Cc: dpdk-test-reports@iol.unh.edu In-Reply-To: <20250225090845.136968-1-dsosnowski@nvidia.com> References: <20250225090845.136968-1-dsosnowski@nvidia.com> Content-Type: text/plain X-BeenThere: test-report@dpdk.org X-Mailman-Version: 2.1.29 Precedence: list List-Id: automatic DPDK test reports List-Unsubscribe: , List-Archive: List-Post: List-Help: List-Subscribe: , Errors-To: test-report-bounces@dpdk.org Test-Label: iol-abi-testing Test-Status: SUCCESS http://dpdk.org/patch/152018 _Testing PASS_ Submitter: Dariusz Sosnowski Date: Tuesday, February 25 2025 09:08:45 DPDK git baseline: Repo:dpdk Branch: master CommitID:61fc05f1c6a079c0b25b27d1668450134a784d56 152018 --> testing pass Upstream job id: Generic-DPDK-Compile-ABI#117730 Test environment and result as below: +-------------------+----------+ | Environment | abi_test | +===================+==========+ | CentOS Stream 9 | PASS | +-------------------+----------+ | Debian Bullseye | PASS | +-------------------+----------+ | CentOS Stream 10 | PASS | +-------------------+----------+ | Debian 12 | PASS | +-------------------+----------+ | Fedora 40 | PASS | +-------------------+----------+ | Fedora 41 | PASS | +-------------------+----------+ | Fedora 41 (Clang) | PASS | +-------------------+----------+ | Fedora 40 (Clang) | PASS | +-------------------+----------+ | openSUSE Leap 15 | PASS | +-------------------+----------+ | RHEL8 | PASS | +-------------------+----------+ | RHEL9 | PASS | +-------------------+----------+ | Ubuntu 22.04 | PASS | +-------------------+----------+ | Ubuntu 24.04 | PASS | +-------------------+----------+ CentOS Stream 9 Kernel: Depends on container host Compiler: gcc 11.5.0 20240719 (Red Hat 11.5.0-2) Debian Bullseye Kernel: Depends on container host Compiler: gcc (Debian 10.2.1-6) 10.2.1 20210110 CentOS Stream 10 Kernel: Depends on container host Compiler: gcc 14.2.1 20241104 (Red Hat 14.2.1-6) Debian 12 Kernel: Depends on container host Compiler: gcc (Debian 12.2.0-14) 12.2.0 Fedora 40 Kernel: Depends on container host Compiler: gcc 14.2.1 20240912 (Red Hat 14.2.1-3) Fedora 41 Kernel: Depends on container host Compiler: gcc 14.2.1 20240912 (Red Hat 14.2.1-3) Fedora 41 (Clang) Kernel: Depends on container host Compiler: clang 19.1.5 (Fedora 19.1.5-1.fc41) Fedora 40 (Clang) Kernel: Depends on container host Compiler: clang 18.1.8 (Fedora 18.1.8-1.fc40) openSUSE Leap 15 Kernel: Depends on container host Compiler: gcc (SUSE Linux) 7.5.0 RHEL8 Kernel: Depends on container host Compiler: gcc 8.5.0 20210514 (Red Hat 8.5.0-22) RHEL9 Kernel: Depends on container host Compiler: gcc 11.5.0 20240719 (Red Hat 11.5.0-2) Ubuntu 22.04 Kernel: Depends on container host Compiler: gcc (Ubuntu 11.4.0-1ubuntu1~22.04) 11.4.0 Ubuntu 24.04 Kernel: Depends on container host Compiler: gcc (Ubuntu 13.3.0-6ubuntu2~24.04) 13.3.0 To view detailed results, visit: https://lab.dpdk.org/results/dashboard/patchsets/32676/ UNH-IOL DPDK Community Lab To manage your email subscriptions, visit: https://lab.dpdk.org/results/dashboard/preferences/subscriptions/