From mboxrd@z Thu Jan 1 00:00:00 1970 Return-Path: Received: from mails.dpdk.org (mails.dpdk.org [217.70.189.124]) by inbox.dpdk.org (Postfix) with ESMTP id 7C166462BA for ; Tue, 25 Feb 2025 17:50:44 +0100 (CET) Received: from mails.dpdk.org (localhost [127.0.0.1]) by mails.dpdk.org (Postfix) with ESMTP id 777BD40299; Tue, 25 Feb 2025 17:50:44 +0100 (CET) Received: from mail-pj1-f98.google.com (mail-pj1-f98.google.com [209.85.216.98]) by mails.dpdk.org (Postfix) with ESMTP id 7471C40041 for ; Tue, 25 Feb 2025 17:50:43 +0100 (CET) Received: by mail-pj1-f98.google.com with SMTP id 98e67ed59e1d1-2fa8ada6662so11607497a91.1 for ; Tue, 25 Feb 2025 08:50:43 -0800 (PST) DKIM-Signature: v=1; a=rsa-sha256; c=relaxed/relaxed; d=iol.unh.edu; s=unh-iol; t=1740502242; x=1741107042; darn=dpdk.org; h=references:in-reply-to:cc:to:from:subject:message-id:date:from:to :cc:subject:date:message-id:reply-to; bh=E6M5h6U9O16RaNN2JjZY0V8wZTttL9K69GooGq0fDgQ=; b=QlfBMbSlTOVgrLTcTUPzS1vhAlYHeqDn4aMQtTiZqBG+G+HC8VxHbBYPNhpJAxjUez 2xDOE3u5K0/BJ+KHn8KnjyLAVOVMh4xuxdAPHx90kBr0Pqa0NocVMcoi9W8yXdJJ2mZ4 1naViR2lBG51jiPEiKGR7od8aNCt61tPa5TkM= X-Google-DKIM-Signature: v=1; a=rsa-sha256; c=relaxed/relaxed; d=1e100.net; s=20230601; t=1740502242; x=1741107042; h=references:in-reply-to:cc:to:from:subject:message-id:date :x-gm-message-state:from:to:cc:subject:date:message-id:reply-to; bh=E6M5h6U9O16RaNN2JjZY0V8wZTttL9K69GooGq0fDgQ=; b=XAnQUmpL3SyL6UzGFQxoRAeGTLIjrTIOVAT8bCzfHrvl8o14hDalUEQBw7KdJSTERP GE5G8HRnk1mXQAGaGiVDpuO1jwOnA1/OzLTh7hY2TWnjx81Jq+Vyp3CqO4e3q9p6Pr51 LsoxeMCE7SJrxi3iHGCg/SpjDIKGeO5x3nsAfpZIuwVmYqnVBBKIJrFfrsx00VqNIUCl CcJQkF4DWPMYvsECkiHCxmk4sDKx0IiT0M7NDrpyQ7R0vSxuKvP7n3ridAbslPvVog3D pQ2BnVUK9R8HVavRWop9xD3GPEJf75H3lSvVbL9ZVRawhsxi+TTlAJFIQzRo8pvk8nK4 i/Bw== X-Gm-Message-State: AOJu0YyYmAcMBdxYvj3pVjE+91LLqyiZbiNJb1RK6ahpTAtxmI086BiT JfPtimnL+Ts2KqxHDLLjttQmDqUzf7a+AHTT87KCVaj3VqqMNjJyKkRy2CBn2DlK/C9THJCLFpY vCjngShcf3e/AQ56gqgjSOwKnqAzdHot0TN7w2Vpfjhh9wDsVrupna4Dd X-Gm-Gg: ASbGncvzo9nYcykANbRaPfqmENjXsms9gUm3eX9cQ+AQa8O0lOshg8ECn3EpC3zUsyp IJx8mBd/f/TbhDLLlYvuUX6Yr3lMHznqF1BmdkTz0KrUzOt0DVO28DPYP0VDSKfn4YBalDKb0Df 9giiljvdoD7CUILPB9hGakwsFoiTu1CiifBVLYKWIhc46z70qlVMEonHZEzHRLBVcYGF8d/qMcw MxLFR2k6t1iDvv8Q6PUc/mm8BBYByjCTm6/id3BKPqh2BgoXiTvYvU0B8gqJzdezTX7XWrIxyEb 6E1xIqikbDREvde8p171oVEoJJLkvUxJK9ut2r3GI5WjPgFk9/8Q X-Google-Smtp-Source: AGHT+IEv5ClJyfotFsAbMZr3YIxokvOY5OahK4WJzFU7RjlEqns7KNKOgjSgC9MRpKle/PKj7bE/Clvmf65E X-Received: by 2002:a17:90b:180e:b0:2ee:c91a:acf7 with SMTP id 98e67ed59e1d1-2fce868c1d2mr28266451a91.4.1740502242408; Tue, 25 Feb 2025 08:50:42 -0800 (PST) Received: from postal.iol.unh.edu (postal.iol.unh.edu. [2606:4100:3880:1234::84]) by smtp-relay.gmail.com with ESMTPS id 98e67ed59e1d1-2fe6a3226f1sm112576a91.0.2025.02.25.08.50.42 (version=TLS1_2 cipher=ECDHE-ECDSA-AES128-GCM-SHA256 bits=128/128); Tue, 25 Feb 2025 08:50:42 -0800 (PST) X-Relaying-Domain: iol.unh.edu Date: Tue, 25 Feb 2025 08:50:42 -0800 (PST) Message-ID: <67bdf4e2.170a0220.1d118a.6607SMTPIN_ADDED_MISSING@mx.google.com> Received: from [172.21.0.8] (unknown [172.18.0.240]) by postal.iol.unh.edu (Postfix) with ESMTP id 892986052471; Tue, 25 Feb 2025 11:50:41 -0500 (EST) Subject: |SUCCESS| pw152018 [PATCH] net/mlx5: fix queue counter error check From: dpdklab@iol.unh.edu To: Test Report Cc: dpdk-test-reports@iol.unh.edu In-Reply-To: <20250225090845.136968-1-dsosnowski@nvidia.com> References: <20250225090845.136968-1-dsosnowski@nvidia.com> Content-Type: text/plain X-BeenThere: test-report@dpdk.org X-Mailman-Version: 2.1.29 Precedence: list List-Id: automatic DPDK test reports List-Unsubscribe: , List-Archive: List-Post: List-Help: List-Subscribe: , Errors-To: test-report-bounces@dpdk.org Test-Label: iol-unit-amd64-testing Test-Status: SUCCESS http://dpdk.org/patch/152018 _Testing PASS_ Submitter: Dariusz Sosnowski Date: Tuesday, February 25 2025 09:08:45 DPDK git baseline: Repo:dpdk Branch: master CommitID:61fc05f1c6a079c0b25b27d1668450134a784d56 152018 --> testing pass Upstream job id: Generic-Unit-Test-DPDK#318410 Test environment and result as below: +-------------------+----------------+ | Environment | dpdk_unit_test | +===================+================+ | CentOS Stream 9 | PASS | +-------------------+----------------+ | Debian Bullseye | PASS | +-------------------+----------------+ | CentOS Stream 10 | PASS | +-------------------+----------------+ | Debian 12 | PASS | +-------------------+----------------+ | Fedora 41 | PASS | +-------------------+----------------+ | Fedora 40 | PASS | +-------------------+----------------+ | Fedora 40 (Clang) | PASS | +-------------------+----------------+ | Fedora 41 (Clang) | PASS | +-------------------+----------------+ | RHEL8 | PASS | +-------------------+----------------+ | Ubuntu 20.04 | PASS | +-------------------+----------------+ | RHEL9 | PASS | +-------------------+----------------+ | Ubuntu 24.04 | PASS | +-------------------+----------------+ | Ubuntu 22.04 | PASS | +-------------------+----------------+ CentOS Stream 9 Kernel: Depends on container host Compiler: gcc 11.5.0 20240719 (Red Hat 11.5.0-2) Debian Bullseye Kernel: Depends on container host Compiler: gcc (Debian 10.2.1-6) 10.2.1 20210110 CentOS Stream 10 Kernel: Depends on container host Compiler: gcc 14.2.1 20241104 (Red Hat 14.2.1-6) Debian 12 Kernel: Depends on container host Compiler: gcc (Debian 12.2.0-14) 12.2.0 Fedora 41 Kernel: Depends on container host Compiler: gcc 14.2.1 20240912 (Red Hat 14.2.1-3) Fedora 40 Kernel: Depends on container host Compiler: gcc 14.2.1 20240912 (Red Hat 14.2.1-3) Fedora 40 (Clang) Kernel: Depends on container host Compiler: clang 18.1.8 (Fedora 18.1.8-1.fc40) Fedora 41 (Clang) Kernel: Depends on container host Compiler: clang 19.1.5 (Fedora 19.1.5-1.fc41) RHEL8 Kernel: Depends on container host Compiler: gcc 8.5.0 20210514 (Red Hat 8.5.0-22) Ubuntu 20.04 Kernel: Depends on container host Compiler: gcc (Ubuntu 9.4.0-1ubuntu1~20.04.2) 9.4.0 RHEL9 Kernel: Depends on container host Compiler: gcc 11.5.0 20240719 (Red Hat 11.5.0-2) Ubuntu 24.04 Kernel: Depends on container host Compiler: gcc (Ubuntu 13.3.0-6ubuntu2~24.04) 13.3.0 Ubuntu 22.04 Kernel: Depends on container host Compiler: gcc (Ubuntu 11.4.0-1ubuntu1~22.04) 11.4.0 To view detailed results, visit: https://lab.dpdk.org/results/dashboard/patchsets/32676/ UNH-IOL DPDK Community Lab To manage your email subscriptions, visit: https://lab.dpdk.org/results/dashboard/preferences/subscriptions/