From mboxrd@z Thu Jan 1 00:00:00 1970 Return-Path: Received: from mails.dpdk.org (mails.dpdk.org [217.70.189.124]) by inbox.dpdk.org (Postfix) with ESMTP id CD574462BA for ; Tue, 25 Feb 2025 17:51:27 +0100 (CET) Received: from mails.dpdk.org (localhost [127.0.0.1]) by mails.dpdk.org (Postfix) with ESMTP id C926D40299; Tue, 25 Feb 2025 17:51:27 +0100 (CET) Received: from mail-pl1-f225.google.com (mail-pl1-f225.google.com [209.85.214.225]) by mails.dpdk.org (Postfix) with ESMTP id 4207B40041 for ; Tue, 25 Feb 2025 17:51:23 +0100 (CET) Received: by mail-pl1-f225.google.com with SMTP id d9443c01a7336-220f4dd756eso124696305ad.3 for ; Tue, 25 Feb 2025 08:51:23 -0800 (PST) DKIM-Signature: v=1; a=rsa-sha256; c=relaxed/relaxed; d=iol.unh.edu; s=unh-iol; t=1740502282; x=1741107082; darn=dpdk.org; h=references:in-reply-to:cc:to:from:subject:message-id:date:from:to :cc:subject:date:message-id:reply-to; bh=ZHiwSvQpYGQrsBm1d6rqNh8SlYurpiPZi+qJgH/k7BY=; b=F49nbLATp3Ws9uXAUF+hBYDWvDFlv+J1kTocXeSBOYBPStCn0XhWIMGkSHLuTP/PDl sl1bCAMAtw4l1ur2KLY0wiXU0Slwa4PfIHWy6rKFezE2iZo3ParWtUCPeP3iuxdK/Xjk IZ0fzYtkulsM6h8mFg9ZBHeORRJbC0EMukZjQ= X-Google-DKIM-Signature: v=1; a=rsa-sha256; c=relaxed/relaxed; d=1e100.net; s=20230601; t=1740502282; x=1741107082; h=references:in-reply-to:cc:to:from:subject:message-id:date :x-gm-message-state:from:to:cc:subject:date:message-id:reply-to; bh=ZHiwSvQpYGQrsBm1d6rqNh8SlYurpiPZi+qJgH/k7BY=; b=nX1FynTIRDQo+oL3Lx0HG3aZ/9WBa2Sl4U0xAQ0jNHIa9kAPTJHpLy8KGTEqPfxCHk AeqrOOrI3uAPK20cAFp5Hddke1pWaxvgyoERH0azuDgR5yoSpmuNr6uKbrm7GZVcWzJg CZtcePaP+E1wKTB8/083jiQza8WS6qrn4Kdh/yOF8SRnXJe40Q/zshv8fa01SzVQJ/6Q y7wEqEYVaVLwM2sPirRsPPYiHb4pcRInHbwnbVvEsUKb8V14GMD6eCJm3YSh3rr+8fLr GZmbLQzyvr6PiaKLQo4s9CJAfuhYPcYt66eJxvUfX+icomIMsYy1d1yUAP/z4d6/5g9R PJMg== X-Gm-Message-State: AOJu0YyqcW0wbTRcMsqHNNF6kMVirq0QySZVEpLxPdKvPPphtML6XIg5 jtgdOIPdI7O8PawB7fikCmilcTSPDTjn/YRYLuUvslQwJ/mlKVWnJKjMWTFat2WgXvgOnMqzDik vEJGgn7LLtkbWf7US3+sK2+/IHdhc8sk7E5oCyuW8HDGMS6xr80Wlm2QS X-Gm-Gg: ASbGncu+qS+9mi/q6TKOkJsKo2bp40X80ukBfxcjKezIZDIAMRSfKQHDk7rNWOsrhoT l7MnNpswgRvW27W9i83LFLERQfVXo/5clyQKiYdzX6CdCrwg5IhUl9WZNKgIXzXvKeeVNxqLzIq pk15m8SGIO7xSbbzKY/1KnMU8f/bab4zPsW+PiqprvZxZNxVDR5FIKm2qlxpx9vxUPT8pL9xdKs 1Hi8b7qXllKU3smIxTTfH3r3ZNGkFJUZjTRwT0v10ub5r4cRlXRcvMt6ZhXpGSKhKEXjdgahvQB CqjoMdEK7u8O8rn5mOorQohn48YotIAMByUTAusw/FQh8QqJ3sLr X-Google-Smtp-Source: AGHT+IGtoDbo9w2ocV3169VXErXdebBbySgnnZ5u+XtH45p5l+EEmcRgK2UvGVQoikyBYVWv5Eq2PjvIpauA X-Received: by 2002:a17:902:d485:b0:21f:8718:fc64 with SMTP id d9443c01a7336-22307e78b80mr60386615ad.46.1740502282404; Tue, 25 Feb 2025 08:51:22 -0800 (PST) Received: from postal.iol.unh.edu (postal.iol.unh.edu. [2606:4100:3880:1234::84]) by smtp-relay.gmail.com with ESMTPS id d9443c01a7336-2230a00a861sm860215ad.34.2025.02.25.08.51.22 (version=TLS1_2 cipher=ECDHE-ECDSA-AES128-GCM-SHA256 bits=128/128); Tue, 25 Feb 2025 08:51:22 -0800 (PST) X-Relaying-Domain: iol.unh.edu Date: Tue, 25 Feb 2025 08:51:22 -0800 (PST) Message-ID: <67bdf50a.170a0220.3a069a.58e7SMTPIN_ADDED_MISSING@mx.google.com> Received: from [172.17.0.3] (unknown [172.18.0.217]) by postal.iol.unh.edu (Postfix) with ESMTP id 8C9856052471; Tue, 25 Feb 2025 11:51:21 -0500 (EST) Subject: |SUCCESS| pw152018 [PATCH] net/mlx5: fix queue counter error check From: dpdklab@iol.unh.edu To: Test Report Cc: dpdk-test-reports@iol.unh.edu In-Reply-To: <20250225090845.136968-1-dsosnowski@nvidia.com> References: <20250225090845.136968-1-dsosnowski@nvidia.com> Content-Type: text/plain X-BeenThere: test-report@dpdk.org X-Mailman-Version: 2.1.29 Precedence: list List-Id: automatic DPDK test reports List-Unsubscribe: , List-Archive: List-Post: List-Help: List-Subscribe: , Errors-To: test-report-bounces@dpdk.org Test-Label: iol-unit-amd64-testing Test-Status: SUCCESS http://dpdk.org/patch/152018 _Testing PASS_ Submitter: Dariusz Sosnowski Date: Tuesday, February 25 2025 09:08:45 DPDK git baseline: Repo:dpdk Branch: master CommitID:61fc05f1c6a079c0b25b27d1668450134a784d56 152018 --> testing pass Upstream job id: Generic-Unit-Test-DPDK#318412 Test environment and result as below: +-------------------+----------------+ | Environment | dpdk_unit_test | +===================+================+ | CentOS Stream 9 | PASS | +-------------------+----------------+ | Debian Bullseye | PASS | +-------------------+----------------+ | CentOS Stream 10 | PASS | +-------------------+----------------+ | Debian 12 | PASS | +-------------------+----------------+ | Fedora 41 | PASS | +-------------------+----------------+ | Fedora 40 | PASS | +-------------------+----------------+ | Fedora 40 (Clang) | PASS | +-------------------+----------------+ | Fedora 41 (Clang) | PASS | +-------------------+----------------+ | RHEL8 | PASS | +-------------------+----------------+ | Ubuntu 20.04 | PASS | +-------------------+----------------+ | RHEL9 | PASS | +-------------------+----------------+ | Ubuntu 24.04 | PASS | +-------------------+----------------+ | Ubuntu 22.04 | PASS | +-------------------+----------------+ CentOS Stream 9 Kernel: Depends on container host Compiler: gcc 11.5.0 20240719 (Red Hat 11.5.0-2) Debian Bullseye Kernel: Depends on container host Compiler: gcc (Debian 10.2.1-6) 10.2.1 20210110 CentOS Stream 10 Kernel: Depends on container host Compiler: gcc 14.2.1 20241104 (Red Hat 14.2.1-6) Debian 12 Kernel: Depends on container host Compiler: gcc (Debian 12.2.0-14) 12.2.0 Fedora 41 Kernel: Depends on container host Compiler: gcc 14.2.1 20240912 (Red Hat 14.2.1-3) Fedora 40 Kernel: Depends on container host Compiler: gcc 14.2.1 20240912 (Red Hat 14.2.1-3) Fedora 40 (Clang) Kernel: Depends on container host Compiler: clang 18.1.8 (Fedora 18.1.8-1.fc40) Fedora 41 (Clang) Kernel: Depends on container host Compiler: clang 19.1.5 (Fedora 19.1.5-1.fc41) RHEL8 Kernel: Depends on container host Compiler: gcc 8.5.0 20210514 (Red Hat 8.5.0-22) Ubuntu 20.04 Kernel: Depends on container host Compiler: gcc (Ubuntu 9.4.0-1ubuntu1~20.04.2) 9.4.0 RHEL9 Kernel: Depends on container host Compiler: gcc 11.5.0 20240719 (Red Hat 11.5.0-2) Ubuntu 24.04 Kernel: Depends on container host Compiler: gcc (Ubuntu 13.3.0-6ubuntu2~24.04) 13.3.0 Ubuntu 22.04 Kernel: Depends on container host Compiler: gcc (Ubuntu 11.4.0-1ubuntu1~22.04) 11.4.0 To view detailed results, visit: https://lab.dpdk.org/results/dashboard/patchsets/32676/ UNH-IOL DPDK Community Lab To manage your email subscriptions, visit: https://lab.dpdk.org/results/dashboard/preferences/subscriptions/