From mboxrd@z Thu Jan 1 00:00:00 1970 Return-Path: Received: from mails.dpdk.org (mails.dpdk.org [217.70.189.124]) by inbox.dpdk.org (Postfix) with ESMTP id 3C8B0462BD for ; Tue, 25 Feb 2025 18:07:43 +0100 (CET) Received: from mails.dpdk.org (localhost [127.0.0.1]) by mails.dpdk.org (Postfix) with ESMTP id 380EC40299; Tue, 25 Feb 2025 18:07:43 +0100 (CET) Received: from mail-qv1-f99.google.com (mail-qv1-f99.google.com [209.85.219.99]) by mails.dpdk.org (Postfix) with ESMTP id C8E5640041 for ; Tue, 25 Feb 2025 18:07:40 +0100 (CET) Received: by mail-qv1-f99.google.com with SMTP id 6a1803df08f44-6dd15d03eacso162366d6.0 for ; Tue, 25 Feb 2025 09:07:40 -0800 (PST) DKIM-Signature: v=1; a=rsa-sha256; c=relaxed/relaxed; d=iol.unh.edu; s=unh-iol; t=1740503260; x=1741108060; darn=dpdk.org; h=references:in-reply-to:cc:to:from:subject:message-id:date:from:to :cc:subject:date:message-id:reply-to; bh=w17N/IipkbWIVXA2dupFFH+33fwNlcnl6n55jmDlGcg=; b=iGYbrOoTJ7RsrvY4KYTcWVFVtTFwFN2ElALI2dgsad5c+oWfVevJorULgXwamBC9qT aAiscUl0Ey1MYwFIYdgwi/10oBpK8VRPCCQez3XPYvp6ZVE7uw9jbEaQzS49ejewgBGR 37Pe7I2wxAiszzljNuLg5W8BYmTPcmiDz00GY= X-Google-DKIM-Signature: v=1; a=rsa-sha256; c=relaxed/relaxed; d=1e100.net; s=20230601; t=1740503260; x=1741108060; h=references:in-reply-to:cc:to:from:subject:message-id:date :x-gm-message-state:from:to:cc:subject:date:message-id:reply-to; bh=w17N/IipkbWIVXA2dupFFH+33fwNlcnl6n55jmDlGcg=; b=jXQ/5yKLrYGuBDXaJRpERxOL8LvsAW7WLkooYYtbho/5rqxin1TTNb1lShnUPD2Cmg vDMLGtVACwGeVu6AgGxNomnSnBHXbzPDjSXFmS2DZIa4sI8DXGnLtYd6trK8UpApXVpn vqn5tLROorycrlZTOo7PRoJVyAPybQHn0oQMQ8KBSrDEgjQMEIraldOyUhW0x4Uk9yus EH6vHfT7qLv3iKmwBzEOSw3t5z1PC1VTbGVATs29Wr6qrwd4l1CoxuSbFbzMRpdTwNq/ 4Ma80bSZFWII9LqVgMgEEXCSMtJPBMxGqWbEOex/v3+i5Z02qcrsZ25dWl7V3Ak6jB+e 0vJQ== X-Gm-Message-State: AOJu0YxxPX7zK2ScFEx6Ht1ytxhklpWqS8C8nJ1xVdVl9VAnGA/jj3bZ W1hCFgMq/SZHBZE6qYIIl4TX2QmUTW7OkYne8lbxjPB79B1OfySh/eIjoQ/sq11Wk4UMWW8lzs+ D+zXKgUMym9G2VDCBt1qDU5vqu0zRlIaRzVJsKgaqtB5nbpLI2zXyIQS3 X-Gm-Gg: ASbGnctkqUOVhSOMgG8t+G1bif6u/S8hcldgiPUheGA8/0MeS12cwzggilphPAv37fI LhtX4FDKD3TvDKLEWh4JDeBX7n2eqt6hwckaBcH8/lhTpDEZ7kTJYb8QJrTUZtJXZg5/0NNOF4y 71Zqu4Fd9Q8vv8AIRXwXi/dAqbd0ZA7zHq3l+CvQ4w2vFC+pdCBEV+u9dzIdXJ1Fj49G4audqEs iXQ6y0huSe2xNXGrudB/vAmsH/xVpbMgMJsBH59kHoXmnc/sI/oshG/A3UpuPSQuMA7+pvyHmY7 +Mw3QkmOSumXuUM71p791h3f3HiJeQEjozjSSwXDm8s/eUJcqYN1 X-Google-Smtp-Source: AGHT+IGMN/iMygAKk1MNkgVQQrMljNNeH8pXw5YIbPZnPlxlgzGOKAx2aj5KjFDZfGf/ozsveuK3274qQ7xd X-Received: by 2002:a05:6214:4003:b0:6e4:29a1:507c with SMTP id 6a1803df08f44-6e6ae77a95fmr237722096d6.8.1740503260134; Tue, 25 Feb 2025 09:07:40 -0800 (PST) Received: from postal.iol.unh.edu (postal.iol.unh.edu. [2606:4100:3880:1234::84]) by smtp-relay.gmail.com with ESMTPS id 6a1803df08f44-6e87b03b0f0sm972496d6.28.2025.02.25.09.07.40 (version=TLS1_2 cipher=ECDHE-ECDSA-AES128-GCM-SHA256 bits=128/128); Tue, 25 Feb 2025 09:07:40 -0800 (PST) X-Relaying-Domain: iol.unh.edu Date: Tue, 25 Feb 2025 09:07:40 -0800 (PST) Message-ID: <67bdf8dc.050a0220.291481.5a2eSMTPIN_ADDED_MISSING@mx.google.com> Received: from [172.21.0.7] (unknown [172.18.0.240]) by postal.iol.unh.edu (Postfix) with ESMTP id CDA076052471; Tue, 25 Feb 2025 12:07:39 -0500 (EST) Subject: |WARNING| pw151987-151988 [PATCH] [2/2] net/xsc: suppress assign the From: dpdklab@iol.unh.edu To: Test Report Cc: dpdk-test-reports@iol.unh.edu In-Reply-To: <20250225024813.2489747-3-wanry@yunsilicon.com> References: <20250225024813.2489747-3-wanry@yunsilicon.com> Content-Type: text/plain X-BeenThere: test-report@dpdk.org X-Mailman-Version: 2.1.29 Precedence: list List-Id: automatic DPDK test reports List-Unsubscribe: , List-Archive: List-Post: List-Help: List-Subscribe: , Errors-To: test-report-bounces@dpdk.org Test-Label: iol-sample-apps-testing Test-Status: WARNING http://dpdk.org/patch/151988 _Testing issues_ Submitter: Renyong Wan Date: Tuesday, February 25 2025 02:48:15 DPDK git baseline: Repo:dpdk Branch: master CommitID:a9257af8d8f4f2eb93780a48b53e9342f09ebe9a 151987-151988 --> testing issues Upstream job id: ACVP-FIPS-testing#9039 Test environment and result as below: +--------------------+----------------------+----------------------+ | Environment | compressdev_zlib_pmd | dpdk_fips_validation | +====================+======================+======================+ | Ubuntu 22.04 (ARM) | PASS | SKIPPED | +--------------------+----------------------+----------------------+ | Ubuntu 22.04 | PASS | SKIPPED | +--------------------+----------------------+----------------------+ | Ubuntu 20.04 | SKIPPED | WARN | +--------------------+----------------------+----------------------+ ==== 20 line log output for Ubuntu 20.04 (dpdk_fips_validation): ==== INFO:root:Vector set verdict not ready, waiting 30 seconds... INFO:root:Vector set verdict not ready, waiting 30 seconds... INFO:root:Vector set verdict not ready, waiting 30 seconds... INFO:root:Vector set verdict not ready, waiting 30 seconds... INFO:root:Vector set verdict not ready, waiting 30 seconds... INFO:root:Vector set verdict not ready, waiting 30 seconds... INFO:root:Vector set verdict not ready, waiting 30 seconds... INFO:root:Vector set verdict not ready, waiting 30 seconds... INFO:root:Done INFO:root:Using response file... INFO:root:Uploading response file... INFO:root:Fetching verdict... INFO:root:Downloading verdict for vector set 2935401 INFO:root:Vector set verdict not ready, waiting 30 seconds... INFO:root:Vector set verdict not ready, waiting 30 seconds... INFO:root:Vector set verdict not ready, waiting 30 seconds... INFO:root:Vector set verdict not ready, waiting 30 seconds... INFO:root:Vector set verdict not ready, waiting 30 seconds... INFO:root:Vector set verdict not ready, waiting 30 seconds... INFO:root:Done ==== End log output ==== Ubuntu 22.04 (ARM) Kernel: 5.15.0-97-generic Compiler: gcc gcc (Ubuntu 11.4.0-1ubuntu1~22.04) 11.4.0 Ubuntu 22.04 Kernel: 5.15.0-100-generic Compiler: gcc gcc (Ubuntu 11.4.0-1ubuntu1~22.04) 11.4.0 Ubuntu 20.04 Kernel: Depends on container host Compiler: gcc (Ubuntu 9.4.0-1ubuntu1~20.04.2) 9.4.0 To view detailed results, visit: https://lab.dpdk.org/results/dashboard/patchsets/32674/ UNH-IOL DPDK Community Lab To manage your email subscriptions, visit: https://lab.dpdk.org/results/dashboard/preferences/subscriptions/