* |SUCCESS| pw151987-151988 [PATCH 2/2] net/xsc: suppress assign the same value warning
[not found] <20250225024813.2489747-3-wanry@yunsilicon.com>
@ 2025-02-25 2:15 ` qemudev
2025-02-25 2:19 ` qemudev
` (20 subsequent siblings)
21 siblings, 0 replies; 22+ messages in thread
From: qemudev @ 2025-02-25 2:15 UTC (permalink / raw)
To: test-report
Test-Label: loongarch-compilation
Test-Status: SUCCESS
http://dpdk.org/patch/151988
_Compilation OK_
Submitter: Renyong Wan <wanry@yunsilicon.com>
Date: Tue, 25 Feb 2025 10:48:12 +0800
DPDK git baseline: Repo:dpdk-next-net
Branch: main
CommitID: a9257af8d8f4f2eb93780a48b53e9342f09ebe9a
151987-151988 --> meson & ninja build successfully
Test environment and result as below:
+---------------------+----------------+
| Environment | compilation |
+---------------------+----------------+
| Loongnix-Server 8.3 | PASS |
+---------------------+----------------+
Loongnix-Server 8.3
Kernel: 4.19.190+
Compiler: gcc 8.3
^ permalink raw reply [flat|nested] 22+ messages in thread
* |SUCCESS| pw151987-151988 [PATCH 2/2] net/xsc: suppress assign the same value warning
[not found] <20250225024813.2489747-3-wanry@yunsilicon.com>
2025-02-25 2:15 ` |SUCCESS| pw151987-151988 [PATCH 2/2] net/xsc: suppress assign the same value warning qemudev
@ 2025-02-25 2:19 ` qemudev
2025-02-25 2:48 ` |SUCCESS| pw151988 " checkpatch
` (19 subsequent siblings)
21 siblings, 0 replies; 22+ messages in thread
From: qemudev @ 2025-02-25 2:19 UTC (permalink / raw)
To: test-report
Test-Label: loongarch-unit-testing
Test-Status: SUCCESS
http://dpdk.org/patch/151988
_Unit Testing PASS_
Submitter: Renyong Wan <wanry@yunsilicon.com>
Date: Tue, 25 Feb 2025 10:48:12 +0800
DPDK git baseline: Repo:dpdk-next-net
Branch: main
CommitID: a9257af8d8f4f2eb93780a48b53e9342f09ebe9a
151987-151988 --> testing pass
Test environment and result as below:
+---------------------+----------------+
| Environment | dpdk_unit_test |
+---------------------+----------------+
| Loongnix-Server 8.3 | PASS |
+---------------------+----------------+
Loongnix-Server 8.3
Kernel: 4.19.190+
Compiler: gcc 8.3
Test result details:
1/119 DPDK:fast-tests / acl_autotest OK 3.24s
2/119 DPDK:fast-tests / alarm_autotest OK 1.41s
3/119 DPDK:fast-tests / argparse_autotest OK 0.41s
4/119 DPDK:fast-tests / atomic_autotest OK 7.11s
5/119 DPDK:fast-tests / bitcount_autotest OK 0.30s
6/119 DPDK:fast-tests / bitmap_autotest OK 0.31s
7/119 DPDK:fast-tests / bitops_autotest OK 1.81s
8/119 DPDK:fast-tests / bitratestats_autotest OK 0.31s
9/119 DPDK:fast-tests / bitset_autotest OK 3.07s
10/119 DPDK:fast-tests / bpf_autotest OK 0.31s
11/119 DPDK:fast-tests / bpf_convert_autotest OK 0.31s
12/119 DPDK:fast-tests / byteorder_autotest OK 0.31s
13/119 DPDK:fast-tests / cfgfile_autotest OK 0.31s
14/119 DPDK:fast-tests / cksum_autotest OK 0.31s
15/119 DPDK:fast-tests / cmdline_autotest OK 0.31s
16/119 DPDK:fast-tests / common_autotest OK 1.19s
17/119 DPDK:fast-tests / compressdev_autotest SKIP 0.06s exit status 77
18/119 DPDK:fast-tests / cpuflags_autotest OK 0.31s
19/119 DPDK:fast-tests / crc_autotest OK 0.31s
20/119 DPDK:fast-tests / user_delay_us OK 0.31s
21/119 DPDK:fast-tests / debug_autotest OK 18.81s
22/119 DPDK:fast-tests / devargs_autotest OK 0.30s
23/119 DPDK:fast-tests / dispatcher_autotest OK 2.50s
24/119 DPDK:fast-tests / distributor_autotest OK 1.20s
25/119 DPDK:fast-tests / eal_flags_c_opt_autotest OK 0.80s
26/119 DPDK:fast-tests / eal_flags_main_opt_autotest OK 0.22s
27/119 DPDK:fast-tests / eal_flags_n_opt_autotest OK 0.20s
28/119 DPDK:fast-tests / eal_flags_hpet_autotest OK 0.13s
29/119 DPDK:fast-tests / eal_flags_no_huge_autotest OK 0.22s
30/119 DPDK:fast-tests / eal_flags_a_opt_autotest OK 0.30s
31/119 DPDK:fast-tests / eal_flags_b_opt_autotest OK 0.25s
32/119 DPDK:fast-tests / eal_flags_vdev_opt_autotest OK 0.19s
33/119 DPDK:fast-tests / eal_flags_r_opt_autotest OK 0.18s
34/119 DPDK:fast-tests / eal_flags_mem_autotest OK 0.60s
35/119 DPDK:fast-tests / eal_flags_file_prefix_autotest OK 22.24s
36/119 DPDK:fast-tests / eal_flags_misc_autotest OK 1.07s
37/119 DPDK:fast-tests / eal_fs_autotest OK 0.31s
38/119 DPDK:fast-tests / errno_autotest OK 0.31s
39/119 DPDK:fast-tests / ethdev_link_status OK 0.31s
40/119 DPDK:fast-tests / event_eth_tx_adapter_autotest OK 1.68s
41/119 DPDK:fast-tests / event_ring_autotest OK 0.31s
42/119 DPDK:fast-tests / eventdev_common_autotest OK 0.31s
43/119 DPDK:fast-tests / eventdev_selftest_sw OK 7.24s
44/119 DPDK:fast-tests / fbarray_autotest OK 0.31s
45/119 DPDK:fast-tests / fib_autotest OK 1.21s
46/119 DPDK:fast-tests / fib6_autotest OK 1.08s
47/119 DPDK:fast-tests / func_reentrancy_autotest OK 2.25s
48/119 DPDK:fast-tests / graph_autotest OK 0.31s
49/119 DPDK:fast-tests / node_list_dump OK 0.31s
50/119 DPDK:fast-tests / hash_autotest OK 0.93s
51/119 DPDK:fast-tests / hash_readwrite_func_autotest OK 6.38s
52/119 DPDK:fast-tests / interrupt_autotest OK 1.61s
53/119 DPDK:fast-tests / ipfrag_autotest OK 0.07s
54/119 DPDK:fast-tests / ipsec_autotest SKIP 0.40s exit status 77
55/119 DPDK:fast-tests / kvargs_autotest OK 0.40s
56/119 DPDK:fast-tests / latencystats_autotest OK 0.40s
57/119 DPDK:fast-tests / lcore_var_autotest OK 0.54s
58/119 DPDK:fast-tests / lcores_autotest OK 5.21s
59/119 DPDK:fast-tests / logs_autotest OK 0.40s
60/119 DPDK:fast-tests / lpm_autotest OK 2.48s
61/119 DPDK:fast-tests / lpm6_autotest OK 5.54s
62/119 DPDK:fast-tests / malloc_autotest OK 61.33s
63/119 DPDK:fast-tests / mbuf_autotest OK 4.37s
64/119 DPDK:fast-tests / mcslock_autotest OK 2.66s
65/119 DPDK:fast-tests / member_autotest OK 1.52s
66/119 DPDK:fast-tests / memcpy_autotest OK 6.77s
67/119 DPDK:fast-tests / memory_autotest OK 0.08s
68/119 DPDK:fast-tests / mempool_autotest OK 0.43s
69/119 DPDK:fast-tests / memzone_autotest OK 0.14s
70/119 DPDK:fast-tests / meter_autotest OK 0.31s
71/119 DPDK:fast-tests / metrics_autotest OK 0.31s
72/119 DPDK:fast-tests / multiprocess_autotest OK 0.18s
73/119 DPDK:fast-tests / net_ether_autotest OK 0.97s
74/119 DPDK:fast-tests / net_ipv6_autotest OK 0.31s
75/119 DPDK:fast-tests / pcapng_autotest OK 7.01s
76/119 DPDK:fast-tests / pdcp_autotest SKIP 0.06s exit status 77
77/119 DPDK:fast-tests / pdump_autotest OK 0.43s
78/119 DPDK:fast-tests / per_lcore_autotest OK 0.41s
79/119 DPDK:fast-tests / pflock_autotest OK 1.12s
80/119 DPDK:fast-tests / pie_autotest OK 0.31s
81/119 DPDK:fast-tests / ring_pmd_autotest OK 0.31s
82/119 DPDK:fast-tests / power_autotest OK 0.31s
83/119 DPDK:fast-tests / power_cpufreq_autotest SKIP 0.06s exit status 77
84/119 DPDK:fast-tests / power_intel_uncore_autotest SKIP 0.30s exit status 77
85/119 DPDK:fast-tests / power_kvm_vm_autotest SKIP 0.06s exit status 77
86/119 DPDK:fast-tests / prefetch_autotest OK 0.31s
87/119 DPDK:fast-tests / ptr_compress_autotest OK 0.31s
88/119 DPDK:fast-tests / rawdev_autotest OK 0.31s
89/119 DPDK:fast-tests / rcu_qsbr_autotest OK 0.83s
90/119 DPDK:fast-tests / reorder_autotest OK 0.58s
91/119 DPDK:fast-tests / rib_autotest OK 9.15s
92/119 DPDK:fast-tests / rib6_autotest OK 9.16s
93/119 DPDK:fast-tests / ring_autotest OK 0.55s
94/119 DPDK:fast-tests / rwlock_test1_autotest OK 1.26s
95/119 DPDK:fast-tests / rwlock_rda_autotest OK 5.52s
96/119 DPDK:fast-tests / rwlock_rds_wrm_autotest OK 5.50s
97/119 DPDK:fast-tests / rwlock_rde_wro_autotest OK 5.53s
98/119 DPDK:fast-tests / sched_autotest OK 0.52s
99/119 DPDK:fast-tests / security_autotest OK 0.06s
100/119 DPDK:fast-tests / seqlock_autotest OK 2.48s
101/119 DPDK:fast-tests / service_autotest OK 3.18s
102/119 DPDK:fast-tests / soring_autotest OK 0.49s
103/119 DPDK:fast-tests / spinlock_autotest OK 0.56s
104/119 DPDK:fast-tests / stack_autotest OK 0.87s
105/119 DPDK:fast-tests / stack_lf_autotest SKIP 0.06s exit status 77
106/119 DPDK:fast-tests / string_autotest OK 0.47s
107/119 DPDK:fast-tests / table_autotest OK 7.57s
108/119 DPDK:fast-tests / tailq_autotest OK 0.47s
109/119 DPDK:fast-tests / telemetry_data_autotest OK 0.49s
110/119 DPDK:fast-tests / telemetry_json_autotest OK 0.48s
111/119 DPDK:fast-tests / thash_autotest OK 0.49s
112/119 DPDK:fast-tests / threads_autotest OK 0.66s
113/119 DPDK:fast-tests / ticketlock_autotest OK 0.63s
114/119 DPDK:fast-tests / timer_autotest OK 4.00s
115/119 DPDK:fast-tests / trace_autotest OK 0.47s
116/119 DPDK:fast-tests / trace_autotest_with_traces OK 0.49s
117/119 DPDK:fast-tests / vdev_autotest OK 0.58s
118/119 DPDK:fast-tests / version_autotest OK 0.57s
119/119 DPDK:fast-tests / telemetry_all OK 1.41s
Ok: 112
Expected Fail: 0
Fail: 0
Unexpected Pass: 0
Skipped: 7
Timeout: 0
^ permalink raw reply [flat|nested] 22+ messages in thread
* |SUCCESS| pw151988 [PATCH 2/2] net/xsc: suppress assign the same value warning
[not found] <20250225024813.2489747-3-wanry@yunsilicon.com>
2025-02-25 2:15 ` |SUCCESS| pw151987-151988 [PATCH 2/2] net/xsc: suppress assign the same value warning qemudev
2025-02-25 2:19 ` qemudev
@ 2025-02-25 2:48 ` checkpatch
2025-02-25 3:44 ` 0-day Robot
` (18 subsequent siblings)
21 siblings, 0 replies; 22+ messages in thread
From: checkpatch @ 2025-02-25 2:48 UTC (permalink / raw)
To: test-report
Test-Label: checkpatch
Test-Status: SUCCESS
http://dpdk.org/patch/151988
_coding style OK_
^ permalink raw reply [flat|nested] 22+ messages in thread
* |SUCCESS| pw151988 [PATCH 2/2] net/xsc: suppress assign the same value warning
[not found] <20250225024813.2489747-3-wanry@yunsilicon.com>
` (2 preceding siblings ...)
2025-02-25 2:48 ` |SUCCESS| pw151988 " checkpatch
@ 2025-02-25 3:44 ` 0-day Robot
2025-02-25 5:43 ` |SUCCESS| pw151987-151988 [PATCH] [2/2] net/xsc: suppress assign the dpdklab
` (17 subsequent siblings)
21 siblings, 0 replies; 22+ messages in thread
From: 0-day Robot @ 2025-02-25 3:44 UTC (permalink / raw)
To: test-report; +Cc: robot
From: robot@bytheb.org
Test-Label: github-robot: build
Test-Status: SUCCESS
http://patchwork.dpdk.org/patch/151988/
_github build: passed_
Build URL: https://github.com/ovsrobot/dpdk/actions/runs/13512730472
^ permalink raw reply [flat|nested] 22+ messages in thread
* |SUCCESS| pw151987-151988 [PATCH] [2/2] net/xsc: suppress assign the
[not found] <20250225024813.2489747-3-wanry@yunsilicon.com>
` (3 preceding siblings ...)
2025-02-25 3:44 ` 0-day Robot
@ 2025-02-25 5:43 ` dpdklab
2025-02-25 5:45 ` dpdklab
` (16 subsequent siblings)
21 siblings, 0 replies; 22+ messages in thread
From: dpdklab @ 2025-02-25 5:43 UTC (permalink / raw)
To: Test Report; +Cc: dpdk-test-reports
Test-Label: iol-sample-apps-testing
Test-Status: SUCCESS
http://dpdk.org/patch/151988
_Testing PASS_
Submitter: Renyong Wan <wanry@yunsilicon.com>
Date: Tuesday, February 25 2025 02:48:15
DPDK git baseline: Repo:dpdk
Branch: master
CommitID:a9257af8d8f4f2eb93780a48b53e9342f09ebe9a
151987-151988 --> testing pass
Upstream job id: Template-DTS-Pipeline#214284
Test environment and result as below:
+--------------------+----------------------+
| Environment | compressdev_zlib_pmd |
+====================+======================+
| Ubuntu 22.04 (ARM) | PASS |
+--------------------+----------------------+
| Ubuntu 22.04 | PASS |
+--------------------+----------------------+
Ubuntu 22.04 (ARM)
Kernel: 5.15.0-97-generic
Compiler: gcc gcc (Ubuntu 11.4.0-1ubuntu1~22.04) 11.4.0
Ubuntu 22.04
Kernel: 5.15.0-100-generic
Compiler: gcc gcc (Ubuntu 11.4.0-1ubuntu1~22.04) 11.4.0
To view detailed results, visit:
https://lab.dpdk.org/results/dashboard/patchsets/32674/
UNH-IOL DPDK Community Lab
To manage your email subscriptions, visit:
https://lab.dpdk.org/results/dashboard/preferences/subscriptions/
^ permalink raw reply [flat|nested] 22+ messages in thread
* |SUCCESS| pw151987-151988 [PATCH] [2/2] net/xsc: suppress assign the
[not found] <20250225024813.2489747-3-wanry@yunsilicon.com>
` (4 preceding siblings ...)
2025-02-25 5:43 ` |SUCCESS| pw151987-151988 [PATCH] [2/2] net/xsc: suppress assign the dpdklab
@ 2025-02-25 5:45 ` dpdklab
2025-02-25 5:45 ` dpdklab
` (15 subsequent siblings)
21 siblings, 0 replies; 22+ messages in thread
From: dpdklab @ 2025-02-25 5:45 UTC (permalink / raw)
To: Test Report; +Cc: dpdk-test-reports
Test-Label: iol-intel-Functional
Test-Status: SUCCESS
http://dpdk.org/patch/151988
_Functional Testing PASS_
Submitter: Renyong Wan <wanry@yunsilicon.com>
Date: Tuesday, February 25 2025 02:48:15
DPDK git baseline: Repo:dpdk
Branch: master
CommitID:a9257af8d8f4f2eb93780a48b53e9342f09ebe9a
151987-151988 --> functional testing pass
Upstream job id: Template-DTS-Pipeline#214293
Test environment and result as below:
Ubuntu 24.04 LTS
Kernel: 6.8.0-44-generic
Compiler: gcc 13.2.0
NIC: Intel Corporation Ethernet Controller XL710 for 40GbE QSFP+ 40 Mbps
Aggregate Results by Test Suite
+------------+--------+
| Test Suite | Result |
+============+========+
| mac_filter | PASS |
+------------+--------+
Ubuntu 20.04
Kernel: 5.4.0-122-generic
Compiler: gcc 9.4.0
NIC: Intel Corporation Ethernet Converged Network Adapter XL710-QDA2 40000 Mbps
Aggregate Results by Test Suite
+-----------------------------+--------+
| Test Suite | Result |
+=============================+========+
| unit_tests_mbuf | PASS |
+-----------------------------+--------+
| vhost_virtio_user_interrupt | PASS |
+-----------------------------+--------+
| virtio_smoke | PASS |
+-----------------------------+--------+
Ubuntu 22.04
Kernel: 5.15.0-131-generic
Compiler: gcc (Ubuntu 11.4.0-1ubuntu1~22.04) 11.4.0
NIC: Intel Corporation Ethernet Converged Network Adapter 82599ES 10000 Mbps
Aggregate Results by Test Suite
+-----------------------------+--------+
| Test Suite | Result |
+=============================+========+
| unit_tests_mbuf | PASS |
+-----------------------------+--------+
| vhost_virtio_user_interrupt | PASS |
+-----------------------------+--------+
| virtio_smoke | PASS |
+-----------------------------+--------+
To view detailed results, visit:
https://lab.dpdk.org/results/dashboard/patchsets/32674/
UNH-IOL DPDK Community Lab
To manage your email subscriptions, visit:
https://lab.dpdk.org/results/dashboard/preferences/subscriptions/
^ permalink raw reply [flat|nested] 22+ messages in thread
* |SUCCESS| pw151987-151988 [PATCH] [2/2] net/xsc: suppress assign the
[not found] <20250225024813.2489747-3-wanry@yunsilicon.com>
` (5 preceding siblings ...)
2025-02-25 5:45 ` dpdklab
@ 2025-02-25 5:45 ` dpdklab
2025-02-25 5:46 ` dpdklab
` (14 subsequent siblings)
21 siblings, 0 replies; 22+ messages in thread
From: dpdklab @ 2025-02-25 5:45 UTC (permalink / raw)
To: Test Report; +Cc: dpdk-test-reports
Test-Label: iol-intel-Functional
Test-Status: SUCCESS
http://dpdk.org/patch/151988
_Functional Testing PASS_
Submitter: Renyong Wan <wanry@yunsilicon.com>
Date: Tuesday, February 25 2025 02:48:15
DPDK git baseline: Repo:dpdk
Branch: master
CommitID:a9257af8d8f4f2eb93780a48b53e9342f09ebe9a
151987-151988 --> functional testing pass
Upstream job id: Template-DTS-Pipeline#214294
Test environment and result as below:
Ubuntu 24.04 LTS
Kernel: 6.8.0-44-generic
Compiler: gcc 13.2.0
NIC: Intel Corporation Ethernet Controller XL710 for 40GbE QSFP+ 40 Mbps
Aggregate Results by Test Suite
+------------+--------+
| Test Suite | Result |
+============+========+
| mac_filter | PASS |
+------------+--------+
Ubuntu 20.04
Kernel: 5.4.0-122-generic
Compiler: gcc 9.4.0
NIC: Intel Corporation Ethernet Converged Network Adapter XL710-QDA2 40000 Mbps
Aggregate Results by Test Suite
+-----------------------------+--------+
| Test Suite | Result |
+=============================+========+
| unit_tests_mbuf | PASS |
+-----------------------------+--------+
| vhost_virtio_user_interrupt | PASS |
+-----------------------------+--------+
| virtio_smoke | PASS |
+-----------------------------+--------+
Ubuntu 22.04
Kernel: 5.15.0-131-generic
Compiler: gcc (Ubuntu 11.4.0-1ubuntu1~22.04) 11.4.0
NIC: Intel Corporation Ethernet Converged Network Adapter 82599ES 10000 Mbps
Aggregate Results by Test Suite
+-----------------------------+--------+
| Test Suite | Result |
+=============================+========+
| unit_tests_mbuf | PASS |
+-----------------------------+--------+
| vhost_virtio_user_interrupt | PASS |
+-----------------------------+--------+
| virtio_smoke | PASS |
+-----------------------------+--------+
To view detailed results, visit:
https://lab.dpdk.org/results/dashboard/patchsets/32674/
UNH-IOL DPDK Community Lab
To manage your email subscriptions, visit:
https://lab.dpdk.org/results/dashboard/preferences/subscriptions/
^ permalink raw reply [flat|nested] 22+ messages in thread
* |SUCCESS| pw151987-151988 [PATCH] [2/2] net/xsc: suppress assign the
[not found] <20250225024813.2489747-3-wanry@yunsilicon.com>
` (6 preceding siblings ...)
2025-02-25 5:45 ` dpdklab
@ 2025-02-25 5:46 ` dpdklab
2025-02-25 5:56 ` |PENDING| " dpdklab
` (13 subsequent siblings)
21 siblings, 0 replies; 22+ messages in thread
From: dpdklab @ 2025-02-25 5:46 UTC (permalink / raw)
To: Test Report; +Cc: dpdk-test-reports
Test-Label: iol-sample-apps-testing
Test-Status: SUCCESS
http://dpdk.org/patch/151988
_Testing PASS_
Submitter: Renyong Wan <wanry@yunsilicon.com>
Date: Tuesday, February 25 2025 02:48:15
DPDK git baseline: Repo:dpdk
Branch: master
CommitID:a9257af8d8f4f2eb93780a48b53e9342f09ebe9a
151987-151988 --> testing pass
Upstream job id: Template-DTS-Pipeline#214299
Test environment and result as below:
+--------------------+----------------------+
| Environment | compressdev_zlib_pmd |
+====================+======================+
| Ubuntu 22.04 (ARM) | PASS |
+--------------------+----------------------+
Ubuntu 22.04 (ARM)
Kernel: 5.15.0-97-generic
Compiler: gcc gcc (Ubuntu 11.4.0-1ubuntu1~22.04) 11.4.0
To view detailed results, visit:
https://lab.dpdk.org/results/dashboard/patchsets/32674/
UNH-IOL DPDK Community Lab
To manage your email subscriptions, visit:
https://lab.dpdk.org/results/dashboard/preferences/subscriptions/
^ permalink raw reply [flat|nested] 22+ messages in thread
* |PENDING| pw151987-151988 [PATCH] [2/2] net/xsc: suppress assign the
[not found] <20250225024813.2489747-3-wanry@yunsilicon.com>
` (7 preceding siblings ...)
2025-02-25 5:46 ` dpdklab
@ 2025-02-25 5:56 ` dpdklab
2025-02-25 6:05 ` |SUCCESS| " dpdklab
` (12 subsequent siblings)
21 siblings, 0 replies; 22+ messages in thread
From: dpdklab @ 2025-02-25 5:56 UTC (permalink / raw)
To: Test Report; +Cc: dpdk-test-reports
Test-Label: iol-compile-arm64-testing
Test-Status: PENDING
http://dpdk.org/patch/151988
_Testing pending_
Submitter: Renyong Wan <wanry@yunsilicon.com>
Date: Tuesday, February 25 2025 02:48:15
DPDK git baseline: Repo:dpdk
Branch: master
CommitID:a9257af8d8f4f2eb93780a48b53e9342f09ebe9a
151987-151988 --> testing pending
Upstream job id: Generic-DPDK-Compile-Meson#364981
Test environment and result as below:
+------------------------------------+--------------------+
| Environment | dpdk_meson_compile |
+====================================+====================+
| Ubuntu 20.04 ARM SVE | PASS |
+------------------------------------+--------------------+
| Ubuntu 20.04 ARM GCC Cross Compile | PEND |
+------------------------------------+--------------------+
| RHEL9 (ARM) | PEND |
+------------------------------------+--------------------+
| Fedora 40 (ARM) | PEND |
+------------------------------------+--------------------+
| Debian 12 with MUSDK | PEND |
+------------------------------------+--------------------+
| Fedora 40 (ARM Clang) | PEND |
+------------------------------------+--------------------+
| Fedora 41 (ARM) | PEND |
+------------------------------------+--------------------+
Ubuntu 20.04 ARM SVE
Kernel: Depends on container host
Compiler: gcc (Ubuntu 10.5.0-1ubuntu1~20.04) 10.5.0
Ubuntu 20.04 ARM GCC Cross Compile
Kernel: Depends on container host
Compiler: aarch64-linux-gnu-gcc (Ubuntu 9.4.0-1ubuntu1~20.04.2) 9.4.0
RHEL9 (ARM)
Kernel: Depends on container host
Compiler: gcc 11.5.0 20240719 (Red Hat 11.5.0-2)
Fedora 40 (ARM)
Kernel: Depends on container host
Compiler: gcc 14.2.1 20240912 (Red Hat 14.2.1-3)
Debian 12 with MUSDK
Kernel: Depends on container host
Compiler: gcc (Debian 12.2.0-14) 12.2.0
Fedora 40 (ARM Clang)
Kernel: Depends on container host
Compiler: clang 18.1.8 (Fedora 18.1.8-1.fc40)
Fedora 41 (ARM)
Kernel: Depends on container host
Compiler: gcc 14.2.1 20240912 (Red Hat 14.2.1-3)
To view detailed results, visit:
https://lab.dpdk.org/results/dashboard/patchsets/32674/
UNH-IOL DPDK Community Lab
To manage your email subscriptions, visit:
https://lab.dpdk.org/results/dashboard/preferences/subscriptions/
^ permalink raw reply [flat|nested] 22+ messages in thread
* |SUCCESS| pw151987-151988 [PATCH] [2/2] net/xsc: suppress assign the
[not found] <20250225024813.2489747-3-wanry@yunsilicon.com>
` (8 preceding siblings ...)
2025-02-25 5:56 ` |PENDING| " dpdklab
@ 2025-02-25 6:05 ` dpdklab
2025-02-25 6:22 ` dpdklab
` (11 subsequent siblings)
21 siblings, 0 replies; 22+ messages in thread
From: dpdklab @ 2025-02-25 6:05 UTC (permalink / raw)
To: Test Report; +Cc: dpdk-test-reports
Test-Label: iol-intel-Functional
Test-Status: SUCCESS
http://dpdk.org/patch/151988
_Functional Testing PASS_
Submitter: Renyong Wan <wanry@yunsilicon.com>
Date: Tuesday, February 25 2025 02:48:15
DPDK git baseline: Repo:dpdk
Branch: master
CommitID:a9257af8d8f4f2eb93780a48b53e9342f09ebe9a
151987-151988 --> functional testing pass
Upstream job id: Template-DTS-Pipeline#214296
Test environment and result as below:
Ubuntu 24.04 LTS
Kernel: 6.8.0-44-generic
Compiler: gcc 13.2.0
NIC: Intel Corporation Ethernet Controller XL710 for 40GbE QSFP+ 40 Mbps
Aggregate Results by Test Suite
+------------+--------+
| Test Suite | Result |
+============+========+
| mac_filter | PASS |
+------------+--------+
Ubuntu 20.04
Kernel: 5.4.0-122-generic
Compiler: gcc 9.4.0
NIC: Intel Corporation Ethernet Converged Network Adapter XL710-QDA2 40000 Mbps
Aggregate Results by Test Suite
+-----------------------------+--------+
| Test Suite | Result |
+=============================+========+
| unit_tests_mbuf | PASS |
+-----------------------------+--------+
| vhost_virtio_user_interrupt | PASS |
+-----------------------------+--------+
| virtio_smoke | PASS |
+-----------------------------+--------+
Ubuntu 22.04
Kernel: 5.15.0-131-generic
Compiler: gcc (Ubuntu 11.4.0-1ubuntu1~22.04) 11.4.0
NIC: Intel Corporation Ethernet Converged Network Adapter 82599ES 10000 Mbps
Aggregate Results by Test Suite
+-----------------------------+--------+
| Test Suite | Result |
+=============================+========+
| unit_tests_mbuf | PASS |
+-----------------------------+--------+
| vhost_virtio_user_interrupt | PASS |
+-----------------------------+--------+
| virtio_smoke | PASS |
+-----------------------------+--------+
Arm Ampere Altra - Ubuntu 22.04
Kernel: 5.15.83+
Compiler: gcc 11.4
NIC: Intel Corporation QAT 8970 0 Mbps
Aggregate Results by Test Suite
+----------------------------+--------+
| Test Suite | Result |
+============================+========+
| crypto_perf_cryptodev_perf | PASS |
+----------------------------+--------+
To view detailed results, visit:
https://lab.dpdk.org/results/dashboard/patchsets/32674/
UNH-IOL DPDK Community Lab
To manage your email subscriptions, visit:
https://lab.dpdk.org/results/dashboard/preferences/subscriptions/
^ permalink raw reply [flat|nested] 22+ messages in thread
* |SUCCESS| pw151987-151988 [PATCH] [2/2] net/xsc: suppress assign the
[not found] <20250225024813.2489747-3-wanry@yunsilicon.com>
` (9 preceding siblings ...)
2025-02-25 6:05 ` |SUCCESS| " dpdklab
@ 2025-02-25 6:22 ` dpdklab
2025-02-25 6:52 ` |PENDING| " dpdklab
` (10 subsequent siblings)
21 siblings, 0 replies; 22+ messages in thread
From: dpdklab @ 2025-02-25 6:22 UTC (permalink / raw)
To: Test Report; +Cc: dpdk-test-reports
Test-Label: iol-sample-apps-testing
Test-Status: SUCCESS
http://dpdk.org/patch/151988
_Testing PASS_
Submitter: Renyong Wan <wanry@yunsilicon.com>
Date: Tuesday, February 25 2025 02:48:15
DPDK git baseline: Repo:dpdk
Branch: master
CommitID:a9257af8d8f4f2eb93780a48b53e9342f09ebe9a
151987-151988 --> testing pass
Upstream job id: Template-DTS-Pipeline#214298
Test environment and result as below:
+--------------------+----------------------+
| Environment | compressdev_zlib_pmd |
+====================+======================+
| Ubuntu 22.04 (ARM) | PASS |
+--------------------+----------------------+
| Ubuntu 22.04 | PASS |
+--------------------+----------------------+
Ubuntu 22.04 (ARM)
Kernel: 5.15.0-97-generic
Compiler: gcc gcc (Ubuntu 11.4.0-1ubuntu1~22.04) 11.4.0
Ubuntu 22.04
Kernel: 5.15.0-100-generic
Compiler: gcc gcc (Ubuntu 11.4.0-1ubuntu1~22.04) 11.4.0
To view detailed results, visit:
https://lab.dpdk.org/results/dashboard/patchsets/32674/
UNH-IOL DPDK Community Lab
To manage your email subscriptions, visit:
https://lab.dpdk.org/results/dashboard/preferences/subscriptions/
^ permalink raw reply [flat|nested] 22+ messages in thread
* |PENDING| pw151987-151988 [PATCH] [2/2] net/xsc: suppress assign the
[not found] <20250225024813.2489747-3-wanry@yunsilicon.com>
` (10 preceding siblings ...)
2025-02-25 6:22 ` dpdklab
@ 2025-02-25 6:52 ` dpdklab
2025-02-25 7:12 ` dpdklab
` (9 subsequent siblings)
21 siblings, 0 replies; 22+ messages in thread
From: dpdklab @ 2025-02-25 6:52 UTC (permalink / raw)
To: Test Report; +Cc: dpdk-test-reports
Test-Label: iol-abi-testing
Test-Status: PENDING
http://dpdk.org/patch/151988
_Testing pending_
Submitter: Renyong Wan <wanry@yunsilicon.com>
Date: Tuesday, February 25 2025 02:48:15
DPDK git baseline: Repo:dpdk
Branch: master
CommitID:a9257af8d8f4f2eb93780a48b53e9342f09ebe9a
151987-151988 --> testing pending
Upstream job id: Generic-DPDK-Compile-ABI#117641
Test environment and result as below:
+-------------------+----------+
| Environment | abi_test |
+===================+==========+
| CentOS Stream 9 | PEND |
+-------------------+----------+
| CentOS Stream 10 | PASS |
+-------------------+----------+
| Debian Bullseye | PEND |
+-------------------+----------+
| Debian 12 | PEND |
+-------------------+----------+
| Fedora 40 (Clang) | PEND |
+-------------------+----------+
| Fedora 40 | PEND |
+-------------------+----------+
| Fedora 41 (Clang) | PEND |
+-------------------+----------+
| Fedora 41 | PEND |
+-------------------+----------+
| openSUSE Leap 15 | PEND |
+-------------------+----------+
| RHEL8 | PEND |
+-------------------+----------+
| RHEL9 | PEND |
+-------------------+----------+
| Ubuntu 24.04 | PEND |
+-------------------+----------+
| Ubuntu 22.04 | PEND |
+-------------------+----------+
CentOS Stream 9
Kernel: Depends on container host
Compiler: gcc 11.5.0 20240719 (Red Hat 11.5.0-2)
CentOS Stream 10
Kernel: Depends on container host
Compiler: gcc 14.2.1 20241104 (Red Hat 14.2.1-6)
Debian Bullseye
Kernel: Depends on container host
Compiler: gcc (Debian 10.2.1-6) 10.2.1 20210110
Debian 12
Kernel: Depends on container host
Compiler: gcc (Debian 12.2.0-14) 12.2.0
Fedora 40 (Clang)
Kernel: Depends on container host
Compiler: clang 18.1.8 (Fedora 18.1.8-1.fc40)
Fedora 40
Kernel: Depends on container host
Compiler: gcc 14.2.1 20240912 (Red Hat 14.2.1-3)
Fedora 41 (Clang)
Kernel: Depends on container host
Compiler: clang 19.1.5 (Fedora 19.1.5-1.fc41)
Fedora 41
Kernel: Depends on container host
Compiler: gcc 14.2.1 20240912 (Red Hat 14.2.1-3)
openSUSE Leap 15
Kernel: Depends on container host
Compiler: gcc (SUSE Linux) 7.5.0
RHEL8
Kernel: Depends on container host
Compiler: gcc 8.5.0 20210514 (Red Hat 8.5.0-22)
RHEL9
Kernel: Depends on container host
Compiler: gcc 11.5.0 20240719 (Red Hat 11.5.0-2)
Ubuntu 24.04
Kernel: Depends on container host
Compiler: gcc (Ubuntu 13.3.0-6ubuntu2~24.04) 13.3.0
Ubuntu 22.04
Kernel: Depends on container host
Compiler: gcc (Ubuntu 11.4.0-1ubuntu1~22.04) 11.4.0
To view detailed results, visit:
https://lab.dpdk.org/results/dashboard/patchsets/32674/
UNH-IOL DPDK Community Lab
To manage your email subscriptions, visit:
https://lab.dpdk.org/results/dashboard/preferences/subscriptions/
^ permalink raw reply [flat|nested] 22+ messages in thread
* |PENDING| pw151987-151988 [PATCH] [2/2] net/xsc: suppress assign the
[not found] <20250225024813.2489747-3-wanry@yunsilicon.com>
` (11 preceding siblings ...)
2025-02-25 6:52 ` |PENDING| " dpdklab
@ 2025-02-25 7:12 ` dpdklab
2025-02-25 7:29 ` dpdklab
` (8 subsequent siblings)
21 siblings, 0 replies; 22+ messages in thread
From: dpdklab @ 2025-02-25 7:12 UTC (permalink / raw)
To: Test Report; +Cc: dpdk-test-reports
Test-Label: iol-unit-amd64-testing
Test-Status: PENDING
http://dpdk.org/patch/151988
_Testing pending_
Submitter: Renyong Wan <wanry@yunsilicon.com>
Date: Tuesday, February 25 2025 02:48:15
DPDK git baseline: Repo:dpdk
Branch: master
CommitID:a9257af8d8f4f2eb93780a48b53e9342f09ebe9a
151987-151988 --> testing pending
Upstream job id: Generic-Unit-Test-DPDK#318174
Test environment and result as below:
+-------------------+----------------+
| Environment | dpdk_unit_test |
+===================+================+
| CentOS Stream 10 | PASS |
+-------------------+----------------+
| CentOS Stream 9 | PEND |
+-------------------+----------------+
| Debian Bullseye | PEND |
+-------------------+----------------+
| Debian 12 | PEND |
+-------------------+----------------+
| Fedora 40 | PEND |
+-------------------+----------------+
| Fedora 41 | PEND |
+-------------------+----------------+
| Fedora 40 (Clang) | PEND |
+-------------------+----------------+
| Ubuntu 20.04 | PEND |
+-------------------+----------------+
| RHEL8 | PEND |
+-------------------+----------------+
| Fedora 41 (Clang) | PEND |
+-------------------+----------------+
| RHEL9 | PEND |
+-------------------+----------------+
| Ubuntu 22.04 | PEND |
+-------------------+----------------+
| Ubuntu 24.04 | PEND |
+-------------------+----------------+
CentOS Stream 10
Kernel: Depends on container host
Compiler: gcc 14.2.1 20241104 (Red Hat 14.2.1-6)
CentOS Stream 9
Kernel: Depends on container host
Compiler: gcc 11.5.0 20240719 (Red Hat 11.5.0-2)
Debian Bullseye
Kernel: Depends on container host
Compiler: gcc (Debian 10.2.1-6) 10.2.1 20210110
Debian 12
Kernel: Depends on container host
Compiler: gcc (Debian 12.2.0-14) 12.2.0
Fedora 40
Kernel: Depends on container host
Compiler: gcc 14.2.1 20240912 (Red Hat 14.2.1-3)
Fedora 41
Kernel: Depends on container host
Compiler: gcc 14.2.1 20240912 (Red Hat 14.2.1-3)
Fedora 40 (Clang)
Kernel: Depends on container host
Compiler: clang 18.1.8 (Fedora 18.1.8-1.fc40)
Ubuntu 20.04
Kernel: Depends on container host
Compiler: gcc (Ubuntu 9.4.0-1ubuntu1~20.04.2) 9.4.0
RHEL8
Kernel: Depends on container host
Compiler: gcc 8.5.0 20210514 (Red Hat 8.5.0-22)
Fedora 41 (Clang)
Kernel: Depends on container host
Compiler: clang 19.1.5 (Fedora 19.1.5-1.fc41)
RHEL9
Kernel: Depends on container host
Compiler: gcc 11.5.0 20240719 (Red Hat 11.5.0-2)
Ubuntu 22.04
Kernel: Depends on container host
Compiler: gcc (Ubuntu 11.4.0-1ubuntu1~22.04) 11.4.0
Ubuntu 24.04
Kernel: Depends on container host
Compiler: gcc (Ubuntu 13.3.0-6ubuntu2~24.04) 13.3.0
To view detailed results, visit:
https://lab.dpdk.org/results/dashboard/patchsets/32674/
UNH-IOL DPDK Community Lab
To manage your email subscriptions, visit:
https://lab.dpdk.org/results/dashboard/preferences/subscriptions/
^ permalink raw reply [flat|nested] 22+ messages in thread
* |PENDING| pw151987-151988 [PATCH] [2/2] net/xsc: suppress assign the
[not found] <20250225024813.2489747-3-wanry@yunsilicon.com>
` (12 preceding siblings ...)
2025-02-25 7:12 ` dpdklab
@ 2025-02-25 7:29 ` dpdklab
2025-02-25 7:29 ` |SUCCESS| " dpdklab
` (7 subsequent siblings)
21 siblings, 0 replies; 22+ messages in thread
From: dpdklab @ 2025-02-25 7:29 UTC (permalink / raw)
To: Test Report; +Cc: dpdk-test-reports
Test-Label: iol-compile-arm64-testing
Test-Status: PENDING
http://dpdk.org/patch/151988
_Testing pending_
Submitter: Renyong Wan <wanry@yunsilicon.com>
Date: Tuesday, February 25 2025 02:48:15
DPDK git baseline: Repo:dpdk
Branch: master
CommitID:a9257af8d8f4f2eb93780a48b53e9342f09ebe9a
151987-151988 --> testing pending
Upstream job id: Generic-DPDK-Compile-Meson#364996
Test environment and result as below:
+------------------------------------+--------------------+
| Environment | dpdk_meson_compile |
+====================================+====================+
| RHEL9 (ARM) | PASS |
+------------------------------------+--------------------+
| Ubuntu 20.04 ARM SVE | PEND |
+------------------------------------+--------------------+
| Ubuntu 20.04 ARM GCC Cross Compile | PEND |
+------------------------------------+--------------------+
| Debian 12 with MUSDK | PEND |
+------------------------------------+--------------------+
| Ubuntu 22.04 (ARM) | PEND |
+------------------------------------+--------------------+
| Ubuntu 24.04 (ARM) | PEND |
+------------------------------------+--------------------+
| Ubuntu 20.04 (ARM) | PEND |
+------------------------------------+--------------------+
| CentOS Stream 9 (ARM) | PEND |
+------------------------------------+--------------------+
| CentOS Stream 10 (ARM) | PEND |
+------------------------------------+--------------------+
RHEL9 (ARM)
Kernel: Depends on container host
Compiler: gcc 11.5.0 20240719 (Red Hat 11.5.0-2)
Ubuntu 20.04 ARM SVE
Kernel: Depends on container host
Compiler: gcc (Ubuntu 10.5.0-1ubuntu1~20.04) 10.5.0
Ubuntu 20.04 ARM GCC Cross Compile
Kernel: Depends on container host
Compiler: aarch64-linux-gnu-gcc (Ubuntu 9.4.0-1ubuntu1~20.04.2) 9.4.0
Debian 12 with MUSDK
Kernel: Depends on container host
Compiler: gcc (Debian 12.2.0-14) 12.2.0
Ubuntu 22.04 (ARM)
Kernel: Depends on container host
Compiler: gcc (Ubuntu 11.4.0-1ubuntu1~22.04) 11.4.0
Ubuntu 24.04 (ARM)
Kernel: Depends on container host
Compiler: gcc (Ubuntu 13.3.0-6ubuntu2~24.04) 13.3.0
Ubuntu 20.04 (ARM)
Kernel: Depends on container host
Compiler: gcc (Ubuntu 9.4.0-1ubuntu1~20.04.2) 9.4.0
CentOS Stream 9 (ARM)
Kernel: Depends on container host
Compiler: gcc 11.5.0 20240719 (Red Hat 11.5.0-2)
CentOS Stream 10 (ARM)
Kernel: Depends on container host
Compiler: gcc 14.2.1 20241104 (Red Hat 14.2.1-6)
To view detailed results, visit:
https://lab.dpdk.org/results/dashboard/patchsets/32674/
UNH-IOL DPDK Community Lab
To manage your email subscriptions, visit:
https://lab.dpdk.org/results/dashboard/preferences/subscriptions/
^ permalink raw reply [flat|nested] 22+ messages in thread
* |SUCCESS| pw151987-151988 [PATCH] [2/2] net/xsc: suppress assign the
[not found] <20250225024813.2489747-3-wanry@yunsilicon.com>
` (13 preceding siblings ...)
2025-02-25 7:29 ` dpdklab
@ 2025-02-25 7:29 ` dpdklab
2025-02-25 7:30 ` dpdklab
` (6 subsequent siblings)
21 siblings, 0 replies; 22+ messages in thread
From: dpdklab @ 2025-02-25 7:29 UTC (permalink / raw)
To: Test Report; +Cc: dpdk-test-reports
Test-Label: iol-compile-arm64-testing
Test-Status: SUCCESS
http://dpdk.org/patch/151988
_Testing PASS_
Submitter: Renyong Wan <wanry@yunsilicon.com>
Date: Tuesday, February 25 2025 02:48:15
DPDK git baseline: Repo:dpdk
Branch: master
CommitID:a9257af8d8f4f2eb93780a48b53e9342f09ebe9a
151987-151988 --> testing pass
Upstream job id: Generic-DPDK-Compile-Meson#364984
Test environment and result as below:
+----------------------------------------+--------------------+
| Environment | dpdk_meson_compile |
+========================================+====================+
| Ubuntu 20.04 ARM SVE | PASS |
+----------------------------------------+--------------------+
| Ubuntu 20.04 ARM GCC Cross Compile | PASS |
+----------------------------------------+--------------------+
| RHEL9 (ARM) | PASS |
+----------------------------------------+--------------------+
| Fedora 40 (ARM) | PASS |
+----------------------------------------+--------------------+
| Debian 12 with MUSDK | PASS |
+----------------------------------------+--------------------+
| Fedora 40 (ARM Clang) | PASS |
+----------------------------------------+--------------------+
| Fedora 41 (ARM) | PASS |
+----------------------------------------+--------------------+
| Fedora 41 (ARM Clang) | PASS |
+----------------------------------------+--------------------+
| Ubuntu 20.04 (ARM) | PASS |
+----------------------------------------+--------------------+
| Ubuntu 22.04 (ARM) | PASS |
+----------------------------------------+--------------------+
| Ubuntu 24.04 (ARM) | PASS |
+----------------------------------------+--------------------+
| CentOS Stream 10 (ARM) | PASS |
+----------------------------------------+--------------------+
| CentOS Stream 9 (ARM) | PASS |
+----------------------------------------+--------------------+
| Debian 11 (Buster) (ARM) | PASS |
+----------------------------------------+--------------------+
| Debian 12 (arm) | PASS |
+----------------------------------------+--------------------+
| Ubuntu 20.04 ARM Clang Cross Compile | PASS |
+----------------------------------------+--------------------+
| Ubuntu 20.04 aarch32 GCC Cross Compile | PASS |
+----------------------------------------+--------------------+
Ubuntu 20.04 ARM SVE
Kernel: Depends on container host
Compiler: gcc (Ubuntu 10.5.0-1ubuntu1~20.04) 10.5.0
Ubuntu 20.04 ARM GCC Cross Compile
Kernel: Depends on container host
Compiler: aarch64-linux-gnu-gcc (Ubuntu 9.4.0-1ubuntu1~20.04.2) 9.4.0
RHEL9 (ARM)
Kernel: Depends on container host
Compiler: gcc 11.5.0 20240719 (Red Hat 11.5.0-2)
Fedora 40 (ARM)
Kernel: Depends on container host
Compiler: gcc 14.2.1 20240912 (Red Hat 14.2.1-3)
Debian 12 with MUSDK
Kernel: Depends on container host
Compiler: gcc (Debian 12.2.0-14) 12.2.0
Fedora 40 (ARM Clang)
Kernel: Depends on container host
Compiler: clang 18.1.8 (Fedora 18.1.8-1.fc40)
Fedora 41 (ARM)
Kernel: Depends on container host
Compiler: gcc 14.2.1 20240912 (Red Hat 14.2.1-3)
Fedora 41 (ARM Clang)
Kernel: Depends on container host
Compiler: clang 19.1.5 (Fedora 19.1.5-1.fc41)
Ubuntu 20.04 (ARM)
Kernel: Depends on container host
Compiler: gcc (Ubuntu 9.4.0-1ubuntu1~20.04.2) 9.4.0
Ubuntu 22.04 (ARM)
Kernel: Depends on container host
Compiler: gcc (Ubuntu 11.4.0-1ubuntu1~22.04) 11.4.0
Ubuntu 24.04 (ARM)
Kernel: Depends on container host
Compiler: gcc (Ubuntu 13.3.0-6ubuntu2~24.04) 13.3.0
CentOS Stream 10 (ARM)
Kernel: Depends on container host
Compiler: gcc 14.2.1 20241104 (Red Hat 14.2.1-6)
CentOS Stream 9 (ARM)
Kernel: Depends on container host
Compiler: gcc 11.5.0 20240719 (Red Hat 11.5.0-2)
Debian 11 (Buster) (ARM)
Kernel: Depends on container host
Compiler: gcc (Debian 10.2.1-6) 10.2.1 20210110
Debian 12 (arm)
Kernel: Depends on container host
Compiler: gcc (Debian 12.2.0-14) 12.2.0
Ubuntu 20.04 ARM Clang Cross Compile
Kernel: Depends on container host
Compiler: clang 10.0.0-4ubuntu1
Ubuntu 20.04 aarch32 GCC Cross Compile
Kernel: Depends on container host
Compiler: gcc 9.4.0
To view detailed results, visit:
https://lab.dpdk.org/results/dashboard/patchsets/32674/
UNH-IOL DPDK Community Lab
To manage your email subscriptions, visit:
https://lab.dpdk.org/results/dashboard/preferences/subscriptions/
^ permalink raw reply [flat|nested] 22+ messages in thread
* |SUCCESS| pw151987-151988 [PATCH] [2/2] net/xsc: suppress assign the
[not found] <20250225024813.2489747-3-wanry@yunsilicon.com>
` (14 preceding siblings ...)
2025-02-25 7:29 ` |SUCCESS| " dpdklab
@ 2025-02-25 7:30 ` dpdklab
2025-02-25 7:54 ` |PENDING| " dpdklab
` (5 subsequent siblings)
21 siblings, 0 replies; 22+ messages in thread
From: dpdklab @ 2025-02-25 7:30 UTC (permalink / raw)
To: Test Report; +Cc: dpdk-test-reports
Test-Label: iol-compile-amd64-testing
Test-Status: SUCCESS
http://dpdk.org/patch/151988
_Testing PASS_
Submitter: Renyong Wan <wanry@yunsilicon.com>
Date: Tuesday, February 25 2025 02:48:15
DPDK git baseline: Repo:dpdk
Branch: master
CommitID:a9257af8d8f4f2eb93780a48b53e9342f09ebe9a
151987-151988 --> testing pass
Upstream job id: Generic-DPDK-Compile-Meson#364976
Test environment and result as below:
+-------------------+--------------------+-------------------+------------------+
| Environment | dpdk_meson_compile | dpdk_compile_spdk | dpdk_compile_ovs |
+===================+====================+===================+==================+
| CentOS Stream 9 | PASS | PASS | SKIPPED |
+-------------------+--------------------+-------------------+------------------+
| CentOS Stream 10 | PASS | SKIPPED | SKIPPED |
+-------------------+--------------------+-------------------+------------------+
| Debian Bullseye | PASS | PASS | SKIPPED |
+-------------------+--------------------+-------------------+------------------+
| Fedora 41 | PASS | PASS | PASS |
+-------------------+--------------------+-------------------+------------------+
| Fedora 41 (Clang) | PASS | PASS | PASS |
+-------------------+--------------------+-------------------+------------------+
| Debian 12 | PASS | PASS | SKIPPED |
+-------------------+--------------------+-------------------+------------------+
| Fedora 40 (Clang) | PASS | PASS | SKIPPED |
+-------------------+--------------------+-------------------+------------------+
| Fedora 40 | PASS | PASS | SKIPPED |
+-------------------+--------------------+-------------------+------------------+
| Ubuntu 20.04 | PASS | SKIPPED | SKIPPED |
+-------------------+--------------------+-------------------+------------------+
| openSUSE Leap 15 | PASS | SKIPPED | SKIPPED |
+-------------------+--------------------+-------------------+------------------+
| RHEL9 | PASS | SKIPPED | SKIPPED |
+-------------------+--------------------+-------------------+------------------+
| RHEL8 | PASS | SKIPPED | SKIPPED |
+-------------------+--------------------+-------------------+------------------+
| Ubuntu 24.04 | PASS | PASS | PASS |
+-------------------+--------------------+-------------------+------------------+
| Alpine | PASS | SKIPPED | SKIPPED |
+-------------------+--------------------+-------------------+------------------+
| FreeBSD 13.4 | PASS | SKIPPED | SKIPPED |
+-------------------+--------------------+-------------------+------------------+
| FreeBSD 14.2 | PASS | SKIPPED | SKIPPED |
+-------------------+--------------------+-------------------+------------------+
| Ubuntu 22.04 | PASS | PASS | SKIPPED |
+-------------------+--------------------+-------------------+------------------+
CentOS Stream 9
Kernel: Depends on container host
Compiler: gcc 11.5.0 20240719 (Red Hat 11.5.0-2)
CentOS Stream 10
Kernel: Depends on container host
Compiler: gcc 14.2.1 20241104 (Red Hat 14.2.1-6)
Debian Bullseye
Kernel: Depends on container host
Compiler: gcc (Debian 10.2.1-6) 10.2.1 20210110
Fedora 41
Kernel: Depends on container host
Compiler: gcc 14.2.1 20240912 (Red Hat 14.2.1-3)
Fedora 41 (Clang)
Kernel: Depends on container host
Compiler: clang 19.1.5 (Fedora 19.1.5-1.fc41)
Debian 12
Kernel: Depends on container host
Compiler: gcc (Debian 12.2.0-14) 12.2.0
Fedora 40 (Clang)
Kernel: Depends on container host
Compiler: clang 18.1.8 (Fedora 18.1.8-1.fc40)
Fedora 40
Kernel: Depends on container host
Compiler: gcc 14.2.1 20240912 (Red Hat 14.2.1-3)
Ubuntu 20.04
Kernel: Depends on container host
Compiler: gcc (Ubuntu 9.4.0-1ubuntu1~20.04.2) 9.4.0
openSUSE Leap 15
Kernel: Depends on container host
Compiler: gcc (SUSE Linux) 7.5.0
RHEL9
Kernel: Depends on container host
Compiler: gcc 11.5.0 20240719 (Red Hat 11.5.0-2)
RHEL8
Kernel: Depends on container host
Compiler: gcc 8.5.0 20210514 (Red Hat 8.5.0-22)
Ubuntu 24.04
Kernel: Depends on container host
Compiler: gcc (Ubuntu 13.3.0-6ubuntu2~24.04) 13.3.0
Alpine
Kernel: Depends on container host
Compiler: gcc (Alpine 14.2.0) 14.2.0
FreeBSD 13.4
Kernel: 13.4-RELEASE-p1
Compiler: clang 18.1.6
FreeBSD 14.2
Kernel: 14.2-RELEASE
Compiler: clang 18.1.6
Ubuntu 22.04
Kernel: Depends on container host
Compiler: gcc (Ubuntu 11.4.0-1ubuntu1~22.04) 11.4.0
To view detailed results, visit:
https://lab.dpdk.org/results/dashboard/patchsets/32674/
UNH-IOL DPDK Community Lab
To manage your email subscriptions, visit:
https://lab.dpdk.org/results/dashboard/preferences/subscriptions/
^ permalink raw reply [flat|nested] 22+ messages in thread
* |PENDING| pw151987-151988 [PATCH] [2/2] net/xsc: suppress assign the
[not found] <20250225024813.2489747-3-wanry@yunsilicon.com>
` (15 preceding siblings ...)
2025-02-25 7:30 ` dpdklab
@ 2025-02-25 7:54 ` dpdklab
2025-02-25 8:05 ` |SUCCESS| " dpdklab
` (4 subsequent siblings)
21 siblings, 0 replies; 22+ messages in thread
From: dpdklab @ 2025-02-25 7:54 UTC (permalink / raw)
To: Test Report; +Cc: dpdk-test-reports
Test-Label: iol-compile-amd64-testing
Test-Status: PENDING
http://dpdk.org/patch/151988
_Testing pending_
Submitter: Renyong Wan <wanry@yunsilicon.com>
Date: Tuesday, February 25 2025 02:48:15
DPDK git baseline: Repo:dpdk
Branch: master
CommitID:a9257af8d8f4f2eb93780a48b53e9342f09ebe9a
151987-151988 --> testing pending
Upstream job id: Generic-VM-DPDK-Compile-Meson#33505
Test environment and result as below:
+-------------------+--------------------+-------------------+------------------+
| Environment | dpdk_meson_compile | dpdk_compile_spdk | dpdk_compile_ovs |
+===================+====================+===================+==================+
| CentOS Stream 9 | PEND | PEND | SKIPPED |
+-------------------+--------------------+-------------------+------------------+
| Debian Bullseye | PEND | PEND | SKIPPED |
+-------------------+--------------------+-------------------+------------------+
| CentOS Stream 10 | PEND | SKIPPED | SKIPPED |
+-------------------+--------------------+-------------------+------------------+
| Fedora 40 (Clang) | PEND | PEND | SKIPPED |
+-------------------+--------------------+-------------------+------------------+
| Fedora 40 | PEND | PEND | SKIPPED |
+-------------------+--------------------+-------------------+------------------+
| Fedora 41 (Clang) | PEND | PEND | PEND |
+-------------------+--------------------+-------------------+------------------+
| Debian 12 | PEND | PEND | SKIPPED |
+-------------------+--------------------+-------------------+------------------+
| Fedora 41 | PEND | PEND | PEND |
+-------------------+--------------------+-------------------+------------------+
| openSUSE Leap 15 | PEND | SKIPPED | SKIPPED |
+-------------------+--------------------+-------------------+------------------+
| RHEL9 | PEND | SKIPPED | SKIPPED |
+-------------------+--------------------+-------------------+------------------+
| Ubuntu 20.04 | PEND | SKIPPED | SKIPPED |
+-------------------+--------------------+-------------------+------------------+
| Ubuntu 22.04 | PEND | PEND | SKIPPED |
+-------------------+--------------------+-------------------+------------------+
| Ubuntu 24.04 | PEND | PEND | PEND |
+-------------------+--------------------+-------------------+------------------+
| Alpine | PEND | SKIPPED | SKIPPED |
+-------------------+--------------------+-------------------+------------------+
| FreeBSD 13.4 | PASS | SKIPPED | SKIPPED |
+-------------------+--------------------+-------------------+------------------+
| FreeBSD 14.2 | PEND | SKIPPED | SKIPPED |
+-------------------+--------------------+-------------------+------------------+
CentOS Stream 9
Kernel: Depends on container host
Compiler: gcc 11.5.0 20240719 (Red Hat 11.5.0-2)
Debian Bullseye
Kernel: Depends on container host
Compiler: gcc (Debian 10.2.1-6) 10.2.1 20210110
CentOS Stream 10
Kernel: Depends on container host
Compiler: gcc 14.2.1 20241104 (Red Hat 14.2.1-6)
Fedora 40 (Clang)
Kernel: Depends on container host
Compiler: clang 18.1.8 (Fedora 18.1.8-1.fc40)
Fedora 40
Kernel: Depends on container host
Compiler: gcc 14.2.1 20240912 (Red Hat 14.2.1-3)
Fedora 41 (Clang)
Kernel: Depends on container host
Compiler: clang 19.1.5 (Fedora 19.1.5-1.fc41)
Debian 12
Kernel: Depends on container host
Compiler: gcc (Debian 12.2.0-14) 12.2.0
Fedora 41
Kernel: Depends on container host
Compiler: gcc 14.2.1 20240912 (Red Hat 14.2.1-3)
openSUSE Leap 15
Kernel: Depends on container host
Compiler: gcc (SUSE Linux) 7.5.0
RHEL9
Kernel: Depends on container host
Compiler: gcc 11.5.0 20240719 (Red Hat 11.5.0-2)
Ubuntu 20.04
Kernel: Depends on container host
Compiler: gcc (Ubuntu 9.4.0-1ubuntu1~20.04.2) 9.4.0
Ubuntu 22.04
Kernel: Depends on container host
Compiler: gcc (Ubuntu 11.4.0-1ubuntu1~22.04) 11.4.0
Ubuntu 24.04
Kernel: Depends on container host
Compiler: gcc (Ubuntu 13.3.0-6ubuntu2~24.04) 13.3.0
Alpine
Kernel: Depends on container host
Compiler: gcc (Alpine 14.2.0) 14.2.0
FreeBSD 13.4
Kernel: 13.4-RELEASE-p1
Compiler: clang 18.1.6
FreeBSD 14.2
Kernel: 14.2-RELEASE
Compiler: clang 18.1.6
To view detailed results, visit:
https://lab.dpdk.org/results/dashboard/patchsets/32674/
UNH-IOL DPDK Community Lab
To manage your email subscriptions, visit:
https://lab.dpdk.org/results/dashboard/preferences/subscriptions/
^ permalink raw reply [flat|nested] 22+ messages in thread
* |SUCCESS| pw151987-151988 [PATCH] [2/2] net/xsc: suppress assign the
[not found] <20250225024813.2489747-3-wanry@yunsilicon.com>
` (16 preceding siblings ...)
2025-02-25 7:54 ` |PENDING| " dpdklab
@ 2025-02-25 8:05 ` dpdklab
2025-02-25 8:05 ` dpdklab
` (3 subsequent siblings)
21 siblings, 0 replies; 22+ messages in thread
From: dpdklab @ 2025-02-25 8:05 UTC (permalink / raw)
To: Test Report; +Cc: dpdk-test-reports
Test-Label: iol-abi-testing
Test-Status: SUCCESS
http://dpdk.org/patch/151988
_Testing PASS_
Submitter: Renyong Wan <wanry@yunsilicon.com>
Date: Tuesday, February 25 2025 02:48:15
DPDK git baseline: Repo:dpdk
Branch: master
CommitID:a9257af8d8f4f2eb93780a48b53e9342f09ebe9a
151987-151988 --> testing pass
Upstream job id: Generic-DPDK-Compile-ABI#117651
Test environment and result as below:
+-------------------+----------+
| Environment | abi_test |
+===================+==========+
| CentOS Stream 9 | PASS |
+-------------------+----------+
| CentOS Stream 10 | PASS |
+-------------------+----------+
| Debian Bullseye | PASS |
+-------------------+----------+
| Debian 12 | PASS |
+-------------------+----------+
| Fedora 40 (Clang) | PASS |
+-------------------+----------+
| Fedora 40 | PASS |
+-------------------+----------+
| Fedora 41 (Clang) | PASS |
+-------------------+----------+
| Fedora 41 | PASS |
+-------------------+----------+
| openSUSE Leap 15 | PASS |
+-------------------+----------+
| RHEL8 | PASS |
+-------------------+----------+
| RHEL9 | PASS |
+-------------------+----------+
| Ubuntu 24.04 | PASS |
+-------------------+----------+
| Ubuntu 22.04 | PASS |
+-------------------+----------+
CentOS Stream 9
Kernel: Depends on container host
Compiler: gcc 11.5.0 20240719 (Red Hat 11.5.0-2)
CentOS Stream 10
Kernel: Depends on container host
Compiler: gcc 14.2.1 20241104 (Red Hat 14.2.1-6)
Debian Bullseye
Kernel: Depends on container host
Compiler: gcc (Debian 10.2.1-6) 10.2.1 20210110
Debian 12
Kernel: Depends on container host
Compiler: gcc (Debian 12.2.0-14) 12.2.0
Fedora 40 (Clang)
Kernel: Depends on container host
Compiler: clang 18.1.8 (Fedora 18.1.8-1.fc40)
Fedora 40
Kernel: Depends on container host
Compiler: gcc 14.2.1 20240912 (Red Hat 14.2.1-3)
Fedora 41 (Clang)
Kernel: Depends on container host
Compiler: clang 19.1.5 (Fedora 19.1.5-1.fc41)
Fedora 41
Kernel: Depends on container host
Compiler: gcc 14.2.1 20240912 (Red Hat 14.2.1-3)
openSUSE Leap 15
Kernel: Depends on container host
Compiler: gcc (SUSE Linux) 7.5.0
RHEL8
Kernel: Depends on container host
Compiler: gcc 8.5.0 20210514 (Red Hat 8.5.0-22)
RHEL9
Kernel: Depends on container host
Compiler: gcc 11.5.0 20240719 (Red Hat 11.5.0-2)
Ubuntu 24.04
Kernel: Depends on container host
Compiler: gcc (Ubuntu 13.3.0-6ubuntu2~24.04) 13.3.0
Ubuntu 22.04
Kernel: Depends on container host
Compiler: gcc (Ubuntu 11.4.0-1ubuntu1~22.04) 11.4.0
To view detailed results, visit:
https://lab.dpdk.org/results/dashboard/patchsets/32674/
UNH-IOL DPDK Community Lab
To manage your email subscriptions, visit:
https://lab.dpdk.org/results/dashboard/preferences/subscriptions/
^ permalink raw reply [flat|nested] 22+ messages in thread
* |SUCCESS| pw151987-151988 [PATCH] [2/2] net/xsc: suppress assign the
[not found] <20250225024813.2489747-3-wanry@yunsilicon.com>
` (17 preceding siblings ...)
2025-02-25 8:05 ` |SUCCESS| " dpdklab
@ 2025-02-25 8:05 ` dpdklab
2025-02-25 10:04 ` dpdklab
` (2 subsequent siblings)
21 siblings, 0 replies; 22+ messages in thread
From: dpdklab @ 2025-02-25 8:05 UTC (permalink / raw)
To: Test Report; +Cc: dpdk-test-reports
Test-Label: iol-compile-amd64-testing
Test-Status: SUCCESS
http://dpdk.org/patch/151988
_Testing PASS_
Submitter: Renyong Wan <wanry@yunsilicon.com>
Date: Tuesday, February 25 2025 02:48:15
DPDK git baseline: Repo:dpdk
Branch: master
CommitID:a9257af8d8f4f2eb93780a48b53e9342f09ebe9a
151987-151988 --> testing pass
Upstream job id: Windows-Compile-DPDK-VS#5036
Test environment and result as below:
+---------------------+--------------------+-------------------+------------------+-------------------+
| Environment | dpdk_meson_compile | dpdk_compile_spdk | dpdk_compile_ovs | dpdk_msvc_compile |
+=====================+====================+===================+==================+===================+
| CentOS Stream 9 | PASS | PASS | SKIPPED | SKIPPED |
+---------------------+--------------------+-------------------+------------------+-------------------+
| CentOS Stream 10 | PASS | SKIPPED | SKIPPED | SKIPPED |
+---------------------+--------------------+-------------------+------------------+-------------------+
| Debian Bullseye | PASS | PASS | SKIPPED | SKIPPED |
+---------------------+--------------------+-------------------+------------------+-------------------+
| Fedora 41 | PASS | PASS | PASS | SKIPPED |
+---------------------+--------------------+-------------------+------------------+-------------------+
| Fedora 41 (Clang) | PASS | PASS | PASS | SKIPPED |
+---------------------+--------------------+-------------------+------------------+-------------------+
| Debian 12 | PASS | PASS | SKIPPED | SKIPPED |
+---------------------+--------------------+-------------------+------------------+-------------------+
| Fedora 40 (Clang) | PASS | PASS | SKIPPED | SKIPPED |
+---------------------+--------------------+-------------------+------------------+-------------------+
| Fedora 40 | PASS | PASS | SKIPPED | SKIPPED |
+---------------------+--------------------+-------------------+------------------+-------------------+
| Ubuntu 20.04 | PASS | SKIPPED | SKIPPED | SKIPPED |
+---------------------+--------------------+-------------------+------------------+-------------------+
| openSUSE Leap 15 | PASS | SKIPPED | SKIPPED | SKIPPED |
+---------------------+--------------------+-------------------+------------------+-------------------+
| RHEL9 | PASS | SKIPPED | SKIPPED | SKIPPED |
+---------------------+--------------------+-------------------+------------------+-------------------+
| RHEL8 | PASS | SKIPPED | SKIPPED | SKIPPED |
+---------------------+--------------------+-------------------+------------------+-------------------+
| Ubuntu 24.04 | PASS | PASS | PASS | SKIPPED |
+---------------------+--------------------+-------------------+------------------+-------------------+
| Alpine | PASS | SKIPPED | SKIPPED | SKIPPED |
+---------------------+--------------------+-------------------+------------------+-------------------+
| FreeBSD 13.4 | PASS | SKIPPED | SKIPPED | SKIPPED |
+---------------------+--------------------+-------------------+------------------+-------------------+
| FreeBSD 14.2 | PASS | SKIPPED | SKIPPED | SKIPPED |
+---------------------+--------------------+-------------------+------------------+-------------------+
| Ubuntu 22.04 | PASS | PASS | SKIPPED | SKIPPED |
+---------------------+--------------------+-------------------+------------------+-------------------+
| Windows Server 2022 | SKIPPED | SKIPPED | SKIPPED | PASS |
+---------------------+--------------------+-------------------+------------------+-------------------+
CentOS Stream 9
Kernel: Depends on container host
Compiler: gcc 11.5.0 20240719 (Red Hat 11.5.0-2)
CentOS Stream 10
Kernel: Depends on container host
Compiler: gcc 14.2.1 20241104 (Red Hat 14.2.1-6)
Debian Bullseye
Kernel: Depends on container host
Compiler: gcc (Debian 10.2.1-6) 10.2.1 20210110
Fedora 41
Kernel: Depends on container host
Compiler: gcc 14.2.1 20240912 (Red Hat 14.2.1-3)
Fedora 41 (Clang)
Kernel: Depends on container host
Compiler: clang 19.1.5 (Fedora 19.1.5-1.fc41)
Debian 12
Kernel: Depends on container host
Compiler: gcc (Debian 12.2.0-14) 12.2.0
Fedora 40 (Clang)
Kernel: Depends on container host
Compiler: clang 18.1.8 (Fedora 18.1.8-1.fc40)
Fedora 40
Kernel: Depends on container host
Compiler: gcc 14.2.1 20240912 (Red Hat 14.2.1-3)
Ubuntu 20.04
Kernel: Depends on container host
Compiler: gcc (Ubuntu 9.4.0-1ubuntu1~20.04.2) 9.4.0
openSUSE Leap 15
Kernel: Depends on container host
Compiler: gcc (SUSE Linux) 7.5.0
RHEL9
Kernel: Depends on container host
Compiler: gcc 11.5.0 20240719 (Red Hat 11.5.0-2)
RHEL8
Kernel: Depends on container host
Compiler: gcc 8.5.0 20210514 (Red Hat 8.5.0-22)
Ubuntu 24.04
Kernel: Depends on container host
Compiler: gcc (Ubuntu 13.3.0-6ubuntu2~24.04) 13.3.0
Alpine
Kernel: Depends on container host
Compiler: gcc (Alpine 14.2.0) 14.2.0
FreeBSD 13.4
Kernel: 13.4-RELEASE-p1
Compiler: clang 18.1.6
FreeBSD 14.2
Kernel: 14.2-RELEASE
Compiler: clang 18.1.6
Ubuntu 22.04
Kernel: Depends on container host
Compiler: gcc (Ubuntu 11.4.0-1ubuntu1~22.04) 11.4.0
Windows Server 2022
Kernel: 10.0.20348.2031
Compiler: clang 15.0.7, gcc 14.1.0 (MinGW), and MSVC VS 19.39.33521
To view detailed results, visit:
https://lab.dpdk.org/results/dashboard/patchsets/32674/
UNH-IOL DPDK Community Lab
To manage your email subscriptions, visit:
https://lab.dpdk.org/results/dashboard/preferences/subscriptions/
^ permalink raw reply [flat|nested] 22+ messages in thread
* |SUCCESS| pw151987-151988 [PATCH] [2/2] net/xsc: suppress assign the
[not found] <20250225024813.2489747-3-wanry@yunsilicon.com>
` (18 preceding siblings ...)
2025-02-25 8:05 ` dpdklab
@ 2025-02-25 10:04 ` dpdklab
2025-02-25 11:15 ` dpdklab
2025-02-25 17:07 ` |WARNING| " dpdklab
21 siblings, 0 replies; 22+ messages in thread
From: dpdklab @ 2025-02-25 10:04 UTC (permalink / raw)
To: Test Report; +Cc: dpdk-test-reports
Test-Label: iol-compile-amd64-testing
Test-Status: SUCCESS
http://dpdk.org/patch/151988
_Testing PASS_
Submitter: Renyong Wan <wanry@yunsilicon.com>
Date: Tuesday, February 25 2025 02:48:15
DPDK git baseline: Repo:dpdk
Branch: master
CommitID:a9257af8d8f4f2eb93780a48b53e9342f09ebe9a
151987-151988 --> testing pass
Upstream job id: Windows-Compile-DPDK-Native#26894
Test environment and result as below:
+---------------------+--------------------+-------------------+------------------+-------------------+----------------------+
| Environment | dpdk_meson_compile | dpdk_compile_spdk | dpdk_compile_ovs | dpdk_msvc_compile | dpdk_mingw64_compile |
+=====================+====================+===================+==================+===================+======================+
| CentOS Stream 9 | PASS | PASS | SKIPPED | SKIPPED | SKIPPED |
+---------------------+--------------------+-------------------+------------------+-------------------+----------------------+
| CentOS Stream 10 | PASS | SKIPPED | SKIPPED | SKIPPED | SKIPPED |
+---------------------+--------------------+-------------------+------------------+-------------------+----------------------+
| Debian Bullseye | PASS | PASS | SKIPPED | SKIPPED | SKIPPED |
+---------------------+--------------------+-------------------+------------------+-------------------+----------------------+
| Fedora 41 | PASS | PASS | PASS | SKIPPED | SKIPPED |
+---------------------+--------------------+-------------------+------------------+-------------------+----------------------+
| Fedora 41 (Clang) | PASS | PASS | PASS | SKIPPED | SKIPPED |
+---------------------+--------------------+-------------------+------------------+-------------------+----------------------+
| Debian 12 | PASS | PASS | SKIPPED | SKIPPED | SKIPPED |
+---------------------+--------------------+-------------------+------------------+-------------------+----------------------+
| Fedora 40 (Clang) | PASS | PASS | SKIPPED | SKIPPED | SKIPPED |
+---------------------+--------------------+-------------------+------------------+-------------------+----------------------+
| Fedora 40 | PASS | PASS | SKIPPED | SKIPPED | SKIPPED |
+---------------------+--------------------+-------------------+------------------+-------------------+----------------------+
| Ubuntu 20.04 | PASS | SKIPPED | SKIPPED | SKIPPED | SKIPPED |
+---------------------+--------------------+-------------------+------------------+-------------------+----------------------+
| openSUSE Leap 15 | PASS | SKIPPED | SKIPPED | SKIPPED | SKIPPED |
+---------------------+--------------------+-------------------+------------------+-------------------+----------------------+
| RHEL9 | PASS | SKIPPED | SKIPPED | SKIPPED | SKIPPED |
+---------------------+--------------------+-------------------+------------------+-------------------+----------------------+
| RHEL8 | PASS | SKIPPED | SKIPPED | SKIPPED | SKIPPED |
+---------------------+--------------------+-------------------+------------------+-------------------+----------------------+
| Ubuntu 24.04 | PASS | PASS | PASS | SKIPPED | SKIPPED |
+---------------------+--------------------+-------------------+------------------+-------------------+----------------------+
| Alpine | PASS | SKIPPED | SKIPPED | SKIPPED | SKIPPED |
+---------------------+--------------------+-------------------+------------------+-------------------+----------------------+
| FreeBSD 13.4 | PASS | SKIPPED | SKIPPED | SKIPPED | SKIPPED |
+---------------------+--------------------+-------------------+------------------+-------------------+----------------------+
| FreeBSD 14.2 | PASS | SKIPPED | SKIPPED | SKIPPED | SKIPPED |
+---------------------+--------------------+-------------------+------------------+-------------------+----------------------+
| Ubuntu 22.04 | PASS | PASS | SKIPPED | SKIPPED | SKIPPED |
+---------------------+--------------------+-------------------+------------------+-------------------+----------------------+
| Windows Server 2022 | SKIPPED | SKIPPED | SKIPPED | PASS | PASS |
+---------------------+--------------------+-------------------+------------------+-------------------+----------------------+
CentOS Stream 9
Kernel: Depends on container host
Compiler: gcc 11.5.0 20240719 (Red Hat 11.5.0-2)
CentOS Stream 10
Kernel: Depends on container host
Compiler: gcc 14.2.1 20241104 (Red Hat 14.2.1-6)
Debian Bullseye
Kernel: Depends on container host
Compiler: gcc (Debian 10.2.1-6) 10.2.1 20210110
Fedora 41
Kernel: Depends on container host
Compiler: gcc 14.2.1 20240912 (Red Hat 14.2.1-3)
Fedora 41 (Clang)
Kernel: Depends on container host
Compiler: clang 19.1.5 (Fedora 19.1.5-1.fc41)
Debian 12
Kernel: Depends on container host
Compiler: gcc (Debian 12.2.0-14) 12.2.0
Fedora 40 (Clang)
Kernel: Depends on container host
Compiler: clang 18.1.8 (Fedora 18.1.8-1.fc40)
Fedora 40
Kernel: Depends on container host
Compiler: gcc 14.2.1 20240912 (Red Hat 14.2.1-3)
Ubuntu 20.04
Kernel: Depends on container host
Compiler: gcc (Ubuntu 9.4.0-1ubuntu1~20.04.2) 9.4.0
openSUSE Leap 15
Kernel: Depends on container host
Compiler: gcc (SUSE Linux) 7.5.0
RHEL9
Kernel: Depends on container host
Compiler: gcc 11.5.0 20240719 (Red Hat 11.5.0-2)
RHEL8
Kernel: Depends on container host
Compiler: gcc 8.5.0 20210514 (Red Hat 8.5.0-22)
Ubuntu 24.04
Kernel: Depends on container host
Compiler: gcc (Ubuntu 13.3.0-6ubuntu2~24.04) 13.3.0
Alpine
Kernel: Depends on container host
Compiler: gcc (Alpine 14.2.0) 14.2.0
FreeBSD 13.4
Kernel: 13.4-RELEASE-p1
Compiler: clang 18.1.6
FreeBSD 14.2
Kernel: 14.2-RELEASE
Compiler: clang 18.1.6
Ubuntu 22.04
Kernel: Depends on container host
Compiler: gcc (Ubuntu 11.4.0-1ubuntu1~22.04) 11.4.0
Windows Server 2022
Kernel: 10.0.20348.2031
Compiler: clang 15.0.7, gcc 14.1.0 (MinGW), and MSVC VS 19.39.33521
To view detailed results, visit:
https://lab.dpdk.org/results/dashboard/patchsets/32674/
UNH-IOL DPDK Community Lab
To manage your email subscriptions, visit:
https://lab.dpdk.org/results/dashboard/preferences/subscriptions/
^ permalink raw reply [flat|nested] 22+ messages in thread
* |SUCCESS| pw151987-151988 [PATCH] [2/2] net/xsc: suppress assign the
[not found] <20250225024813.2489747-3-wanry@yunsilicon.com>
` (19 preceding siblings ...)
2025-02-25 10:04 ` dpdklab
@ 2025-02-25 11:15 ` dpdklab
2025-02-25 17:07 ` |WARNING| " dpdklab
21 siblings, 0 replies; 22+ messages in thread
From: dpdklab @ 2025-02-25 11:15 UTC (permalink / raw)
To: Test Report; +Cc: dpdk-test-reports
Test-Label: iol-sample-apps-testing
Test-Status: SUCCESS
http://dpdk.org/patch/151988
_Testing PASS_
Submitter: Renyong Wan <wanry@yunsilicon.com>
Date: Tuesday, February 25 2025 02:48:15
DPDK git baseline: Repo:dpdk
Branch: master
CommitID:a9257af8d8f4f2eb93780a48b53e9342f09ebe9a
151987-151988 --> testing pass
Upstream job id: ACVP-FIPS-testing#9038
Test environment and result as below:
+--------------------+----------------------+----------------------+
| Environment | compressdev_zlib_pmd | dpdk_fips_validation |
+====================+======================+======================+
| Ubuntu 22.04 (ARM) | PASS | SKIPPED |
+--------------------+----------------------+----------------------+
| Ubuntu 22.04 | PASS | SKIPPED |
+--------------------+----------------------+----------------------+
| Ubuntu 20.04 | SKIPPED | PASS |
+--------------------+----------------------+----------------------+
Ubuntu 22.04 (ARM)
Kernel: 5.15.0-97-generic
Compiler: gcc gcc (Ubuntu 11.4.0-1ubuntu1~22.04) 11.4.0
Ubuntu 22.04
Kernel: 5.15.0-100-generic
Compiler: gcc gcc (Ubuntu 11.4.0-1ubuntu1~22.04) 11.4.0
Ubuntu 20.04
Kernel: Depends on container host
Compiler: gcc (Ubuntu 9.4.0-1ubuntu1~20.04.2) 9.4.0
To view detailed results, visit:
https://lab.dpdk.org/results/dashboard/patchsets/32674/
UNH-IOL DPDK Community Lab
To manage your email subscriptions, visit:
https://lab.dpdk.org/results/dashboard/preferences/subscriptions/
^ permalink raw reply [flat|nested] 22+ messages in thread
* |WARNING| pw151987-151988 [PATCH] [2/2] net/xsc: suppress assign the
[not found] <20250225024813.2489747-3-wanry@yunsilicon.com>
` (20 preceding siblings ...)
2025-02-25 11:15 ` dpdklab
@ 2025-02-25 17:07 ` dpdklab
21 siblings, 0 replies; 22+ messages in thread
From: dpdklab @ 2025-02-25 17:07 UTC (permalink / raw)
To: Test Report; +Cc: dpdk-test-reports
Test-Label: iol-sample-apps-testing
Test-Status: WARNING
http://dpdk.org/patch/151988
_Testing issues_
Submitter: Renyong Wan <wanry@yunsilicon.com>
Date: Tuesday, February 25 2025 02:48:15
DPDK git baseline: Repo:dpdk
Branch: master
CommitID:a9257af8d8f4f2eb93780a48b53e9342f09ebe9a
151987-151988 --> testing issues
Upstream job id: ACVP-FIPS-testing#9039
Test environment and result as below:
+--------------------+----------------------+----------------------+
| Environment | compressdev_zlib_pmd | dpdk_fips_validation |
+====================+======================+======================+
| Ubuntu 22.04 (ARM) | PASS | SKIPPED |
+--------------------+----------------------+----------------------+
| Ubuntu 22.04 | PASS | SKIPPED |
+--------------------+----------------------+----------------------+
| Ubuntu 20.04 | SKIPPED | WARN |
+--------------------+----------------------+----------------------+
==== 20 line log output for Ubuntu 20.04 (dpdk_fips_validation): ====
INFO:root:Vector set verdict not ready, waiting 30 seconds...
INFO:root:Vector set verdict not ready, waiting 30 seconds...
INFO:root:Vector set verdict not ready, waiting 30 seconds...
INFO:root:Vector set verdict not ready, waiting 30 seconds...
INFO:root:Vector set verdict not ready, waiting 30 seconds...
INFO:root:Vector set verdict not ready, waiting 30 seconds...
INFO:root:Vector set verdict not ready, waiting 30 seconds...
INFO:root:Vector set verdict not ready, waiting 30 seconds...
INFO:root:Done
INFO:root:Using response file...
INFO:root:Uploading response file...
INFO:root:Fetching verdict...
INFO:root:Downloading verdict for vector set 2935401
INFO:root:Vector set verdict not ready, waiting 30 seconds...
INFO:root:Vector set verdict not ready, waiting 30 seconds...
INFO:root:Vector set verdict not ready, waiting 30 seconds...
INFO:root:Vector set verdict not ready, waiting 30 seconds...
INFO:root:Vector set verdict not ready, waiting 30 seconds...
INFO:root:Vector set verdict not ready, waiting 30 seconds...
INFO:root:Done
==== End log output ====
Ubuntu 22.04 (ARM)
Kernel: 5.15.0-97-generic
Compiler: gcc gcc (Ubuntu 11.4.0-1ubuntu1~22.04) 11.4.0
Ubuntu 22.04
Kernel: 5.15.0-100-generic
Compiler: gcc gcc (Ubuntu 11.4.0-1ubuntu1~22.04) 11.4.0
Ubuntu 20.04
Kernel: Depends on container host
Compiler: gcc (Ubuntu 9.4.0-1ubuntu1~20.04.2) 9.4.0
To view detailed results, visit:
https://lab.dpdk.org/results/dashboard/patchsets/32674/
UNH-IOL DPDK Community Lab
To manage your email subscriptions, visit:
https://lab.dpdk.org/results/dashboard/preferences/subscriptions/
^ permalink raw reply [flat|nested] 22+ messages in thread