From mboxrd@z Thu Jan 1 00:00:00 1970 Return-Path: Received: from mails.dpdk.org (mails.dpdk.org [217.70.189.124]) by inbox.dpdk.org (Postfix) with ESMTP id B8E83462BA for ; Tue, 25 Feb 2025 18:21:57 +0100 (CET) Received: from mails.dpdk.org (localhost [127.0.0.1]) by mails.dpdk.org (Postfix) with ESMTP id B3693402EA; Tue, 25 Feb 2025 18:21:57 +0100 (CET) Received: from mail-pl1-f226.google.com (mail-pl1-f226.google.com [209.85.214.226]) by mails.dpdk.org (Postfix) with ESMTP id 5C1D5402E0 for ; Tue, 25 Feb 2025 18:21:57 +0100 (CET) Received: by mail-pl1-f226.google.com with SMTP id d9443c01a7336-220c92c857aso528395ad.0 for ; Tue, 25 Feb 2025 09:21:57 -0800 (PST) DKIM-Signature: v=1; a=rsa-sha256; c=relaxed/relaxed; d=iol.unh.edu; s=unh-iol; t=1740504116; x=1741108916; darn=dpdk.org; h=references:in-reply-to:cc:to:from:subject:message-id:date:from:to :cc:subject:date:message-id:reply-to; bh=rXB7R49zsUWS7ABG1IoNgA9qi3QrYw9sWeBzS1V315U=; b=Mxfq2YBCondIFYKL1Hxjlxw+Uw3H2oDHQpZGO9NPLygpdCz40YKoabr3l9SnOe/+Rr i3d8eB9H/lhSsm45YbeQO8F0yye8vH+qZGc4WaWPxxZXKpA6CHoF7tHsycfCVOxrHtay AVShKYX0UklEwd5emZjT0xPiL3tf5BTisqMVY= X-Google-DKIM-Signature: v=1; a=rsa-sha256; c=relaxed/relaxed; d=1e100.net; s=20230601; t=1740504116; x=1741108916; h=references:in-reply-to:cc:to:from:subject:message-id:date :x-gm-message-state:from:to:cc:subject:date:message-id:reply-to; bh=rXB7R49zsUWS7ABG1IoNgA9qi3QrYw9sWeBzS1V315U=; b=YHAohSBeCBVlFuAvVQQ3l+OqTcOl4fNPlsY9pIASNNajHhrxSvwtW7uKcCZaAp8tqN 6w1Cu2Mb5WyrsvV5HeDQANraY7v0CYywp/GNOMlveGMFrvU9QW9pNgQ0JAnNP+hrB/+p JWXVnMO9QFPlYfTF19/e1OM/quNayXMWfwpgMTasmrrU6CUjjdbha4/zTyuFRMV7cktN DV+5wzZoMtVly9JpmqRxJzJRD32buNv4AdugyQcx6m769iY8G8zrhZJrxg5XQFFLk7LJ JwUSniL4YNbp9MMIswGxJ9ERA+z7n6jZLGSIkDKFjenmCkMCUcTWVrzOtxvNNzPR6xZK xmiw== X-Gm-Message-State: AOJu0YzpBUtQszghBJJaJCPU7Ex+VN6wc8sIinWyhruxBOgr1eG4Ku4g ykizotOw1L6Ib5yTrTNRgl2Fo38+eiKpFCeWeOvJolSiBpu4H9/V2Y/qaZcbFGtuLZ/srw0oNAh Dfdat/C/feYeoxmvzmk2dQoAY6xIBAn8phc7ZX6XN X-Gm-Gg: ASbGncslJQKvOdXIPpF9/UtWlkyfvIEJgB8WeffMvm7X+SicfiIrEqGEVIsTO7PdUNc Xs2UNBeMmevi4ybhHb+vEJh178/TqxGJ7hwotnqvQpi9U8W9KcijpGNnSaanDmlT9DhE/JvSHoM kPiyeT483kwW+bAQvr2Xfv2F5em2saSzVVN3Qe39EJQmTo4YqknAfwiOiYn5sU/aXA2jxrpA42+ VHymaxuEV1UEuKDu1ZIWR9YLs1qSwRjJ2S+2auUonbu+HdoJH1rVSedvJxmAnR0Bqv/eMq9tINl sRac1XFGaBg+up8TwyUp1pawiiyy9F4RHIbhKdvk X-Google-Smtp-Source: AGHT+IHH0cCM3PL/dJe200J0e2qJWRW9XqkiQwoZGGXDH/TzDk8SFUONlC/8GNZUR+274P1+6aJsa+w4wgq1 X-Received: by 2002:a17:902:cec4:b0:21f:53a5:19e0 with SMTP id d9443c01a7336-2218c3f435bmr384194385ad.12.1740504116506; Tue, 25 Feb 2025 09:21:56 -0800 (PST) Received: from postal.iol.unh.edu (postal.iol.unh.edu. [132.177.123.84]) by smtp-relay.gmail.com with ESMTPS id d9443c01a7336-2230a0091b0sm886425ad.28.2025.02.25.09.21.56 (version=TLS1_2 cipher=ECDHE-ECDSA-AES128-GCM-SHA256 bits=128/128); Tue, 25 Feb 2025 09:21:56 -0800 (PST) X-Relaying-Domain: iol.unh.edu Date: Tue, 25 Feb 2025 09:21:56 -0800 (PST) Message-ID: <67bdfc34.170a0220.151c09.52cbSMTPIN_ADDED_MISSING@mx.google.com> Received: from [172.21.0.7] (unknown [172.18.0.240]) by postal.iol.unh.edu (Postfix) with ESMTP id 842DD6052471; Tue, 25 Feb 2025 12:21:55 -0500 (EST) Subject: |SUCCESS| pw152018 [PATCH] net/mlx5: fix queue counter error check From: dpdklab@iol.unh.edu To: Test Report Cc: dpdk-test-reports@iol.unh.edu In-Reply-To: <20250225090845.136968-1-dsosnowski@nvidia.com> References: <20250225090845.136968-1-dsosnowski@nvidia.com> Content-Type: text/plain X-BeenThere: test-report@dpdk.org X-Mailman-Version: 2.1.29 Precedence: list List-Id: automatic DPDK test reports List-Unsubscribe: , List-Archive: List-Post: List-Help: List-Subscribe: , Errors-To: test-report-bounces@dpdk.org Test-Label: iol-unit-amd64-testing Test-Status: SUCCESS http://dpdk.org/patch/152018 _Testing PASS_ Submitter: Dariusz Sosnowski Date: Tuesday, February 25 2025 09:08:45 DPDK git baseline: Repo:dpdk Branch: master CommitID:61fc05f1c6a079c0b25b27d1668450134a784d56 152018 --> testing pass Upstream job id: Generic-VM-Unit-Test-DPDK#27365 Test environment and result as below: +---------------------+----------------+ | Environment | dpdk_unit_test | +=====================+================+ | CentOS Stream 9 | PASS | +---------------------+----------------+ | Debian Bullseye | PASS | +---------------------+----------------+ | CentOS Stream 10 | PASS | +---------------------+----------------+ | Debian 12 | PASS | +---------------------+----------------+ | Fedora 41 | PASS | +---------------------+----------------+ | Fedora 40 | PASS | +---------------------+----------------+ | Fedora 40 (Clang) | PASS | +---------------------+----------------+ | Fedora 41 (Clang) | PASS | +---------------------+----------------+ | RHEL8 | PASS | +---------------------+----------------+ | Ubuntu 20.04 | PASS | +---------------------+----------------+ | RHEL9 | PASS | +---------------------+----------------+ | Ubuntu 24.04 | PASS | +---------------------+----------------+ | Ubuntu 22.04 | PASS | +---------------------+----------------+ | Windows Server 2022 | PASS | +---------------------+----------------+ CentOS Stream 9 Kernel: Depends on container host Compiler: gcc 11.5.0 20240719 (Red Hat 11.5.0-2) Debian Bullseye Kernel: Depends on container host Compiler: gcc (Debian 10.2.1-6) 10.2.1 20210110 CentOS Stream 10 Kernel: Depends on container host Compiler: gcc 14.2.1 20241104 (Red Hat 14.2.1-6) Debian 12 Kernel: Depends on container host Compiler: gcc (Debian 12.2.0-14) 12.2.0 Fedora 41 Kernel: Depends on container host Compiler: gcc 14.2.1 20240912 (Red Hat 14.2.1-3) Fedora 40 Kernel: Depends on container host Compiler: gcc 14.2.1 20240912 (Red Hat 14.2.1-3) Fedora 40 (Clang) Kernel: Depends on container host Compiler: clang 18.1.8 (Fedora 18.1.8-1.fc40) Fedora 41 (Clang) Kernel: Depends on container host Compiler: clang 19.1.5 (Fedora 19.1.5-1.fc41) RHEL8 Kernel: Depends on container host Compiler: gcc 8.5.0 20210514 (Red Hat 8.5.0-22) Ubuntu 20.04 Kernel: Depends on container host Compiler: gcc (Ubuntu 9.4.0-1ubuntu1~20.04.2) 9.4.0 RHEL9 Kernel: Depends on container host Compiler: gcc 11.5.0 20240719 (Red Hat 11.5.0-2) Ubuntu 24.04 Kernel: Depends on container host Compiler: gcc (Ubuntu 13.3.0-6ubuntu2~24.04) 13.3.0 Ubuntu 22.04 Kernel: Depends on container host Compiler: gcc (Ubuntu 11.4.0-1ubuntu1~22.04) 11.4.0 Windows Server 2022 Kernel: 10.0.20348.2031 Compiler: clang 15.0.7, gcc 14.1.0 (MinGW), and MSVC VS 19.39.33521 To view detailed results, visit: https://lab.dpdk.org/results/dashboard/patchsets/32676/ UNH-IOL DPDK Community Lab To manage your email subscriptions, visit: https://lab.dpdk.org/results/dashboard/preferences/subscriptions/