From mboxrd@z Thu Jan 1 00:00:00 1970 Return-Path: Received: from mails.dpdk.org (mails.dpdk.org [217.70.189.124]) by inbox.dpdk.org (Postfix) with ESMTP id E77F7462BA for ; Tue, 25 Feb 2025 19:07:17 +0100 (CET) Received: from mails.dpdk.org (localhost [127.0.0.1]) by mails.dpdk.org (Postfix) with ESMTP id C28DC402B1; Tue, 25 Feb 2025 19:07:17 +0100 (CET) Received: from mail-pl1-f228.google.com (mail-pl1-f228.google.com [209.85.214.228]) by mails.dpdk.org (Postfix) with ESMTP id 8C69C402AE for ; Tue, 25 Feb 2025 19:07:16 +0100 (CET) Received: by mail-pl1-f228.google.com with SMTP id d9443c01a7336-220f4dd756eso126468915ad.3 for ; Tue, 25 Feb 2025 10:07:16 -0800 (PST) DKIM-Signature: v=1; a=rsa-sha256; c=relaxed/relaxed; d=iol.unh.edu; s=unh-iol; t=1740506835; x=1741111635; darn=dpdk.org; h=references:in-reply-to:cc:to:from:subject:message-id:date:from:to :cc:subject:date:message-id:reply-to; bh=DUi3h9sU+ygw0kh3KZUmj1qeOUmOETdCJwMPMBCYY7M=; b=AAkeObFJbXPK8WoWEbgEgfiJ6kow7UqGe3GWoro4abBv4tvgxsVhugg3Kd0SEb5CO1 zN/yfsD7Kzr5xAklwOF1xUkwdymA3yOkNs7a21652CZlBdcFo3s//eqwgiKEro30ulTE IKzHMhjKufUVVaDlGF0gYpm9zPEik1vO8nmQE= X-Google-DKIM-Signature: v=1; a=rsa-sha256; c=relaxed/relaxed; d=1e100.net; s=20230601; t=1740506835; x=1741111635; h=references:in-reply-to:cc:to:from:subject:message-id:date :x-gm-message-state:from:to:cc:subject:date:message-id:reply-to; bh=DUi3h9sU+ygw0kh3KZUmj1qeOUmOETdCJwMPMBCYY7M=; b=ZpnbNcclWkNMVHpvukG1ZK0hnAKrRJHK3SLUGRHDrOhD1AIE4z8mJpVgVpeI87LS22 lfuqD29+ZXwzUscbaoEwtWAbk2LZeMhO75AUuclo2bjbg8CJ6u79xNhGBYngr5ssAezq EPwPFIZ2eSLul6FozkRsmwoHEDr4YLkTptoDRNG5yxCn47t+eFLFknoEMogdTnKWV1YD jcGt352eA0hfYbtHjBFl6P7Y6+u15hHCQGMcl1nPbmXQjAik14Lp/rnnlClAwR+a0wk8 6K6gWo6+txck5epS7+qi9ooD+qrluO4ccBZP2z+/qyLnzb17SB2T56qt4ZkO8eFz35SS 9R5A== X-Gm-Message-State: AOJu0YwZchfVk1bm3YyEXNLoY4U/RLu1Yyk+8IPnjIXXZy67eM2AjtXj 3I7nBxpA2GJpagzBN++77thEB+KjTh7BHyVVDvNIU21/69infJh2LxFNbE+JSxbrGgSGs3Y/u8i 9NIXwMKTXJxF2jXuTo1OuPNO50ALrimV/o0j4S7US/PsecPGvwYDQpkBh X-Gm-Gg: ASbGncvzCvaOKhTRD1GQtQ3YGnqzGAPI9RIJ6b8Ui3om9HlPs0CqQLvzAB3SCQyLLf5 1qVUb+VnE9gegesCPmEQEQ2S57Au8RxBNYt/PnZF6ihxBUJE+fv/EWcK3fywjtfTDs4D0ugZYRQ JekrC0+HftmhYKDIEUAceDLun4vyb2DXi1DrrpWgxOeIxloFbi89AFhH+nkhbcel3LkpVtkysxJ Q/WTSQd1UIlsVHFH5vixzJt23p1PWai8ZXpYp9JJm45zz+/dgPiyfxnA5cdVQG7QgGZY3vOv4Ue GzsGmEMnELthVN07S0NqOaK7uoS6lKacWtdaZbZr53qAFWvFpmnJ X-Google-Smtp-Source: AGHT+IElRiswxxylNM0IikuWvhuCpQz39Yl3QJRq70+Itl6LoN2VAJO8UQaQmZ/10u7yo4R6jGuiVPODj7xr X-Received: by 2002:a17:902:d50b:b0:21c:17b2:d345 with SMTP id d9443c01a7336-22307b45563mr62945825ad.3.1740506835588; Tue, 25 Feb 2025 10:07:15 -0800 (PST) Received: from postal.iol.unh.edu (postal.iol.unh.edu. [2606:4100:3880:1234::84]) by smtp-relay.gmail.com with ESMTPS id d9443c01a7336-2230a09950esm915015ad.119.2025.02.25.10.07.15 (version=TLS1_2 cipher=ECDHE-ECDSA-AES128-GCM-SHA256 bits=128/128); Tue, 25 Feb 2025 10:07:15 -0800 (PST) X-Relaying-Domain: iol.unh.edu Date: Tue, 25 Feb 2025 10:07:15 -0800 (PST) Message-ID: <67be06d3.170a0220.1fb97.532fSMTPIN_ADDED_MISSING@mx.google.com> Received: from [172.17.0.3] (unknown [172.18.0.214]) by postal.iol.unh.edu (Postfix) with ESMTP id EF4F06052471; Tue, 25 Feb 2025 13:07:14 -0500 (EST) Subject: |SUCCESS| pw152041-152044 [PATCH] [V1,4/4] net/mlx5/hws: allow diffe From: dpdklab@iol.unh.edu To: Test Report Cc: dpdk-test-reports@iol.unh.edu In-Reply-To: <20250225120213.2968616-4-ophirmu@nvidia.com> References: <20250225120213.2968616-4-ophirmu@nvidia.com> Content-Type: text/plain X-BeenThere: test-report@dpdk.org X-Mailman-Version: 2.1.29 Precedence: list List-Id: automatic DPDK test reports List-Unsubscribe: , List-Archive: List-Post: List-Help: List-Subscribe: , Errors-To: test-report-bounces@dpdk.org Test-Label: iol-abi-testing Test-Status: SUCCESS http://dpdk.org/patch/152044 _Testing PASS_ Submitter: Ophir Munk Date: Tuesday, February 25 2025 12:02:13 DPDK git baseline: Repo:dpdk Branch: master CommitID:61fc05f1c6a079c0b25b27d1668450134a784d56 152041-152044 --> testing pass Upstream job id: Generic-DPDK-Compile-ABI#117732 Test environment and result as below: +-------------------+----------+ | Environment | abi_test | +===================+==========+ | CentOS Stream 9 | PASS | +-------------------+----------+ | CentOS Stream 10 | PASS | +-------------------+----------+ | Fedora 40 (Clang) | PASS | +-------------------+----------+ | Debian Bullseye | PASS | +-------------------+----------+ | Debian 12 | PASS | +-------------------+----------+ | Fedora 40 | PASS | +-------------------+----------+ | Fedora 41 (Clang) | PASS | +-------------------+----------+ | Fedora 41 | PASS | +-------------------+----------+ | openSUSE Leap 15 | PASS | +-------------------+----------+ | RHEL8 | PASS | +-------------------+----------+ | RHEL9 | PASS | +-------------------+----------+ | Ubuntu 22.04 | PASS | +-------------------+----------+ | Ubuntu 24.04 | PASS | +-------------------+----------+ CentOS Stream 9 Kernel: Depends on container host Compiler: gcc 11.5.0 20240719 (Red Hat 11.5.0-2) CentOS Stream 10 Kernel: Depends on container host Compiler: gcc 14.2.1 20241104 (Red Hat 14.2.1-6) Fedora 40 (Clang) Kernel: Depends on container host Compiler: clang 18.1.8 (Fedora 18.1.8-1.fc40) Debian Bullseye Kernel: Depends on container host Compiler: gcc (Debian 10.2.1-6) 10.2.1 20210110 Debian 12 Kernel: Depends on container host Compiler: gcc (Debian 12.2.0-14) 12.2.0 Fedora 40 Kernel: Depends on container host Compiler: gcc 14.2.1 20240912 (Red Hat 14.2.1-3) Fedora 41 (Clang) Kernel: Depends on container host Compiler: clang 19.1.5 (Fedora 19.1.5-1.fc41) Fedora 41 Kernel: Depends on container host Compiler: gcc 14.2.1 20240912 (Red Hat 14.2.1-3) openSUSE Leap 15 Kernel: Depends on container host Compiler: gcc (SUSE Linux) 7.5.0 RHEL8 Kernel: Depends on container host Compiler: gcc 8.5.0 20210514 (Red Hat 8.5.0-22) RHEL9 Kernel: Depends on container host Compiler: gcc 11.5.0 20240719 (Red Hat 11.5.0-2) Ubuntu 22.04 Kernel: Depends on container host Compiler: gcc (Ubuntu 11.4.0-1ubuntu1~22.04) 11.4.0 Ubuntu 24.04 Kernel: Depends on container host Compiler: gcc (Ubuntu 13.3.0-6ubuntu2~24.04) 13.3.0 To view detailed results, visit: https://lab.dpdk.org/results/dashboard/patchsets/32681/ UNH-IOL DPDK Community Lab To manage your email subscriptions, visit: https://lab.dpdk.org/results/dashboard/preferences/subscriptions/