From mboxrd@z Thu Jan 1 00:00:00 1970 Return-Path: Received: from mails.dpdk.org (mails.dpdk.org [217.70.189.124]) by inbox.dpdk.org (Postfix) with ESMTP id B3D8A462BA for ; Tue, 25 Feb 2025 19:59:30 +0100 (CET) Received: from mails.dpdk.org (localhost [127.0.0.1]) by mails.dpdk.org (Postfix) with ESMTP id 93B3D402D2; Tue, 25 Feb 2025 19:59:30 +0100 (CET) Received: from mail-qt1-f228.google.com (mail-qt1-f228.google.com [209.85.160.228]) by mails.dpdk.org (Postfix) with ESMTP id 5BC12402B1 for ; Tue, 25 Feb 2025 19:59:29 +0100 (CET) Received: by mail-qt1-f228.google.com with SMTP id d75a77b69052e-46fa764aac2so52269771cf.1 for ; Tue, 25 Feb 2025 10:59:29 -0800 (PST) DKIM-Signature: v=1; a=rsa-sha256; c=relaxed/relaxed; d=iol.unh.edu; s=unh-iol; t=1740509968; x=1741114768; darn=dpdk.org; h=references:in-reply-to:cc:to:from:subject:message-id:date:from:to :cc:subject:date:message-id:reply-to; bh=JxcfedWov4kDSsglAA3Cxw/7PCRNTq17EaNwK9h8zYg=; b=PMna7bkN68MIdbGuezPh8Mt3cN/43/x69KPrItwh4+SkoYujMk2+t1jIM1PDcp3HbX Gbc3Epy0/6/3I59CRVgN3uSMkHwySq+US/26j5o0Ir8e6iQ9JQp80V7z2RO/Ma6qmKF/ mvZ6VtVqzEMy2GooR3WEEDBOxIlayuZT7Z63Y= X-Google-DKIM-Signature: v=1; a=rsa-sha256; c=relaxed/relaxed; d=1e100.net; s=20230601; t=1740509968; x=1741114768; h=references:in-reply-to:cc:to:from:subject:message-id:date :x-gm-message-state:from:to:cc:subject:date:message-id:reply-to; bh=JxcfedWov4kDSsglAA3Cxw/7PCRNTq17EaNwK9h8zYg=; b=cXdpNX48j1qCJczhtDMA141b7irexTSdHRRCWjIDN8MUiINFIihH34ix+/0jVk0YsX b6gLXen4CoBLzDtYZg0aJXQF4t7ZZPRcd/84F5RSX9EuJ7v5GJBctFNv0PhsAZDS7KPn VlLZe3FMMHfi7Bf8LGsakFilfCQ+XSgcYQEKae0KU8mvM09qeGMcJhFN+QmYYoKekmiw sextBa8BCJiN3Oj0OpG96s/8TTjUA2/oMWrjoMirRutwhFtRSbRbfHY8Qv0HNMT2upeo xKWcYdkCaAC0E9R1EXquOoJQKf6Rx1UkT34Edw32sFcKfBwjl+GOm/Xo7HL09f81lUR7 tVeA== X-Gm-Message-State: AOJu0Yw5fQ7ykCj/xpK2zQBUVeXgc5n9L+p/l3JIaRMwz0sl6xQetpRR CABQR8vivFjvv0HImbK74mpArirxG1NRSCX5k+N6TBEcx9O3gbkCCWhGSN4MMLFUK00M8jx8lWb UvsDIBr/gRrQTeEMsKBg+V/FESIeDyJsKWplzAAYz X-Gm-Gg: ASbGncu7ST7OssvSrV9Wk3YsHPMKu5P9tlt9nXJ3Wn2lCuFASkQDoOHN2IRcq/AnWNF Unbu/eq8W8gWKqWuonJASrLEQesblv7KejN4UJb5piFmDjPzHdoY4yBs372UbphN1Q3IUZ0fzww p6r6bliVATYHNv9AV5gGJprPLHJ2LLFxk0pHNfAJdtgquvv7My2lJC/Ifj0y+iW3HAN68KnaPx1 fBU/azS2uqWswIkCcsJsG2eMBWdDk6lCXkqmwmrRySzuMGMfVZWj8NxDASSC+w2vpNEOZPEA+g0 EHX5bjCORgBO5d/WtCixCLlEEHp+Ckamgve8JNyB X-Google-Smtp-Source: AGHT+IGAy6LpwuNmQqt6uC8apPpntbA4w7twtq7mzM9YAxKa7FWAogqwFHe3dKvDenjdqAblyZKNwzgyGOw+ X-Received: by 2002:a05:622a:210:b0:472:31:851 with SMTP id d75a77b69052e-4737721c2c6mr60506081cf.22.1740509968666; Tue, 25 Feb 2025 10:59:28 -0800 (PST) Received: from postal.iol.unh.edu (postal.iol.unh.edu. [132.177.123.84]) by smtp-relay.gmail.com with ESMTPS id d75a77b69052e-47377d5d23asm1056251cf.0.2025.02.25.10.59.28 (version=TLS1_2 cipher=ECDHE-ECDSA-AES128-GCM-SHA256 bits=128/128); Tue, 25 Feb 2025 10:59:28 -0800 (PST) X-Relaying-Domain: iol.unh.edu Date: Tue, 25 Feb 2025 10:59:28 -0800 (PST) Message-ID: <67be1310.050a0220.138452.61c7SMTPIN_ADDED_MISSING@mx.google.com> Received: from [172.17.0.5] (unknown [172.18.0.217]) by postal.iol.unh.edu (Postfix) with ESMTP id 54AC06052471; Tue, 25 Feb 2025 13:59:28 -0500 (EST) Subject: |SUCCESS| pw152026-152040 [PATCH] [v3,16/16] net/zxdh: provide meter From: dpdklab@iol.unh.edu To: Test Report Cc: dpdk-test-reports@iol.unh.edu In-Reply-To: <20250225104311.732507-17-wang.junlong1@zte.com.cn> References: <20250225104311.732507-17-wang.junlong1@zte.com.cn> Content-Type: text/plain X-BeenThere: test-report@dpdk.org X-Mailman-Version: 2.1.29 Precedence: list List-Id: automatic DPDK test reports List-Unsubscribe: , List-Archive: List-Post: List-Help: List-Subscribe: , Errors-To: test-report-bounces@dpdk.org Test-Label: iol-abi-testing Test-Status: SUCCESS http://dpdk.org/patch/152040 _Testing PASS_ Submitter: Junlong Wang Date: Tuesday, February 25 2025 10:43:08 DPDK git baseline: Repo:dpdk Branch: master CommitID:a9257af8d8f4f2eb93780a48b53e9342f09ebe9a 152026-152040 --> testing pass Upstream job id: Generic-DPDK-Compile-ABI#117749 Test environment and result as below: +-------------------+----------+ | Environment | abi_test | +===================+==========+ | CentOS Stream 9 | PASS | +-------------------+----------+ | CentOS Stream 10 | PASS | +-------------------+----------+ | Debian Bullseye | PASS | +-------------------+----------+ | Fedora 40 (Clang) | PASS | +-------------------+----------+ | Debian 12 | PASS | +-------------------+----------+ | RHEL8 | PASS | +-------------------+----------+ | Ubuntu 22.04 | PASS | +-------------------+----------+ | openSUSE Leap 15 | PASS | +-------------------+----------+ | Fedora 41 | PASS | +-------------------+----------+ | RHEL9 | PASS | +-------------------+----------+ | Fedora 41 (Clang) | PASS | +-------------------+----------+ | Fedora 40 | PASS | +-------------------+----------+ | Ubuntu 24.04 | PASS | +-------------------+----------+ CentOS Stream 9 Kernel: Depends on container host Compiler: gcc 11.5.0 20240719 (Red Hat 11.5.0-2) CentOS Stream 10 Kernel: Depends on container host Compiler: gcc 14.2.1 20241104 (Red Hat 14.2.1-6) Debian Bullseye Kernel: Depends on container host Compiler: gcc (Debian 10.2.1-6) 10.2.1 20210110 Fedora 40 (Clang) Kernel: Depends on container host Compiler: clang 18.1.8 (Fedora 18.1.8-1.fc40) Debian 12 Kernel: Depends on container host Compiler: gcc (Debian 12.2.0-14) 12.2.0 RHEL8 Kernel: Depends on container host Compiler: gcc 8.5.0 20210514 (Red Hat 8.5.0-22) Ubuntu 22.04 Kernel: Depends on container host Compiler: gcc (Ubuntu 11.4.0-1ubuntu1~22.04) 11.4.0 openSUSE Leap 15 Kernel: Depends on container host Compiler: gcc (SUSE Linux) 7.5.0 Fedora 41 Kernel: Depends on container host Compiler: gcc 14.2.1 20240912 (Red Hat 14.2.1-3) RHEL9 Kernel: Depends on container host Compiler: gcc 11.5.0 20240719 (Red Hat 11.5.0-2) Fedora 41 (Clang) Kernel: Depends on container host Compiler: clang 19.1.5 (Fedora 19.1.5-1.fc41) Fedora 40 Kernel: Depends on container host Compiler: gcc 14.2.1 20240912 (Red Hat 14.2.1-3) Ubuntu 24.04 Kernel: Depends on container host Compiler: gcc (Ubuntu 13.3.0-6ubuntu2~24.04) 13.3.0 To view detailed results, visit: https://lab.dpdk.org/results/dashboard/patchsets/32680/ UNH-IOL DPDK Community Lab To manage your email subscriptions, visit: https://lab.dpdk.org/results/dashboard/preferences/subscriptions/