From: dpdklab@iol.unh.edu
To: Test Report <test-report@dpdk.org>
Cc: dpdk-test-reports@iol.unh.edu
Subject: |SUCCESS| pw152026-152040 [PATCH] [v3,16/16] net/zxdh: provide meter
Date: Tue, 25 Feb 2025 11:42:01 -0800 (PST) [thread overview]
Message-ID: <67be1d09.170a0220.84835.5550SMTPIN_ADDED_MISSING@mx.google.com> (raw)
In-Reply-To: <20250225104311.732507-17-wang.junlong1@zte.com.cn>
Test-Label: iol-unit-arm64-testing
Test-Status: SUCCESS
http://dpdk.org/patch/152040
_Testing PASS_
Submitter: Junlong Wang <wang.junlong1@zte.com.cn>
Date: Tuesday, February 25 2025 10:43:08
DPDK git baseline: Repo:dpdk
Branch: master
CommitID:a9257af8d8f4f2eb93780a48b53e9342f09ebe9a
152026-152040 --> testing pass
Upstream job id: Generic-Unit-Test-DPDK#318467
Test environment and result as below:
+-----------------------------+----------------+--------------+------------------------------+---------------------------+
| Environment | dpdk_unit_test | lpm_autotest | cryptodev_sw_snow3g_autotest | cryptodev_sw_zuc_autotest |
+=============================+================+==============+==============================+===========================+
| CentOS Stream 9 (ARM) | PASS | SKIPPED | SKIPPED | SKIPPED |
+-----------------------------+----------------+--------------+------------------------------+---------------------------+
| Debian 11 (Buster) (ARM) | PASS | SKIPPED | SKIPPED | SKIPPED |
+-----------------------------+----------------+--------------+------------------------------+---------------------------+
| CentOS Stream 10 (ARM) | PASS | SKIPPED | SKIPPED | SKIPPED |
+-----------------------------+----------------+--------------+------------------------------+---------------------------+
| Fedora 40 (ARM) | PASS | SKIPPED | SKIPPED | SKIPPED |
+-----------------------------+----------------+--------------+------------------------------+---------------------------+
| 32-bit Ubuntu 22.04.4 (ARM) | PASS | SKIPPED | SKIPPED | SKIPPED |
+-----------------------------+----------------+--------------+------------------------------+---------------------------+
| Debian 12 (arm) | PASS | SKIPPED | PASS | PASS |
+-----------------------------+----------------+--------------+------------------------------+---------------------------+
| Fedora 40 (ARM Clang) | PASS | SKIPPED | SKIPPED | SKIPPED |
+-----------------------------+----------------+--------------+------------------------------+---------------------------+
| Fedora 41 (ARM) | PASS | SKIPPED | SKIPPED | SKIPPED |
+-----------------------------+----------------+--------------+------------------------------+---------------------------+
| RHEL9 (ARM) | PASS | SKIPPED | SKIPPED | SKIPPED |
+-----------------------------+----------------+--------------+------------------------------+---------------------------+
| Fedora 41 (ARM Clang) | PASS | SKIPPED | SKIPPED | SKIPPED |
+-----------------------------+----------------+--------------+------------------------------+---------------------------+
| Ubuntu 20.04 (ARM) | PASS | SKIPPED | SKIPPED | SKIPPED |
+-----------------------------+----------------+--------------+------------------------------+---------------------------+
| Ubuntu 22.04 (ARM) | PASS | SKIPPED | SKIPPED | SKIPPED |
+-----------------------------+----------------+--------------+------------------------------+---------------------------+
| Ubuntu 24.04 (ARM) | PASS | SKIPPED | SKIPPED | SKIPPED |
+-----------------------------+----------------+--------------+------------------------------+---------------------------+
| Ubuntu 20.04 ARM SVE | SKIPPED | PASS | SKIPPED | SKIPPED |
+-----------------------------+----------------+--------------+------------------------------+---------------------------+
CentOS Stream 9 (ARM)
Kernel: Depends on container host
Compiler: gcc 11.5.0 20240719 (Red Hat 11.5.0-2)
Debian 11 (Buster) (ARM)
Kernel: Depends on container host
Compiler: gcc (Debian 10.2.1-6) 10.2.1 20210110
CentOS Stream 10 (ARM)
Kernel: Depends on container host
Compiler: gcc 14.2.1 20241104 (Red Hat 14.2.1-6)
Fedora 40 (ARM)
Kernel: Depends on container host
Compiler: gcc 14.2.1 20240912 (Red Hat 14.2.1-3)
32-bit Ubuntu 22.04.4 (ARM)
Kernel: 5.15.83+ aarch64
Compiler: gcc (Ubuntu 11.4.0-1ubuntu1~22.04) 11.4.0
Debian 12 (arm)
Kernel: Depends on container host
Compiler: gcc (Debian 12.2.0-14) 12.2.0
Fedora 40 (ARM Clang)
Kernel: Depends on container host
Compiler: clang 18.1.8 (Fedora 18.1.8-1.fc40)
Fedora 41 (ARM)
Kernel: Depends on container host
Compiler: gcc 14.2.1 20240912 (Red Hat 14.2.1-3)
RHEL9 (ARM)
Kernel: Depends on container host
Compiler: gcc 11.5.0 20240719 (Red Hat 11.5.0-2)
Fedora 41 (ARM Clang)
Kernel: Depends on container host
Compiler: clang 19.1.5 (Fedora 19.1.5-1.fc41)
Ubuntu 20.04 (ARM)
Kernel: Depends on container host
Compiler: gcc (Ubuntu 9.4.0-1ubuntu1~20.04.2) 9.4.0
Ubuntu 22.04 (ARM)
Kernel: Depends on container host
Compiler: gcc (Ubuntu 11.4.0-1ubuntu1~22.04) 11.4.0
Ubuntu 24.04 (ARM)
Kernel: Depends on container host
Compiler: gcc (Ubuntu 13.3.0-6ubuntu2~24.04) 13.3.0
Ubuntu 20.04 ARM SVE
Kernel: Depends on container host
Compiler: gcc (Ubuntu 10.5.0-1ubuntu1~20.04) 10.5.0
To view detailed results, visit:
https://lab.dpdk.org/results/dashboard/patchsets/32680/
UNH-IOL DPDK Community Lab
To manage your email subscriptions, visit:
https://lab.dpdk.org/results/dashboard/preferences/subscriptions/
next prev parent reply other threads:[~2025-02-25 19:42 UTC|newest]
Thread overview: 33+ messages / expand[flat|nested] mbox.gz Atom feed top
[not found] <20250225104311.732507-17-wang.junlong1@zte.com.cn>
2025-02-25 10:29 ` |SUCCESS| pw152026-152040 [PATCH v3 16/16] net/zxdh: provide meter ops implementations qemudev
2025-02-25 10:34 ` qemudev
2025-02-25 11:00 ` |SUCCESS| pw152040 " checkpatch
2025-02-25 12:04 ` 0-day Robot
2025-02-25 17:27 ` |SUCCESS| pw152026-152040 [PATCH] [v3,16/16] net/zxdh: provide meter dpdklab
2025-02-25 17:37 ` dpdklab
2025-02-25 17:40 ` dpdklab
2025-02-25 17:45 ` dpdklab
2025-02-25 17:46 ` dpdklab
2025-02-25 17:55 ` dpdklab
2025-02-25 18:08 ` |PENDING| " dpdklab
2025-02-25 18:36 ` |SUCCESS| " dpdklab
2025-02-25 18:40 ` dpdklab
2025-02-25 18:40 ` dpdklab
2025-02-25 18:44 ` dpdklab
2025-02-25 18:49 ` dpdklab
2025-02-25 18:52 ` dpdklab
2025-02-25 18:53 ` dpdklab
2025-02-25 18:59 ` dpdklab
2025-02-25 19:06 ` |PENDING| " dpdklab
2025-02-25 19:27 ` |SUCCESS| " dpdklab
2025-02-25 19:42 ` dpdklab [this message]
2025-02-25 19:47 ` dpdklab
2025-02-25 20:21 ` dpdklab
2025-02-25 20:21 ` |PENDING| " dpdklab
2025-02-25 20:22 ` |SUCCESS| " dpdklab
2025-02-25 20:46 ` |PENDING| " dpdklab
2025-02-25 20:52 ` |SUCCESS| " dpdklab
2025-02-25 21:19 ` dpdklab
2025-02-25 21:21 ` dpdklab
2025-02-25 21:35 ` dpdklab
2025-02-25 22:22 ` |PENDING| " dpdklab
2025-02-25 22:50 ` |SUCCESS| " dpdklab
Reply instructions:
You may reply publicly to this message via plain-text email
using any one of the following methods:
* Save the following mbox file, import it into your mail client,
and reply-to-all from there: mbox
Avoid top-posting and favor interleaved quoting:
https://en.wikipedia.org/wiki/Posting_style#Interleaved_style
* Reply using the --to, --cc, and --in-reply-to
switches of git-send-email(1):
git send-email \
--in-reply-to=67be1d09.170a0220.84835.5550SMTPIN_ADDED_MISSING@mx.google.com \
--to=dpdklab@iol.unh.edu \
--cc=dpdk-test-reports@iol.unh.edu \
--cc=test-report@dpdk.org \
/path/to/YOUR_REPLY
https://kernel.org/pub/software/scm/git/docs/git-send-email.html
* If your mail client supports setting the In-Reply-To header
via mailto: links, try the mailto: link
Be sure your reply has a Subject: header at the top and a blank line
before the message body.
This is a public inbox, see mirroring instructions
for how to clone and mirror all data and code used for this inbox;
as well as URLs for NNTP newsgroup(s).