From mboxrd@z Thu Jan  1 00:00:00 1970
Return-Path: <test-report-bounces@dpdk.org>
Received: from mails.dpdk.org (mails.dpdk.org [217.70.189.124])
	by inbox.dpdk.org (Postfix) with ESMTP id 4EA3D462BB
	for <public@inbox.dpdk.org>; Tue, 25 Feb 2025 20:42:04 +0100 (CET)
Received: from mails.dpdk.org (localhost [127.0.0.1])
	by mails.dpdk.org (Postfix) with ESMTP id 1D551402D4;
	Tue, 25 Feb 2025 20:42:04 +0100 (CET)
Received: from mail-pl1-f226.google.com (mail-pl1-f226.google.com
 [209.85.214.226])
 by mails.dpdk.org (Postfix) with ESMTP id 989A9402D2
 for <test-report@dpdk.org>; Tue, 25 Feb 2025 20:42:02 +0100 (CET)
Received: by mail-pl1-f226.google.com with SMTP id
 d9443c01a7336-22128b7d587so118299515ad.3
 for <test-report@dpdk.org>; Tue, 25 Feb 2025 11:42:02 -0800 (PST)
DKIM-Signature: v=1; a=rsa-sha256; c=relaxed/relaxed;
 d=iol.unh.edu; s=unh-iol; t=1740512521; x=1741117321; darn=dpdk.org;
 h=references:in-reply-to:cc:to:from:subject:message-id:date:from:to
 :cc:subject:date:message-id:reply-to;
 bh=yDFA+MimdNX+EgYaMO2s2RwIE1GAfoc3CxO4XYdCvwg=;
 b=FhGYcpOWy7+e8PwuPRXYigFc7bbwoIJDSjdpS32EFfoFtq6ld6cQqxG2zLVgBy1CcL
 s3WszZaSUV2FYLy5rdcbT22x7BgUqojWKSMri5prLGe4iNbiMrD0ZnCgReaU3zpeeCOZ
 FO3CrCQrcUFCVwFBhpkhelTxhz4uqIWZQV7Rc=
X-Google-DKIM-Signature: v=1; a=rsa-sha256; c=relaxed/relaxed;
 d=1e100.net; s=20230601; t=1740512521; x=1741117321;
 h=references:in-reply-to:cc:to:from:subject:message-id:date
 :x-gm-message-state:from:to:cc:subject:date:message-id:reply-to;
 bh=yDFA+MimdNX+EgYaMO2s2RwIE1GAfoc3CxO4XYdCvwg=;
 b=DlKL692ieaHduMDi8xW8by64EihcPYQL2eJ/kapnEx32EjCr/gbBK4jzw4fgI3cYZ4
 7aLIYXiYxA13qSvveu8xrymdKgiAx+UuRGrUuccKv3aU8SY6ZYUAFy7UQY1LgWfHT9nJ
 ZlyzcWLYGLMQHYA85oErwRM4HVHmcwE7t6t2LabAf5MWCkNLUeWlnBHH3Z+1SHPjSjoe
 MmURTS9hFxJMxqD8V28Z5S4Xa14Uv+oV9F5GL4kKxJC2Fp1KTaJ/DmD3JQbmDlmI4Fhn
 RPWWGMnW1uDPAOJ9aL8NeQKnnpPwd3qdGGEwTObyIpaUb3nJxgX7ScMjUdihNlHBqOht
 MwGA==
X-Gm-Message-State: AOJu0Yzj192wmWRajFaqLNDhd3Cg1oSrCrf+JjI6HMQpQ75e42BDyqQw
 MMM8Pumlv8Pa7iFgw3s29Ki7GH3RbnUJ0d8/7O8U+6coCZ63qJT6f7AZJj/FmCwsLUxw/UVbfku
 mAylJ6wWpmun7wwlr9963sQToHX8ZWw8+sYOsZaGPtbBXEU8bBwCtOlnv
X-Gm-Gg: ASbGncsDB1kVN3mjphlknufmbFKMIFce4P/SWu7uc0v/ScYUaiW6KlumWoZSGFL7Vpj
 WKamRfEfVo37kIQ9aurcT78aWRly1PvEy+km6fVjCEWgTRXG/WOgP3QIq9GK0L+WYgGsRANAOzk
 sn0eQyhn3NJv7C/8xT/rOccUz8VGHyC4rqhLQPxN3QNDI3k2+znUSoHLyozgb8eFpN7DRzGI2NU
 rS0fFAbRxBGDc5+NjOAYM0qTaeehHqiIzM1pPviaPCLWl7xaftRbhZPvNPbVgau/HXyzPcztfS8
 J84vxLhDuKOxmWhz/uDY/EYSaN/1f36IZUv/skHPkDCMmPmatN48
X-Google-Smtp-Source: AGHT+IHK4fcHQ5DEPMcu6fJ8n7nqWvNILIadsYkYrEIXcKyqoTFQjAuH8mydARtbtrtuRHmisPtWKUTe+sbF
X-Received: by 2002:a17:902:ea06:b0:220:f7a6:a02b with SMTP id
 d9443c01a7336-22320094f10mr10154845ad.30.1740512521503; 
 Tue, 25 Feb 2025 11:42:01 -0800 (PST)
Received: from postal.iol.unh.edu (postal.iol.unh.edu.
 [2606:4100:3880:1234::84]) by smtp-relay.gmail.com with ESMTPS id
 d9443c01a7336-2230a087788sm952055ad.87.2025.02.25.11.42.01
 (version=TLS1_2 cipher=ECDHE-ECDSA-AES128-GCM-SHA256 bits=128/128);
 Tue, 25 Feb 2025 11:42:01 -0800 (PST)
X-Relaying-Domain: iol.unh.edu
Date: Tue, 25 Feb 2025 11:42:01 -0800 (PST)
Message-ID: <67be1d09.170a0220.84835.5550SMTPIN_ADDED_MISSING@mx.google.com>
Received: from [172.17.0.5] (unknown [172.18.0.217])
 by postal.iol.unh.edu (Postfix) with ESMTP id 966626052477;
 Tue, 25 Feb 2025 14:42:00 -0500 (EST)
Subject: |SUCCESS| pw152026-152040 [PATCH] [v3,16/16] net/zxdh: provide meter
From: dpdklab@iol.unh.edu
To: Test Report <test-report@dpdk.org>
Cc: dpdk-test-reports@iol.unh.edu
In-Reply-To: <20250225104311.732507-17-wang.junlong1@zte.com.cn>
References: <20250225104311.732507-17-wang.junlong1@zte.com.cn>
Content-Type: text/plain
X-BeenThere: test-report@dpdk.org
X-Mailman-Version: 2.1.29
Precedence: list
List-Id: automatic DPDK test reports <test-report.dpdk.org>
List-Unsubscribe: <https://mails.dpdk.org/options/test-report>,
 <mailto:test-report-request@dpdk.org?subject=unsubscribe>
List-Archive: <http://mails.dpdk.org/archives/test-report/>
List-Post: <mailto:test-report@dpdk.org>
List-Help: <mailto:test-report-request@dpdk.org?subject=help>
List-Subscribe: <https://mails.dpdk.org/listinfo/test-report>,
 <mailto:test-report-request@dpdk.org?subject=subscribe>
Errors-To: test-report-bounces@dpdk.org

Test-Label: iol-unit-arm64-testing
Test-Status: SUCCESS
http://dpdk.org/patch/152040

_Testing PASS_

Submitter: Junlong Wang <wang.junlong1@zte.com.cn>
Date: Tuesday, February 25 2025 10:43:08 
DPDK git baseline: Repo:dpdk
  Branch: master
  CommitID:a9257af8d8f4f2eb93780a48b53e9342f09ebe9a

152026-152040 --> testing pass

Upstream job id: Generic-Unit-Test-DPDK#318467

Test environment and result as below:

+-----------------------------+----------------+--------------+------------------------------+---------------------------+
|         Environment         | dpdk_unit_test | lpm_autotest | cryptodev_sw_snow3g_autotest | cryptodev_sw_zuc_autotest |
+=============================+================+==============+==============================+===========================+
| CentOS Stream 9 (ARM)       | PASS           | SKIPPED      | SKIPPED                      | SKIPPED                   |
+-----------------------------+----------------+--------------+------------------------------+---------------------------+
| Debian 11 (Buster) (ARM)    | PASS           | SKIPPED      | SKIPPED                      | SKIPPED                   |
+-----------------------------+----------------+--------------+------------------------------+---------------------------+
| CentOS Stream 10 (ARM)      | PASS           | SKIPPED      | SKIPPED                      | SKIPPED                   |
+-----------------------------+----------------+--------------+------------------------------+---------------------------+
| Fedora 40 (ARM)             | PASS           | SKIPPED      | SKIPPED                      | SKIPPED                   |
+-----------------------------+----------------+--------------+------------------------------+---------------------------+
| 32-bit Ubuntu 22.04.4 (ARM) | PASS           | SKIPPED      | SKIPPED                      | SKIPPED                   |
+-----------------------------+----------------+--------------+------------------------------+---------------------------+
| Debian 12 (arm)             | PASS           | SKIPPED      | PASS                         | PASS                      |
+-----------------------------+----------------+--------------+------------------------------+---------------------------+
| Fedora 40 (ARM Clang)       | PASS           | SKIPPED      | SKIPPED                      | SKIPPED                   |
+-----------------------------+----------------+--------------+------------------------------+---------------------------+
| Fedora 41 (ARM)             | PASS           | SKIPPED      | SKIPPED                      | SKIPPED                   |
+-----------------------------+----------------+--------------+------------------------------+---------------------------+
| RHEL9 (ARM)                 | PASS           | SKIPPED      | SKIPPED                      | SKIPPED                   |
+-----------------------------+----------------+--------------+------------------------------+---------------------------+
| Fedora 41 (ARM Clang)       | PASS           | SKIPPED      | SKIPPED                      | SKIPPED                   |
+-----------------------------+----------------+--------------+------------------------------+---------------------------+
| Ubuntu 20.04 (ARM)          | PASS           | SKIPPED      | SKIPPED                      | SKIPPED                   |
+-----------------------------+----------------+--------------+------------------------------+---------------------------+
| Ubuntu 22.04 (ARM)          | PASS           | SKIPPED      | SKIPPED                      | SKIPPED                   |
+-----------------------------+----------------+--------------+------------------------------+---------------------------+
| Ubuntu 24.04 (ARM)          | PASS           | SKIPPED      | SKIPPED                      | SKIPPED                   |
+-----------------------------+----------------+--------------+------------------------------+---------------------------+
| Ubuntu 20.04 ARM SVE        | SKIPPED        | PASS         | SKIPPED                      | SKIPPED                   |
+-----------------------------+----------------+--------------+------------------------------+---------------------------+


CentOS Stream 9 (ARM)
	Kernel: Depends on container host
	Compiler: gcc 11.5.0 20240719 (Red Hat 11.5.0-2)

Debian 11 (Buster) (ARM)
	Kernel: Depends on container host
	Compiler: gcc (Debian 10.2.1-6) 10.2.1 20210110

CentOS Stream 10 (ARM)
	Kernel: Depends on container host
	Compiler: gcc 14.2.1 20241104 (Red Hat 14.2.1-6)

Fedora 40 (ARM)
	Kernel: Depends on container host
	Compiler: gcc 14.2.1 20240912 (Red Hat 14.2.1-3)

32-bit Ubuntu 22.04.4 (ARM)
	Kernel: 5.15.83+ aarch64
	Compiler: gcc (Ubuntu 11.4.0-1ubuntu1~22.04) 11.4.0

Debian 12 (arm)
	Kernel: Depends on container host
	Compiler: gcc (Debian 12.2.0-14) 12.2.0

Fedora 40 (ARM Clang)
	Kernel: Depends on container host
	Compiler: clang 18.1.8 (Fedora 18.1.8-1.fc40)

Fedora 41 (ARM)
	Kernel: Depends on container host
	Compiler: gcc 14.2.1 20240912 (Red Hat 14.2.1-3)

RHEL9 (ARM)
	Kernel: Depends on container host
	Compiler: gcc 11.5.0 20240719 (Red Hat 11.5.0-2)

Fedora 41 (ARM Clang)
	Kernel: Depends on container host
	Compiler: clang 19.1.5 (Fedora 19.1.5-1.fc41)

Ubuntu 20.04 (ARM)
	Kernel: Depends on container host
	Compiler: gcc (Ubuntu 9.4.0-1ubuntu1~20.04.2) 9.4.0

Ubuntu 22.04 (ARM)
	Kernel: Depends on container host
	Compiler: gcc (Ubuntu 11.4.0-1ubuntu1~22.04) 11.4.0

Ubuntu 24.04 (ARM)
	Kernel: Depends on container host
	Compiler: gcc (Ubuntu 13.3.0-6ubuntu2~24.04) 13.3.0

Ubuntu 20.04 ARM SVE
	Kernel: Depends on container host
	Compiler: gcc (Ubuntu 10.5.0-1ubuntu1~20.04) 10.5.0

To view detailed results, visit:
https://lab.dpdk.org/results/dashboard/patchsets/32680/

UNH-IOL DPDK Community Lab

To manage your email subscriptions, visit: 
https://lab.dpdk.org/results/dashboard/preferences/subscriptions/