automatic DPDK test reports
 help / color / mirror / Atom feed
* |SUCCESS| [GIT MASTER] 4380e5b6c6f5f33801dc2f399c9b5d6d77178050
@ 2025-02-25 19:42 dpdklab
  0 siblings, 0 replies; 7+ messages in thread
From: dpdklab @ 2025-02-25 19:42 UTC (permalink / raw)
  To: Test Report; +Cc: dpdk-test-reports, Jerin Jacob

_Testing PASS_

Branch: dpdk-next-eventdev

4380e5b6c6f5f33801dc2f399c9b5d6d77178050 --> testing pass

Upstream job id: Template-DTS-Pipeline#214440

Test environment and result as below:

+--------------------+----------------------+
|    Environment     | compressdev_zlib_pmd |
+====================+======================+
| Ubuntu 22.04 (ARM) | PASS                 |
+--------------------+----------------------+


Ubuntu 22.04 (ARM)
	Kernel: 5.15.0-97-generic
	Compiler: gcc gcc (Ubuntu 11.4.0-1ubuntu1~22.04) 11.4.0

To view detailed results, visit:
https://lab.dpdk.org/results/dashboard/tarballs/32725/

UNH-IOL DPDK Community Lab

To manage your email subscriptions, visit: 
https://lab.dpdk.org/results/dashboard/preferences/subscriptions/

^ permalink raw reply	[flat|nested] 7+ messages in thread

* |SUCCESS| [GIT MASTER] 4380e5b6c6f5f33801dc2f399c9b5d6d77178050
@ 2025-02-25 20:02 dpdklab
  0 siblings, 0 replies; 7+ messages in thread
From: dpdklab @ 2025-02-25 20:02 UTC (permalink / raw)
  To: Test Report; +Cc: dpdk-test-reports, Jerin Jacob

_Testing PASS_

Branch: dpdk-next-eventdev

4380e5b6c6f5f33801dc2f399c9b5d6d77178050 --> testing pass

Upstream job id: Template-DTS-Pipeline#214439

Test environment and result as below:

+--------------------+----------------------+
|    Environment     | compressdev_zlib_pmd |
+====================+======================+
| Ubuntu 22.04 (ARM) | PASS                 |
+--------------------+----------------------+
| Ubuntu 22.04       | PASS                 |
+--------------------+----------------------+


Ubuntu 22.04 (ARM)
	Kernel: 5.15.0-97-generic
	Compiler: gcc gcc (Ubuntu 11.4.0-1ubuntu1~22.04) 11.4.0

Ubuntu 22.04
	Kernel: 5.15.0-100-generic
	Compiler: gcc gcc (Ubuntu 11.4.0-1ubuntu1~22.04) 11.4.0

To view detailed results, visit:
https://lab.dpdk.org/results/dashboard/tarballs/32725/

UNH-IOL DPDK Community Lab

To manage your email subscriptions, visit: 
https://lab.dpdk.org/results/dashboard/preferences/subscriptions/

^ permalink raw reply	[flat|nested] 7+ messages in thread

* |SUCCESS| [GIT MASTER] 4380e5b6c6f5f33801dc2f399c9b5d6d77178050
@ 2025-02-25 19:58 dpdklab
  0 siblings, 0 replies; 7+ messages in thread
From: dpdklab @ 2025-02-25 19:58 UTC (permalink / raw)
  To: Test Report; +Cc: dpdk-test-reports, Jerin Jacob

_Functional Testing PASS_

Branch: dpdk-next-eventdev

4380e5b6c6f5f33801dc2f399c9b5d6d77178050 --> functional testing pass

Upstream job id: Template-DTS-Pipeline#214435

Test environment and result as below:

Ubuntu 20.04
Kernel: 5.4.0-122-generic
Compiler: gcc 9.4.0
NIC: Intel Corporation Ethernet Converged Network Adapter XL710-QDA2 40000 Mbps

Aggregate Results by Test Suite
+-----------------------------+--------+
|         Test Suite          | Result |
+=============================+========+
| unit_tests_mbuf             |  PASS  |
+-----------------------------+--------+
| vhost_virtio_user_interrupt |  PASS  |
+-----------------------------+--------+
| virtio_smoke                |  PASS  |
+-----------------------------+--------+


Ubuntu 22.04
Kernel: 5.15.0-131-generic
Compiler: gcc (Ubuntu 11.4.0-1ubuntu1~22.04) 11.4.0
NIC: Intel Corporation Ethernet Converged Network Adapter 82599ES 10000 Mbps

Aggregate Results by Test Suite
+-----------------------------+--------+
|         Test Suite          | Result |
+=============================+========+
| unit_tests_mbuf             |  PASS  |
+-----------------------------+--------+
| vhost_virtio_user_interrupt |  PASS  |
+-----------------------------+--------+
| virtio_smoke                |  PASS  |
+-----------------------------+--------+


Arm Ampere Altra - Ubuntu 22.04
Kernel: 5.15.83+
Compiler: gcc 11.4
NIC: Intel Corporation QAT 8970 0 Mbps

Aggregate Results by Test Suite
+----------------------------+--------+
|         Test Suite         | Result |
+============================+========+
| crypto_perf_cryptodev_perf |  PASS  |
+----------------------------+--------+


To view detailed results, visit:
https://lab.dpdk.org/results/dashboard/tarballs/32725/

UNH-IOL DPDK Community Lab

To manage your email subscriptions, visit: 
https://lab.dpdk.org/results/dashboard/preferences/subscriptions/

^ permalink raw reply	[flat|nested] 7+ messages in thread

* |SUCCESS| [GIT MASTER] 4380e5b6c6f5f33801dc2f399c9b5d6d77178050
@ 2025-02-25 19:55 dpdklab
  0 siblings, 0 replies; 7+ messages in thread
From: dpdklab @ 2025-02-25 19:55 UTC (permalink / raw)
  To: Test Report; +Cc: dpdk-test-reports, Jerin Jacob

_Functional Testing PASS_

Branch: dpdk-next-eventdev

4380e5b6c6f5f33801dc2f399c9b5d6d77178050 --> functional testing pass

Upstream job id: Template-DTS-Pipeline#214437

Test environment and result as below:

Ubuntu 20.04
Kernel: 5.4.0-122-generic
Compiler: gcc 9.4.0
NIC: Intel Corporation Ethernet Converged Network Adapter XL710-QDA2 40000 Mbps

Aggregate Results by Test Suite
+-----------------------------+--------+
|         Test Suite          | Result |
+=============================+========+
| unit_tests_mbuf             |  PASS  |
+-----------------------------+--------+
| vhost_virtio_user_interrupt |  PASS  |
+-----------------------------+--------+
| virtio_smoke                |  PASS  |
+-----------------------------+--------+


Arm Ampere Altra - Ubuntu 22.04
Kernel: 5.15.83+
Compiler: gcc 11.4
NIC: Intel Corporation QAT 8970 0 Mbps

Aggregate Results by Test Suite
+----------------------------+--------+
|         Test Suite         | Result |
+============================+========+
| crypto_perf_cryptodev_perf |  PASS  |
+----------------------------+--------+


To view detailed results, visit:
https://lab.dpdk.org/results/dashboard/tarballs/32725/

UNH-IOL DPDK Community Lab

To manage your email subscriptions, visit: 
https://lab.dpdk.org/results/dashboard/preferences/subscriptions/

^ permalink raw reply	[flat|nested] 7+ messages in thread

* |SUCCESS| [GIT MASTER] 4380e5b6c6f5f33801dc2f399c9b5d6d77178050
@ 2025-02-25 19:54 dpdklab
  0 siblings, 0 replies; 7+ messages in thread
From: dpdklab @ 2025-02-25 19:54 UTC (permalink / raw)
  To: Test Report; +Cc: dpdk-test-reports, Jerin Jacob

_Functional Testing PASS_

Branch: dpdk-next-eventdev

4380e5b6c6f5f33801dc2f399c9b5d6d77178050 --> functional testing pass

Upstream job id: Template-DTS-Pipeline#214434

Test environment and result as below:

Ubuntu 20.04
Kernel: 5.4.0-122-generic
Compiler: gcc 9.4.0
NIC: Intel Corporation Ethernet Converged Network Adapter XL710-QDA2 40000 Mbps

Aggregate Results by Test Suite
+-----------------------------+--------+
|         Test Suite          | Result |
+=============================+========+
| unit_tests_mbuf             |  PASS  |
+-----------------------------+--------+
| vhost_virtio_user_interrupt |  PASS  |
+-----------------------------+--------+
| virtio_smoke                |  PASS  |
+-----------------------------+--------+


To view detailed results, visit:
https://lab.dpdk.org/results/dashboard/tarballs/32725/

UNH-IOL DPDK Community Lab

To manage your email subscriptions, visit: 
https://lab.dpdk.org/results/dashboard/preferences/subscriptions/

^ permalink raw reply	[flat|nested] 7+ messages in thread

* |SUCCESS| [GIT MASTER] 4380e5b6c6f5f33801dc2f399c9b5d6d77178050
@ 2025-02-25 19:43 dpdklab
  0 siblings, 0 replies; 7+ messages in thread
From: dpdklab @ 2025-02-25 19:43 UTC (permalink / raw)
  To: Test Report, Ali Alnubani; +Cc: dpdk-test-reports, Jerin Jacob

_Performance Testing PASS_

Branch: dpdk-next-eventdev

4380e5b6c6f5f33801dc2f399c9b5d6d77178050 --> performance testing pass

Upstream job id: Template-DTS-Pipeline#214427

Test environment and result as below:

Ubuntu 24.04
Kernel: 6.8.0-45-generic
Compiler: gcc 13.2.0
NIC: Mellanox ConnectX-6 Lx 25000 Mbps
Fail/Total: 0/6

Detail performance results: 
+------------+---------+----------+-------------+------------------------------+
| frame_size | txd/rxd | num_cpus | num_threads |  throughput difference from  |
|            |         |          |             |           expected           |
+============+=========+==========+=============+==============================+
| 64         | 1024    | 1        | 1           | 0.0%                         |
+------------+---------+----------+-------------+------------------------------+
| 128        | 1024    | 1        | 1           | 0.1%                         |
+------------+---------+----------+-------------+------------------------------+
| 256        | 1024    | 1        | 1           | -0.0%                        |
+------------+---------+----------+-------------+------------------------------+
| 512        | 1024    | 1        | 1           | -0.2%                        |
+------------+---------+----------+-------------+------------------------------+
| 1024       | 1024    | 1        | 1           | -0.2%                        |
+------------+---------+----------+-------------+------------------------------+
| 1518       | 1024    | 1        | 1           | -0.2%                        |
+------------+---------+----------+-------------+------------------------------+

Ubuntu 24.04
Kernel: 6.8.0-45-generic
Compiler: gcc 13.2.0
NIC: NVIDIA Mellanox ConnectX-7 100000 Mbps
Fail/Total: 0/6

Detail performance results: 
+------------+---------+----------+-------------+------------------------------+
| frame_size | txd/rxd | num_cpus | num_threads |  throughput difference from  |
|            |         |          |             |           expected           |
+============+=========+==========+=============+==============================+
| 64         | 1024    | 1        | 1           | 0.9%                         |
+------------+---------+----------+-------------+------------------------------+
| 128        | 1024    | 1        | 1           | 0.8%                         |
+------------+---------+----------+-------------+------------------------------+
| 256        | 1024    | 1        | 1           | 1.4%                         |
+------------+---------+----------+-------------+------------------------------+
| 512        | 1024    | 1        | 1           | 0.2%                         |
+------------+---------+----------+-------------+------------------------------+
| 1024       | 1024    | 1        | 1           | 0.0%                         |
+------------+---------+----------+-------------+------------------------------+
| 1518       | 1024    | 1        | 1           | 0.1%                         |
+------------+---------+----------+-------------+------------------------------+

To view detailed results, visit:
https://lab.dpdk.org/results/dashboard/tarballs/32725/

UNH-IOL DPDK Community Lab

To manage your email subscriptions, visit: 
https://lab.dpdk.org/results/dashboard/preferences/subscriptions/

^ permalink raw reply	[flat|nested] 7+ messages in thread

* |SUCCESS| [GIT MASTER] 4380e5b6c6f5f33801dc2f399c9b5d6d77178050
@ 2025-02-25 19:29 dpdklab
  0 siblings, 0 replies; 7+ messages in thread
From: dpdklab @ 2025-02-25 19:29 UTC (permalink / raw)
  To: Test Report; +Cc: dpdk-test-reports, Jerin Jacob

_Performance Testing PASS_

Branch: dpdk-next-eventdev

4380e5b6c6f5f33801dc2f399c9b5d6d77178050 --> performance testing pass

Upstream job id: Template-DTS-Pipeline#214432

Test environment and result as below:

Ubuntu 22.04 ARM
Kernel: 5.15.83+
Compiler: gcc 11.4.0
NIC: Arm Broadcom Inc. brcm_57414 25000 Mbps
Fail/Total: 0/2

Detail performance results: 
+------------+---------+----------+-------------+------------------------------+
| frame_size | txd/rxd | num_cpus | num_threads |  throughput difference from  |
|            |         |          |             |           expected           |
+============+=========+==========+=============+==============================+
| 64         | 512     | 1        | 1           | 0.0%                         |
+------------+---------+----------+-------------+------------------------------+
| 64         | 2048    | 1        | 1           | -0.0%                        |
+------------+---------+----------+-------------+------------------------------+

To view detailed results, visit:
https://lab.dpdk.org/results/dashboard/tarballs/32725/

UNH-IOL DPDK Community Lab

To manage your email subscriptions, visit: 
https://lab.dpdk.org/results/dashboard/preferences/subscriptions/

^ permalink raw reply	[flat|nested] 7+ messages in thread

end of thread, other threads:[~2025-02-25 20:02 UTC | newest]

Thread overview: 7+ messages (download: mbox.gz / follow: Atom feed)
-- links below jump to the message on this page --
2025-02-25 19:42 |SUCCESS| [GIT MASTER] 4380e5b6c6f5f33801dc2f399c9b5d6d77178050 dpdklab
  -- strict thread matches above, loose matches on Subject: below --
2025-02-25 20:02 dpdklab
2025-02-25 19:58 dpdklab
2025-02-25 19:55 dpdklab
2025-02-25 19:54 dpdklab
2025-02-25 19:43 dpdklab
2025-02-25 19:29 dpdklab

This is a public inbox, see mirroring instructions
for how to clone and mirror all data and code used for this inbox;
as well as URLs for NNTP newsgroup(s).