From mboxrd@z Thu Jan 1 00:00:00 1970 Return-Path: Received: from mails.dpdk.org (mails.dpdk.org [217.70.189.124]) by inbox.dpdk.org (Postfix) with ESMTP id 00A18462BB for ; Tue, 25 Feb 2025 20:47:35 +0100 (CET) Received: from mails.dpdk.org (localhost [127.0.0.1]) by mails.dpdk.org (Postfix) with ESMTP id D05FF402D4; Tue, 25 Feb 2025 20:47:35 +0100 (CET) Received: from mail-ot1-f99.google.com (mail-ot1-f99.google.com [209.85.210.99]) by mails.dpdk.org (Postfix) with ESMTP id 50A97402D2 for ; Tue, 25 Feb 2025 20:47:35 +0100 (CET) Received: by mail-ot1-f99.google.com with SMTP id 46e09a7af769-726819aa3fcso3280098a34.0 for ; Tue, 25 Feb 2025 11:47:35 -0800 (PST) DKIM-Signature: v=1; a=rsa-sha256; c=relaxed/relaxed; d=iol.unh.edu; s=unh-iol; t=1740512854; x=1741117654; darn=dpdk.org; h=references:in-reply-to:cc:to:from:subject:message-id:date:from:to :cc:subject:date:message-id:reply-to; bh=afp+WTqkr3HjK9I3NhFl79Vl9M8CAVMLU1FOdJQoFVw=; b=QSinH+trYeuSKLS8yyENOhUjvFEf2CTs8pEjY0vEKZiVQa229V8WrPgB2yy6iT8DtS KZfYM3qQL6RpjgpQWMC8VtvOQgCAoICi5w5yjruxbXpHueBlOPb9MPVHYYtErK6pRBrU o8bl1pdYlQ65HU2A6DcjI1xCNu+3CE57pv5Hg= X-Google-DKIM-Signature: v=1; a=rsa-sha256; c=relaxed/relaxed; d=1e100.net; s=20230601; t=1740512854; x=1741117654; h=references:in-reply-to:cc:to:from:subject:message-id:date :x-gm-message-state:from:to:cc:subject:date:message-id:reply-to; bh=afp+WTqkr3HjK9I3NhFl79Vl9M8CAVMLU1FOdJQoFVw=; b=N2PN4CSPxNQAYxx1Zu5/c7ViMQFPSKAiXRE/PHayTM2BLS8TRm+nmFiRn+J5vo+q+2 48ODhrqkIz37jyRjyO1SznYSx8xkbTFlltxFiKlx1rBeGswA1DcZivL4+CbPHsV+jMiJ MSuFLpTo/zLj0sR6DApvtwo1CLvoLN8nxsbJqPmR+JZwd1jENLLiSZMPwfg/Nxb2xM6U gnfx6QX9+/wyBsom5nLWqcnXWSZCkpH1DZ4qeANH3ju11k1aqGoJsB1fsspXm8NI3bOs 7na67I8sNKwY0sY678VoeGhobxIpNT7vHLQhd4OZFGQsBhXM00vavbw2eDjSone5Me9G 998w== X-Gm-Message-State: AOJu0YxcM0Udmkpx8kxNVQOWsFIrg9oy1AJGKo7+9d0/pIIJ9eVh5nnU xUa39sSheW27onQJX359+eCeed3frwzLqhlMwLPMIXwUsGeAYTiHLVCsxPrFyinijvCMIf3Qeel /Pz8fvUutnhMxPw+LztMdr0BEz+1CRNatm9+Xa07l X-Gm-Gg: ASbGncvuJ+f9EoMpEstmPqXXVxBczmo38iuh/UPIg7kf6HhW5eZ8v3r6kVbFXpYObiw nRquIdVpYpBa4q6JcUkYKAK0+XhQ5EllUREOiJjzhSaTjqPN8dHd5VK4ZjO1e6f4M9lH+Bf5WCN RpMFMsTWf1mPJbtZaiEKWx5HOR6c1wAJmNaDpzerdBXnt7v++Kni6a4QgoIpwNnUeyKad+8bPWx EVetfa2nSrJYOcweXRIOj3jp8U2VfuP3XURE/dsonMksSWPmJhYPoZK4tXF9MN/h4H0ZxDB6B6k LzgNkBI6SaILEQkfRsqxjU6aE7mpxI0uYN4+tg2/ X-Google-Smtp-Source: AGHT+IH04WKKcjFvuWz6eM3hOUgcj6FUhi/Fvmrg434n6M0ezbBsLPUuR0GZdOPKzlJHUq1z/DpPmdjbtX0+ X-Received: by 2002:a05:6830:4112:b0:727:107b:74f4 with SMTP id 46e09a7af769-728a50c7387mr444028a34.3.1740512854426; Tue, 25 Feb 2025 11:47:34 -0800 (PST) Received: from postal.iol.unh.edu (postal.iol.unh.edu. [132.177.123.84]) by smtp-relay.gmail.com with ESMTPS id 46e09a7af769-7289df4e06esm51513a34.12.2025.02.25.11.47.34 (version=TLS1_2 cipher=ECDHE-ECDSA-AES128-GCM-SHA256 bits=128/128); Tue, 25 Feb 2025 11:47:34 -0800 (PST) X-Relaying-Domain: iol.unh.edu Date: Tue, 25 Feb 2025 11:47:34 -0800 (PST) Message-ID: <67be1e56.050a0220.eb900.2f7eSMTPIN_ADDED_MISSING@mx.google.com> Received: from [172.17.0.5] (unknown [172.18.0.217]) by postal.iol.unh.edu (Postfix) with ESMTP id CE2A76052471; Tue, 25 Feb 2025 14:47:33 -0500 (EST) Subject: |SUCCESS| pw152026-152040 [PATCH] [v3,16/16] net/zxdh: provide meter From: dpdklab@iol.unh.edu To: Test Report Cc: dpdk-test-reports@iol.unh.edu In-Reply-To: <20250225104311.732507-17-wang.junlong1@zte.com.cn> References: <20250225104311.732507-17-wang.junlong1@zte.com.cn> Content-Type: text/plain X-BeenThere: test-report@dpdk.org X-Mailman-Version: 2.1.29 Precedence: list List-Id: automatic DPDK test reports List-Unsubscribe: , List-Archive: List-Post: List-Help: List-Subscribe: , Errors-To: test-report-bounces@dpdk.org Test-Label: iol-unit-amd64-testing Test-Status: SUCCESS http://dpdk.org/patch/152040 _Testing PASS_ Submitter: Junlong Wang Date: Tuesday, February 25 2025 10:43:08 DPDK git baseline: Repo:dpdk Branch: master CommitID:a9257af8d8f4f2eb93780a48b53e9342f09ebe9a 152026-152040 --> testing pass Upstream job id: Generic-Unit-Test-DPDK#318475 Test environment and result as below: +-------------------+----------------+ | Environment | dpdk_unit_test | +===================+================+ | CentOS Stream 10 | PASS | +-------------------+----------------+ | Fedora 40 | PASS | +-------------------+----------------+ | Debian 12 | PASS | +-------------------+----------------+ | Fedora 40 (Clang) | PASS | +-------------------+----------------+ | CentOS Stream 9 | PASS | +-------------------+----------------+ | Debian Bullseye | PASS | +-------------------+----------------+ | Fedora 41 | PASS | +-------------------+----------------+ | Fedora 41 (Clang) | PASS | +-------------------+----------------+ | RHEL9 | PASS | +-------------------+----------------+ | RHEL8 | PASS | +-------------------+----------------+ | Ubuntu 20.04 | PASS | +-------------------+----------------+ | Ubuntu 22.04 | PASS | +-------------------+----------------+ | Ubuntu 24.04 | PASS | +-------------------+----------------+ CentOS Stream 10 Kernel: Depends on container host Compiler: gcc 14.2.1 20241104 (Red Hat 14.2.1-6) Fedora 40 Kernel: Depends on container host Compiler: gcc 14.2.1 20240912 (Red Hat 14.2.1-3) Debian 12 Kernel: Depends on container host Compiler: gcc (Debian 12.2.0-14) 12.2.0 Fedora 40 (Clang) Kernel: Depends on container host Compiler: clang 18.1.8 (Fedora 18.1.8-1.fc40) CentOS Stream 9 Kernel: Depends on container host Compiler: gcc 11.5.0 20240719 (Red Hat 11.5.0-2) Debian Bullseye Kernel: Depends on container host Compiler: gcc (Debian 10.2.1-6) 10.2.1 20210110 Fedora 41 Kernel: Depends on container host Compiler: gcc 14.2.1 20240912 (Red Hat 14.2.1-3) Fedora 41 (Clang) Kernel: Depends on container host Compiler: clang 19.1.5 (Fedora 19.1.5-1.fc41) RHEL9 Kernel: Depends on container host Compiler: gcc 11.5.0 20240719 (Red Hat 11.5.0-2) RHEL8 Kernel: Depends on container host Compiler: gcc 8.5.0 20210514 (Red Hat 8.5.0-22) Ubuntu 20.04 Kernel: Depends on container host Compiler: gcc (Ubuntu 9.4.0-1ubuntu1~20.04.2) 9.4.0 Ubuntu 22.04 Kernel: Depends on container host Compiler: gcc (Ubuntu 11.4.0-1ubuntu1~22.04) 11.4.0 Ubuntu 24.04 Kernel: Depends on container host Compiler: gcc (Ubuntu 13.3.0-6ubuntu2~24.04) 13.3.0 To view detailed results, visit: https://lab.dpdk.org/results/dashboard/patchsets/32680/ UNH-IOL DPDK Community Lab To manage your email subscriptions, visit: https://lab.dpdk.org/results/dashboard/preferences/subscriptions/