From mboxrd@z Thu Jan  1 00:00:00 1970
Return-Path: <test-report-bounces@dpdk.org>
Received: from mails.dpdk.org (mails.dpdk.org [217.70.189.124])
	by inbox.dpdk.org (Postfix) with ESMTP id 59D8F462BD
	for <public@inbox.dpdk.org>; Tue, 25 Feb 2025 22:21:08 +0100 (CET)
Received: from mails.dpdk.org (localhost [127.0.0.1])
	by mails.dpdk.org (Postfix) with ESMTP id 52A7F402DA;
	Tue, 25 Feb 2025 22:21:08 +0100 (CET)
Received: from mail-pl1-f225.google.com (mail-pl1-f225.google.com
 [209.85.214.225])
 by mails.dpdk.org (Postfix) with ESMTP id 71E31402D7
 for <test-report@dpdk.org>; Tue, 25 Feb 2025 22:21:07 +0100 (CET)
Received: by mail-pl1-f225.google.com with SMTP id
 d9443c01a7336-22113560c57so38545035ad.2
 for <test-report@dpdk.org>; Tue, 25 Feb 2025 13:21:07 -0800 (PST)
DKIM-Signature: v=1; a=rsa-sha256; c=relaxed/relaxed;
 d=iol.unh.edu; s=unh-iol; t=1740518466; x=1741123266; darn=dpdk.org;
 h=references:in-reply-to:cc:to:from:subject:message-id:date:from:to
 :cc:subject:date:message-id:reply-to;
 bh=jPRmMzabCNN9B1GY/9/73YktK7WiwpidlX2Lon77vpk=;
 b=ZvbBdHALrQd1lTEqMTrgy4BvAEuJF7eSwR/L3dUyWoS78Q1LN8hEdhZJhaNl0Qcsct
 OWAaAjYmW0KgGb/4EnHiMv6rdIAsZAGnrgYwWDRtMU395Xho0s0U4f6FXM/hGTCX84Hm
 DLoXVT2IYhbiddcgkQYVVV23mBPF1+JhxtmVo=
X-Google-DKIM-Signature: v=1; a=rsa-sha256; c=relaxed/relaxed;
 d=1e100.net; s=20230601; t=1740518466; x=1741123266;
 h=references:in-reply-to:cc:to:from:subject:message-id:date
 :x-gm-message-state:from:to:cc:subject:date:message-id:reply-to;
 bh=jPRmMzabCNN9B1GY/9/73YktK7WiwpidlX2Lon77vpk=;
 b=YqV0xgOfiIkYNWaTKJc/0ylxMVaezFqjffpNiSG079pbyOAFmwE/o5fwsAuAKhoywg
 lrMdmaWxCo7HbtvYYPNY5VtJgBAWMxBvoGRsGkdPs9Ab+7A1qOFuQXnCG8iueN2U2lgf
 BaRYJtDyda0n3Ij0QoI3kqOSLoVOd6yY+WjJVsvujbD1fj64J6xRG+gDa7Jjx8XZ+T76
 Z4+e+6jhtfmyhxja4Z0jAtSz5+Ec0B5G89XoIS6RTrFjRKozu36DN25q6pLFU2C53GHV
 pjtdo31jbcZP+3YIHrOD6nmsQjs11YfhD+/cyoRghjhmHlgyVa9Ka7Qs6J3dzNy/+P42
 tNag==
X-Gm-Message-State: AOJu0YyenHX3iFBvwBoKlecqS4EkaWFIlixvGoy/ALjjPCnJFOz9MOJH
 VUW+qArb+jJ2i0LhVncb11aLHhi3hkET1NFyd9/XHHEmEABu6TGtDg2Eot8wCv4tcAZEGpj++YE
 ymcIX4gKLKgkhE7UAF1OHFfAeBDNGPKsxKOdcxjjk5+G51/HUswcGOA9c
X-Gm-Gg: ASbGnct81zwOsX6Q2Kx1ilaUvqE5+Qt53bWW+tAqN0VnDqeX69FOaBVuRiz4/1kDDiz
 f0ZO/SyqEmUhBtk1kGg+WUQ56aAjlj1IB1QOvg/THp7WHan/IcFewPNlD5ntK4uRuOgTxHm+/wf
 nTzILZPLlQd0dvF7sE19zC+103gi9C/oLZNm1SSRGaYFXv80KZ/bciqK8sxFbk2j+YyFl9FLfSs
 t8p2SCqwlq4A8ZGzUuxmrjFJonameV3l2m3EjxWZWSCsd3/9rKxN1B9MnHPalqXsh+6RCBXnnHC
 kX468cj1LNGKkJHlBtbX+LGmfNO8KO29/K6tGJG37NDzeElpAE14
X-Google-Smtp-Source: AGHT+IEuoBOFxrW2UWMlXxfRSzwfN+4SAwB/rX0SxjQuTIh0aAnzNQdV/3GBxD0i6eO+uu8CzrzteMqaXD2Y
X-Received: by 2002:a17:902:e546:b0:220:cd9a:a167 with SMTP id
 d9443c01a7336-221a0ec3cf2mr363378405ad.4.1740518466578; 
 Tue, 25 Feb 2025 13:21:06 -0800 (PST)
Received: from postal.iol.unh.edu (postal.iol.unh.edu.
 [2606:4100:3880:1234::84]) by smtp-relay.gmail.com with ESMTPS id
 d9443c01a7336-2230a00096fsm1082055ad.1.2025.02.25.13.21.06
 (version=TLS1_2 cipher=ECDHE-ECDSA-AES128-GCM-SHA256 bits=128/128);
 Tue, 25 Feb 2025 13:21:06 -0800 (PST)
X-Relaying-Domain: iol.unh.edu
Date: Tue, 25 Feb 2025 13:21:06 -0800 (PST)
Message-ID: <67be3442.170a0220.b6c27.6624SMTPIN_ADDED_MISSING@mx.google.com>
Received: from [172.17.0.5] (unknown [172.18.0.217])
 by postal.iol.unh.edu (Postfix) with ESMTP id 015F26052471;
 Tue, 25 Feb 2025 16:21:05 -0500 (EST)
Subject: |SUCCESS| pw152026-152040 [PATCH] [v3,16/16] net/zxdh: provide meter
From: dpdklab@iol.unh.edu
To: Test Report <test-report@dpdk.org>
Cc: dpdk-test-reports@iol.unh.edu
In-Reply-To: <20250225104311.732507-17-wang.junlong1@zte.com.cn>
References: <20250225104311.732507-17-wang.junlong1@zte.com.cn>
Content-Type: text/plain
X-BeenThere: test-report@dpdk.org
X-Mailman-Version: 2.1.29
Precedence: list
List-Id: automatic DPDK test reports <test-report.dpdk.org>
List-Unsubscribe: <https://mails.dpdk.org/options/test-report>,
 <mailto:test-report-request@dpdk.org?subject=unsubscribe>
List-Archive: <http://mails.dpdk.org/archives/test-report/>
List-Post: <mailto:test-report@dpdk.org>
List-Help: <mailto:test-report-request@dpdk.org?subject=help>
List-Subscribe: <https://mails.dpdk.org/listinfo/test-report>,
 <mailto:test-report-request@dpdk.org?subject=subscribe>
Errors-To: test-report-bounces@dpdk.org

Test-Label: iol-unit-amd64-testing
Test-Status: SUCCESS
http://dpdk.org/patch/152040

_Testing PASS_

Submitter: Junlong Wang <wang.junlong1@zte.com.cn>
Date: Tuesday, February 25 2025 10:43:08 
DPDK git baseline: Repo:dpdk
  Branch: master
  CommitID:fab31a03ba98e7457284df95dd9eef2223a4ccaa

152026-152040 --> testing pass

Upstream job id: Generic-Unit-Test-DPDK#318501

Test environment and result as below:

+-------------------+----------------+
|    Environment    | dpdk_unit_test |
+===================+================+
| CentOS Stream 10  | PASS           |
+-------------------+----------------+
| CentOS Stream 9   | PASS           |
+-------------------+----------------+
| Debian Bullseye   | PASS           |
+-------------------+----------------+
| Fedora 40         | PASS           |
+-------------------+----------------+
| Debian 12         | PASS           |
+-------------------+----------------+
| Fedora 40 (Clang) | PASS           |
+-------------------+----------------+
| RHEL8             | PASS           |
+-------------------+----------------+
| Fedora 41 (Clang) | PASS           |
+-------------------+----------------+
| Fedora 41         | PASS           |
+-------------------+----------------+
| RHEL9             | PASS           |
+-------------------+----------------+
| Ubuntu 20.04      | PASS           |
+-------------------+----------------+
| Ubuntu 22.04      | PASS           |
+-------------------+----------------+
| Ubuntu 24.04      | PASS           |
+-------------------+----------------+


CentOS Stream 10
	Kernel: Depends on container host
	Compiler: gcc 14.2.1 20241104 (Red Hat 14.2.1-6)

CentOS Stream 9
	Kernel: Depends on container host
	Compiler: gcc 11.5.0 20240719 (Red Hat 11.5.0-2)

Debian Bullseye
	Kernel: Depends on container host
	Compiler: gcc (Debian 10.2.1-6) 10.2.1 20210110

Fedora 40
	Kernel: Depends on container host
	Compiler: gcc 14.2.1 20240912 (Red Hat 14.2.1-3)

Debian 12
	Kernel: Depends on container host
	Compiler: gcc (Debian 12.2.0-14) 12.2.0

Fedora 40 (Clang)
	Kernel: Depends on container host
	Compiler: clang 18.1.8 (Fedora 18.1.8-1.fc40)

RHEL8
	Kernel: Depends on container host
	Compiler: gcc 8.5.0 20210514 (Red Hat 8.5.0-22)

Fedora 41 (Clang)
	Kernel: Depends on container host
	Compiler: clang 19.1.5 (Fedora 19.1.5-1.fc41)

Fedora 41
	Kernel: Depends on container host
	Compiler: gcc 14.2.1 20240912 (Red Hat 14.2.1-3)

RHEL9
	Kernel: Depends on container host
	Compiler: gcc 11.5.0 20240719 (Red Hat 11.5.0-2)

Ubuntu 20.04
	Kernel: Depends on container host
	Compiler: gcc (Ubuntu 9.4.0-1ubuntu1~20.04.2) 9.4.0

Ubuntu 22.04
	Kernel: Depends on container host
	Compiler: gcc (Ubuntu 11.4.0-1ubuntu1~22.04) 11.4.0

Ubuntu 24.04
	Kernel: Depends on container host
	Compiler: gcc (Ubuntu 13.3.0-6ubuntu2~24.04) 13.3.0

To view detailed results, visit:
https://lab.dpdk.org/results/dashboard/patchsets/32680/

UNH-IOL DPDK Community Lab

To manage your email subscriptions, visit: 
https://lab.dpdk.org/results/dashboard/preferences/subscriptions/