From mboxrd@z Thu Jan  1 00:00:00 1970
Return-Path: <test-report-bounces@dpdk.org>
Received: from mails.dpdk.org (mails.dpdk.org [217.70.189.124])
	by inbox.dpdk.org (Postfix) with ESMTP id 90481462BE
	for <public@inbox.dpdk.org>; Wed, 26 Feb 2025 02:08:09 +0100 (CET)
Received: from mails.dpdk.org (localhost [127.0.0.1])
	by mails.dpdk.org (Postfix) with ESMTP id 889794042F;
	Wed, 26 Feb 2025 02:08:09 +0100 (CET)
Received: from mail-il1-f226.google.com (mail-il1-f226.google.com
 [209.85.166.226])
 by mails.dpdk.org (Postfix) with ESMTP id 233334029F
 for <test-report@dpdk.org>; Wed, 26 Feb 2025 02:07:57 +0100 (CET)
Received: by mail-il1-f226.google.com with SMTP id
 e9e14a558f8ab-3ce87d31480so21151655ab.2
 for <test-report@dpdk.org>; Tue, 25 Feb 2025 17:07:57 -0800 (PST)
DKIM-Signature: v=1; a=rsa-sha256; c=relaxed/relaxed;
 d=iol.unh.edu; s=unh-iol; t=1740532076; x=1741136876; darn=dpdk.org;
 h=references:in-reply-to:cc:to:from:subject:message-id:date:from:to
 :cc:subject:date:message-id:reply-to;
 bh=GUTL6o7mnuPfSc8YUKmilJF1XBRL9BF/eb1XNGJ4xD0=;
 b=R9meT9nnM0bIn+iGpIanyvgsibh3BmWAY4J8y+ZUqKoDQFU2WME4AekJrnh1ej9/Oh
 XmzyXCpQiVKmx1vElK22ZvWBZGHJbSMjGuOeVb+KISg05eNS41cykBH81/4Rbzyvc/Nz
 UR7PBHYQIlU7y7ujA9/fLvozNUgmG32G03pgw=
X-Google-DKIM-Signature: v=1; a=rsa-sha256; c=relaxed/relaxed;
 d=1e100.net; s=20230601; t=1740532076; x=1741136876;
 h=references:in-reply-to:cc:to:from:subject:message-id:date
 :x-gm-message-state:from:to:cc:subject:date:message-id:reply-to;
 bh=GUTL6o7mnuPfSc8YUKmilJF1XBRL9BF/eb1XNGJ4xD0=;
 b=AbiiOpTdtgrnTIHMWEmO6CT/kOBsZU7EpePZqfhmihxrya7zgV6HGjVqh8s2JlFPTV
 S9JL5AIRzIvogAzwSYmp2t9a1hW4yZE0WZgHZ0Zp+ij3UZLis5kFwd2YMo+7fwBM90R/
 V6+Kj6ode2B9clyMsVtt7IzcLg/zE+DzkpOHtvfBlYQytuNoxT94rJ9lX0HovXxKkhL4
 ZvasP3C7m72K9UsczKLsQf6Fd+GCEEE9ivSeE2Oqbm/FJy89dCb67ZYyv5MAfh+zJYBo
 DKSVWDNiH6fCD30YpjsmeXtJDvjUue9ZDWMpF9ml7A9+1n2uKyK3ImJLBouorkVHALDg
 hF1g==
X-Gm-Message-State: AOJu0YxSY595AGO2fW8i1tpn+KwGfRRzdeRZPZ49vud0ttIpU4ljWCFQ
 UXwagvf8Eo7HUoxbpZ5oBz6D/2wRuWV2C2yrAglZ+4TlEQyeWpKy67HGEEBQhow5XU1ilT6AWg7
 IbgsBQ1xqOLjgpmPm8rKiFfJ/L0izahWnakKnXhJn
X-Gm-Gg: ASbGncuny5xAKUBU4LkVtobCnCykOZwKmXGfXpQ7ktkfN8vsW9MjKYMBh0GIGAbm493
 200ejv+d3gBR670Uq7VOc3fMsCk5oTZi2aGz8kUb9Ms7pS0UekjUSfE+JuZU4SHVSmR/mVnFxJ5
 ITzt+uxZjoih4DKIY4J5WxXTBg46TfK67/hSmqlh0Mhu6z+gv4dmU8qGBuRTxIXFtd8KAlakxyz
 R7wE2Wd/yNwKZqQEfrmI6vqY42EvnVHWlqYvPJQiJaVsn+XcmrBYMIIGhp3rREXE2a1omp05GLN
 fOZh3ZLQFJb0UNfBSGx7HzQMshqfLC3yjuGv6YPP
X-Google-Smtp-Source: AGHT+IHjTosHpvVwhx4SQ8wIo7opy9U7963/SJZ3CiJPx7GwFYS5ej7xNyWQ7VV7Y02LEI+Npye391ZVeSGE
X-Received: by 2002:a05:6e02:184b:b0:3d0:4eaa:e480 with SMTP id
 e9e14a558f8ab-3d2fc0d9650mr53019585ab.3.1740532076456; 
 Tue, 25 Feb 2025 17:07:56 -0800 (PST)
Received: from postal.iol.unh.edu (postal.iol.unh.edu. [132.177.123.84])
 by smtp-relay.gmail.com with ESMTPS id
 e9e14a558f8ab-3d36165fe06sm1443615ab.37.2025.02.25.17.07.56
 (version=TLS1_2 cipher=ECDHE-ECDSA-AES128-GCM-SHA256 bits=128/128);
 Tue, 25 Feb 2025 17:07:56 -0800 (PST)
X-Relaying-Domain: iol.unh.edu
Date: Tue, 25 Feb 2025 17:07:56 -0800 (PST)
Message-ID: <67be696c.050a0220.1137f5.8c4fSMTPIN_ADDED_MISSING@mx.google.com>
Received: from [172.21.0.7] (unknown [172.18.0.240])
 by postal.iol.unh.edu (Postfix) with ESMTP id E3F566052471;
 Tue, 25 Feb 2025 20:07:55 -0500 (EST)
Subject: |SUCCESS| pw152051 [PATCH] net/mlx5: add eCPRI support
From: dpdklab@iol.unh.edu
To: Test Report <test-report@dpdk.org>
Cc: dpdk-test-reports@iol.unh.edu
In-Reply-To: <20250225160304.9865-1-bingz@nvidia.com>
References: <20250225160304.9865-1-bingz@nvidia.com>
Content-Type: text/plain
X-BeenThere: test-report@dpdk.org
X-Mailman-Version: 2.1.29
Precedence: list
List-Id: automatic DPDK test reports <test-report.dpdk.org>
List-Unsubscribe: <https://mails.dpdk.org/options/test-report>,
 <mailto:test-report-request@dpdk.org?subject=unsubscribe>
List-Archive: <http://mails.dpdk.org/archives/test-report/>
List-Post: <mailto:test-report@dpdk.org>
List-Help: <mailto:test-report-request@dpdk.org?subject=help>
List-Subscribe: <https://mails.dpdk.org/listinfo/test-report>,
 <mailto:test-report-request@dpdk.org?subject=subscribe>
Errors-To: test-report-bounces@dpdk.org

Test-Label: iol-compile-amd64-testing
Test-Status: SUCCESS
http://dpdk.org/patch/152051

_Testing PASS_

Submitter: Bing Zhao <bingz@nvidia.com>
Date: Tuesday, February 25 2025 16:03:04 
DPDK git baseline: Repo:dpdk
  Branch: master
  CommitID:61fc05f1c6a079c0b25b27d1668450134a784d56

152051 --> testing pass

Upstream job id: Generic-DPDK-Compile-Meson#365324

Test environment and result as below:

+-------------------+--------------------+-------------------+------------------+
|    Environment    | dpdk_meson_compile | dpdk_compile_spdk | dpdk_compile_ovs |
+===================+====================+===================+==================+
| CentOS Stream 9   | PASS               | PASS              | SKIPPED          |
+-------------------+--------------------+-------------------+------------------+
| Debian Bullseye   | PASS               | PASS              | SKIPPED          |
+-------------------+--------------------+-------------------+------------------+
| CentOS Stream 10  | PASS               | SKIPPED           | SKIPPED          |
+-------------------+--------------------+-------------------+------------------+
| Debian 12         | PASS               | PASS              | SKIPPED          |
+-------------------+--------------------+-------------------+------------------+
| Fedora 40 (Clang) | PASS               | PASS              | SKIPPED          |
+-------------------+--------------------+-------------------+------------------+
| Fedora 41 (Clang) | PASS               | PASS              | PASS             |
+-------------------+--------------------+-------------------+------------------+
| Fedora 40         | PASS               | PASS              | SKIPPED          |
+-------------------+--------------------+-------------------+------------------+
| openSUSE Leap 15  | PASS               | SKIPPED           | SKIPPED          |
+-------------------+--------------------+-------------------+------------------+
| Fedora 41         | PASS               | PASS              | PASS             |
+-------------------+--------------------+-------------------+------------------+
| RHEL8             | PASS               | SKIPPED           | SKIPPED          |
+-------------------+--------------------+-------------------+------------------+
| RHEL9             | PASS               | SKIPPED           | SKIPPED          |
+-------------------+--------------------+-------------------+------------------+
| Ubuntu 20.04      | PASS               | SKIPPED           | SKIPPED          |
+-------------------+--------------------+-------------------+------------------+
| Ubuntu 24.04      | PASS               | PASS              | PASS             |
+-------------------+--------------------+-------------------+------------------+
| Alpine            | PASS               | SKIPPED           | SKIPPED          |
+-------------------+--------------------+-------------------+------------------+
| FreeBSD 13.4      | PASS               | SKIPPED           | SKIPPED          |
+-------------------+--------------------+-------------------+------------------+
| FreeBSD 14.2      | PASS               | SKIPPED           | SKIPPED          |
+-------------------+--------------------+-------------------+------------------+


CentOS Stream 9
	Kernel: Depends on container host
	Compiler: gcc 11.5.0 20240719 (Red Hat 11.5.0-2)

Debian Bullseye
	Kernel: Depends on container host
	Compiler: gcc (Debian 10.2.1-6) 10.2.1 20210110

CentOS Stream 10
	Kernel: Depends on container host
	Compiler: gcc 14.2.1 20241104 (Red Hat 14.2.1-6)

Debian 12
	Kernel: Depends on container host
	Compiler: gcc (Debian 12.2.0-14) 12.2.0

Fedora 40 (Clang)
	Kernel: Depends on container host
	Compiler: clang 18.1.8 (Fedora 18.1.8-1.fc40)

Fedora 41 (Clang)
	Kernel: Depends on container host
	Compiler: clang 19.1.5 (Fedora 19.1.5-1.fc41)

Fedora 40
	Kernel: Depends on container host
	Compiler: gcc 14.2.1 20240912 (Red Hat 14.2.1-3)

openSUSE Leap 15
	Kernel: Depends on container host
	Compiler: gcc (SUSE Linux) 7.5.0

Fedora 41
	Kernel: Depends on container host
	Compiler: gcc 14.2.1 20240912 (Red Hat 14.2.1-3)

RHEL8
	Kernel: Depends on container host
	Compiler: gcc 8.5.0 20210514 (Red Hat 8.5.0-22)

RHEL9
	Kernel: Depends on container host
	Compiler: gcc 11.5.0 20240719 (Red Hat 11.5.0-2)

Ubuntu 20.04
	Kernel: Depends on container host
	Compiler: gcc (Ubuntu 9.4.0-1ubuntu1~20.04.2) 9.4.0

Ubuntu 24.04
	Kernel: Depends on container host
	Compiler: gcc (Ubuntu 13.3.0-6ubuntu2~24.04) 13.3.0

Alpine
	Kernel: Depends on container host
	Compiler: gcc (Alpine 14.2.0) 14.2.0

FreeBSD 13.4
	Kernel: 13.4-RELEASE-p1
	Compiler: clang 18.1.6

FreeBSD 14.2
	Kernel: 14.2-RELEASE
	Compiler: clang 18.1.6

To view detailed results, visit:
https://lab.dpdk.org/results/dashboard/patchsets/32683/

UNH-IOL DPDK Community Lab

To manage your email subscriptions, visit: 
https://lab.dpdk.org/results/dashboard/preferences/subscriptions/