From mboxrd@z Thu Jan  1 00:00:00 1970
Return-Path: <test-report-bounces@dpdk.org>
Received: from mails.dpdk.org (mails.dpdk.org [217.70.189.124])
	by inbox.dpdk.org (Postfix) with ESMTP id A217E462BE
	for <public@inbox.dpdk.org>; Wed, 26 Feb 2025 02:48:26 +0100 (CET)
Received: from mails.dpdk.org (localhost [127.0.0.1])
	by mails.dpdk.org (Postfix) with ESMTP id 9CF05402B9;
	Wed, 26 Feb 2025 02:48:26 +0100 (CET)
Received: from mail-il1-f227.google.com (mail-il1-f227.google.com
 [209.85.166.227])
 by mails.dpdk.org (Postfix) with ESMTP id 80E08402AC
 for <test-report@dpdk.org>; Wed, 26 Feb 2025 02:48:25 +0100 (CET)
Received: by mail-il1-f227.google.com with SMTP id
 e9e14a558f8ab-3ce868498d3so18084215ab.3
 for <test-report@dpdk.org>; Tue, 25 Feb 2025 17:48:25 -0800 (PST)
DKIM-Signature: v=1; a=rsa-sha256; c=relaxed/relaxed;
 d=iol.unh.edu; s=unh-iol; t=1740534505; x=1741139305; darn=dpdk.org;
 h=references:in-reply-to:cc:to:from:subject:message-id:date:from:to
 :cc:subject:date:message-id:reply-to;
 bh=BbD/m9f01Vc0L4ZsSgW8H4y8d8jC7heaZeXwR+zbOcQ=;
 b=SJhV6LGP19k4FSEwTyDnW+RKPUAsEI2i3QRhc5X92xnalX3Eemj+y5TJ7L2vxNtOh8
 KY1KW9Sdljdceyi6cok44Wqt4L7vfmB2Gv5e2X6Gt7gel+edkCP3bGiMSqaH0lu0y+TJ
 saFQSpTCFbp+fpFMrhGQJC2sFQh61pxOSoJE0=
X-Google-DKIM-Signature: v=1; a=rsa-sha256; c=relaxed/relaxed;
 d=1e100.net; s=20230601; t=1740534505; x=1741139305;
 h=references:in-reply-to:cc:to:from:subject:message-id:date
 :x-gm-message-state:from:to:cc:subject:date:message-id:reply-to;
 bh=BbD/m9f01Vc0L4ZsSgW8H4y8d8jC7heaZeXwR+zbOcQ=;
 b=vVslfEE77E0LBvuRI6KBsSHWjYCKYZKgUgzryZfFXzmnKqj4/W6RmzhTsQwMoYyDYY
 ndeRcD4P5jc9UYfsSfwLDowmf/BQS3WDCa+bT4dFsJNEHYC9xHCBObVWId9tAd/696hD
 g7qnkkfQLnm4H/Q7cTPSTxNU4GC6qVRPGyDYpH+uxTKID3oSXiazpkEhx4s0mq63JaWx
 aKsJm8TE90Duq7WXR2wLFn3Wk5BWGJcYuPpbosweaCVghcsG+klgTeZLRuhoqkLZpnCr
 eGVkjlIF29DiOww2y/YpxNpof3G0ywpVXdB6/6gqV9lqTwCWq+yybZBknQ4ITJw024qw
 Hc7A==
X-Gm-Message-State: AOJu0YzeFc3ovgLyZBKKf/A9y1JP5l5iyBVzOM6etkny65Ky7BDGIkgj
 y24sDAEebgSbuxXWIqSjEx0j0u+v1Lt8JA5vMpcF11ZyUTcqIm/MldKkbKWyd1XdONK6COI/JH9
 lj7aoYCQzSf5M6KV+NKAlrY7Aoet1EaW3IdTrGZP+dIxmuW9mrE0e/t5w
X-Gm-Gg: ASbGnct2MnQbkQmz9lQrsQ+xlpjLbvEw5Qe29YwKwzNGF9M+hAYJkAWwYT0cZwHz2Ep
 5FIl6mJLshiy+ws2xQnONdjzNcSPkYEOm4Rfvzt7E8c/3DsPD1IW9OS1mILVRWCUwF93mh2DEza
 C4ykRekEAxDXiKXSOBVKkgf6P/D7TAukufEMC/1/qWQgz6GzpxyF0DBUriMCKSZm68zVQOkJoXw
 82pMH7bmRU6QJVWrX4OWsFBdd/JcZcoCCcZUBpSXyDa7QUGRmpZTnqOcgMpWrQq0+MnRAG3na9U
 HJCcIOfV2Viwh81I20Qls4XIFl6rCga5PsxzEHnJKlBqP//fxLYa
X-Google-Smtp-Source: AGHT+IFGtQbof9jcbawWbX1bkw3SmCw+N+XqemPMjjZaIIysyeBMfDXZP3Dog3EsMLlsFtTnhi5liL5Jzk44
X-Received: by 2002:a05:6e02:3dc4:b0:3ce:4b12:fa17 with SMTP id
 e9e14a558f8ab-3d2cb52d4bfmr175407845ab.19.1740534503261; 
 Tue, 25 Feb 2025 17:48:23 -0800 (PST)
Received: from postal.iol.unh.edu (postal.iol.unh.edu.
 [2606:4100:3880:1234::84]) by smtp-relay.gmail.com with ESMTPS id
 e9e14a558f8ab-3d361642d90sm1483925ab.8.2025.02.25.17.48.23
 (version=TLS1_2 cipher=ECDHE-ECDSA-AES128-GCM-SHA256 bits=128/128);
 Tue, 25 Feb 2025 17:48:23 -0800 (PST)
X-Relaying-Domain: iol.unh.edu
Date: Tue, 25 Feb 2025 17:48:23 -0800 (PST)
Message-ID: <67be72e7.050a0220.29be37.8d25SMTPIN_ADDED_MISSING@mx.google.com>
Received: from [172.21.0.7] (unknown [172.18.0.240])
 by postal.iol.unh.edu (Postfix) with ESMTP id AF6F96052471;
 Tue, 25 Feb 2025 20:48:22 -0500 (EST)
Subject: |SUCCESS| pw152045-152050 [PATCH] [v2,6/6] dts: add NIC capabilities
From: dpdklab@iol.unh.edu
To: Test Report <test-report@dpdk.org>
Cc: dpdk-test-reports@iol.unh.edu
In-Reply-To: <20250225153345.331216-7-thomas.wilks@arm.com>
References: <20250225153345.331216-7-thomas.wilks@arm.com>
Content-Type: text/plain
X-BeenThere: test-report@dpdk.org
X-Mailman-Version: 2.1.29
Precedence: list
List-Id: automatic DPDK test reports <test-report.dpdk.org>
List-Unsubscribe: <https://mails.dpdk.org/options/test-report>,
 <mailto:test-report-request@dpdk.org?subject=unsubscribe>
List-Archive: <http://mails.dpdk.org/archives/test-report/>
List-Post: <mailto:test-report@dpdk.org>
List-Help: <mailto:test-report-request@dpdk.org?subject=help>
List-Subscribe: <https://mails.dpdk.org/listinfo/test-report>,
 <mailto:test-report-request@dpdk.org?subject=subscribe>
Errors-To: test-report-bounces@dpdk.org

Test-Label: iol-abi-testing
Test-Status: SUCCESS
http://dpdk.org/patch/152050

_Testing PASS_

Submitter: Thomas Wilks <thomas.wilks@arm.com>
Date: Tuesday, February 25 2025 15:33:45 
DPDK git baseline: Repo:dpdk
  Branch: master
  CommitID:c807af409e52bbd6899ea5cc49693f800a125a26

152045-152050 --> testing pass

Upstream job id: Generic-DPDK-Compile-ABI#117790

Test environment and result as below:

+-------------------+----------+
|    Environment    | abi_test |
+===================+==========+
| CentOS Stream 10  | PASS     |
+-------------------+----------+
| CentOS Stream 9   | PASS     |
+-------------------+----------+
| Debian 12         | PASS     |
+-------------------+----------+
| Debian Bullseye   | PASS     |
+-------------------+----------+
| Fedora 40 (Clang) | PASS     |
+-------------------+----------+
| Fedora 41 (Clang) | PASS     |
+-------------------+----------+
| Fedora 40         | PASS     |
+-------------------+----------+
| RHEL8             | PASS     |
+-------------------+----------+
| openSUSE Leap 15  | PASS     |
+-------------------+----------+
| RHEL9             | PASS     |
+-------------------+----------+
| Ubuntu 22.04      | PASS     |
+-------------------+----------+
| Ubuntu 24.04      | PASS     |
+-------------------+----------+
| Fedora 41         | PASS     |
+-------------------+----------+


CentOS Stream 10
	Kernel: Depends on container host
	Compiler: gcc 14.2.1 20241104 (Red Hat 14.2.1-6)

CentOS Stream 9
	Kernel: Depends on container host
	Compiler: gcc 11.5.0 20240719 (Red Hat 11.5.0-2)

Debian 12
	Kernel: Depends on container host
	Compiler: gcc (Debian 12.2.0-14) 12.2.0

Debian Bullseye
	Kernel: Depends on container host
	Compiler: gcc (Debian 10.2.1-6) 10.2.1 20210110

Fedora 40 (Clang)
	Kernel: Depends on container host
	Compiler: clang 18.1.8 (Fedora 18.1.8-1.fc40)

Fedora 41 (Clang)
	Kernel: Depends on container host
	Compiler: clang 19.1.5 (Fedora 19.1.5-1.fc41)

Fedora 40
	Kernel: Depends on container host
	Compiler: gcc 14.2.1 20240912 (Red Hat 14.2.1-3)

RHEL8
	Kernel: Depends on container host
	Compiler: gcc 8.5.0 20210514 (Red Hat 8.5.0-22)

openSUSE Leap 15
	Kernel: Depends on container host
	Compiler: gcc (SUSE Linux) 7.5.0

RHEL9
	Kernel: Depends on container host
	Compiler: gcc 11.5.0 20240719 (Red Hat 11.5.0-2)

Ubuntu 22.04
	Kernel: Depends on container host
	Compiler: gcc (Ubuntu 11.4.0-1ubuntu1~22.04) 11.4.0

Ubuntu 24.04
	Kernel: Depends on container host
	Compiler: gcc (Ubuntu 13.3.0-6ubuntu2~24.04) 13.3.0

Fedora 41
	Kernel: Depends on container host
	Compiler: gcc 14.2.1 20240912 (Red Hat 14.2.1-3)

To view detailed results, visit:
https://lab.dpdk.org/results/dashboard/patchsets/32682/

UNH-IOL DPDK Community Lab

To manage your email subscriptions, visit: 
https://lab.dpdk.org/results/dashboard/preferences/subscriptions/