From mboxrd@z Thu Jan 1 00:00:00 1970 Return-Path: Received: from mails.dpdk.org (mails.dpdk.org [217.70.189.124]) by inbox.dpdk.org (Postfix) with ESMTP id 535FC462C3 for ; Wed, 26 Feb 2025 07:18:10 +0100 (CET) Received: from mails.dpdk.org (localhost [127.0.0.1]) by mails.dpdk.org (Postfix) with ESMTP id 203A7402DC; Wed, 26 Feb 2025 07:18:10 +0100 (CET) Received: from mail-pl1-f225.google.com (mail-pl1-f225.google.com [209.85.214.225]) by mails.dpdk.org (Postfix) with ESMTP id 64C3F402D8 for ; Wed, 26 Feb 2025 07:18:08 +0100 (CET) Received: by mail-pl1-f225.google.com with SMTP id d9443c01a7336-223378e2b0dso97475ad.0 for ; Tue, 25 Feb 2025 22:18:08 -0800 (PST) DKIM-Signature: v=1; a=rsa-sha256; c=relaxed/relaxed; d=iol.unh.edu; s=unh-iol; t=1740550687; x=1741155487; darn=dpdk.org; h=cc:to:from:subject:message-id:date:from:to:cc:subject:date :message-id:reply-to; bh=3WxJVfUlNNPKabJp2MFmQmMNzVELCQH6Kp+DEWv18t4=; b=IvKX9TxfgxQApUZE28IWEt6mEkHXP4IWPCQdwqmBKUobhy2H74sMgb5/ZYrhWKUUli MoL0eKfJMeTfTNFpTqcwjuGCT9YAG3o4cbmIovVzfOKTY97dFJuylQaDV7RPndJxD9KY cHzA8cPVHF5HEt+Du9G06rblb+0o1SCE85DZM= X-Google-DKIM-Signature: v=1; a=rsa-sha256; c=relaxed/relaxed; d=1e100.net; s=20230601; t=1740550687; x=1741155487; h=cc:to:from:subject:message-id:date:x-gm-message-state:from:to:cc :subject:date:message-id:reply-to; bh=3WxJVfUlNNPKabJp2MFmQmMNzVELCQH6Kp+DEWv18t4=; b=cTV+9qldCgunLewivysMDZPXlhytdDGhQSh+kCRewyoFiAVkWNqFHnKfQGtnjqMB3b NzUzpb5JnBq6X79mG+itAHmDU8JRG9Va7WgZ+q8bOf+XW/IRg4TlnqDxQfj0rVc6eTxg xb6seO+xAj+lcrwtAji+ZrfsJ5OLh2rpG38ZNlDgEe7nbHD3vGHBDXhClG/WVwzSQlH7 cC4DsNiGZB93X3QE+WP+McYI/gpNvAN99u8xWR6gaHK1lsGL8YwnHxpoNRMSfxPEZPqp 26AQMiFlEsDZrCOrJs86C9jH7NjifaRCUkN+y3KWIiexiqyrXz2RuEQAsrfRT/6Ep71j VYlQ== X-Gm-Message-State: AOJu0YwZER5hHhGdNbB1TS2EE6vzki/4KALton5wzDtAuFhT/X7BGVGF 1Sboje1Vs6q9suuSgglBPa5qrVrTjuJG4ZbiE2wqIEFb2+wkn2EikfL5KSTQlRLgf/uaPH4dvoT x3707je7OdHjDaMLUXDi/OcHKcEQCx7+gbjenm0aW X-Gm-Gg: ASbGncv0FMPYapP5wk4ayrIkCmmE4a+wThl+SBTP44xv/seiDTEvQcSwhadG+uGm0nt 023PABBcHddN0uLOK/N3AtmZUbSCtpYS/iDoM6cp4AP+L9Qxn7aR9VMfBnD4xlmEVHVC1bUcBDi Q+QZXeqzm1R+YxM7LbcXyFol2vapGuKbX9Yf3mhYDNB5uoqfhrJ5ji/bj/wktwtQfgbY+b+lIUb 6djBD4NMn5GT1kPFW9M2vyxJgdHAOUzvRrwyge/pVcxxdtNwm7bl5+MBbz9lypYNNwFSBHYf+BT pda4NAg8ryYHyF1OEoB4i0DyFCUgMyB4nWjU8KYh X-Google-Smtp-Source: AGHT+IHXghLT+h2lbI6SXc65MhUpFB9Er3K0EqerqwXLXW0xyCtn4XMdzyYxFwKS3wnMUbY1skvM8No4LmDy X-Received: by 2002:a17:902:cec3:b0:21f:90ae:bf83 with SMTP id d9443c01a7336-22307e78b55mr96137965ad.44.1740550687193; Tue, 25 Feb 2025 22:18:07 -0800 (PST) Received: from postal.iol.unh.edu (postal.iol.unh.edu. [132.177.123.84]) by smtp-relay.gmail.com with ESMTPS id d9443c01a7336-2230a02c291sm1431795ad.69.2025.02.25.22.18.07 (version=TLS1_2 cipher=ECDHE-ECDSA-AES128-GCM-SHA256 bits=128/128); Tue, 25 Feb 2025 22:18:07 -0800 (PST) X-Relaying-Domain: iol.unh.edu Date: Tue, 25 Feb 2025 22:18:07 -0800 (PST) Message-ID: <67beb21f.170a0220.912f3.816aSMTPIN_ADDED_MISSING@mx.google.com> Received: from [172.21.0.8] (unknown [172.18.0.240]) by postal.iol.unh.edu (Postfix) with ESMTP id 305126052471; Wed, 26 Feb 2025 01:18:06 -0500 (EST) Subject: |SUCCESS| [GIT MASTER] fab31a03ba98e7457284df95dd9eef2223a4ccaa From: dpdklab@iol.unh.edu To: Test Report Cc: dpdk-test-reports@iol.unh.edu Content-Type: text/plain X-BeenThere: test-report@dpdk.org X-Mailman-Version: 2.1.29 Precedence: list List-Id: automatic DPDK test reports List-Unsubscribe: , List-Archive: List-Post: List-Help: List-Subscribe: , Errors-To: test-report-bounces@dpdk.org _Testing PASS_ Branch: dpdk fab31a03ba98e7457284df95dd9eef2223a4ccaa --> testing pass Upstream job id: Generic-DPDK-Compile-Meson#365475 Test environment and result as below: +-------------------+--------------------+-------------------+------------------+ | Environment | dpdk_meson_compile | dpdk_compile_spdk | dpdk_compile_ovs | +===================+====================+===================+==================+ | CentOS Stream 9 | PASS | PASS | SKIPPED | +-------------------+--------------------+-------------------+------------------+ | CentOS Stream 10 | PASS | SKIPPED | SKIPPED | +-------------------+--------------------+-------------------+------------------+ | Debian Bullseye | PASS | PASS | SKIPPED | +-------------------+--------------------+-------------------+------------------+ | Debian 12 | PASS | PASS | SKIPPED | +-------------------+--------------------+-------------------+------------------+ | Fedora 40 (Clang) | PASS | PASS | SKIPPED | +-------------------+--------------------+-------------------+------------------+ | Fedora 40 | PASS | PASS | SKIPPED | +-------------------+--------------------+-------------------+------------------+ | openSUSE Leap 15 | PASS | SKIPPED | SKIPPED | +-------------------+--------------------+-------------------+------------------+ | Fedora 41 | PASS | PASS | PASS | +-------------------+--------------------+-------------------+------------------+ | Fedora 41 (Clang) | PASS | PASS | PASS | +-------------------+--------------------+-------------------+------------------+ | RHEL8 | PASS | SKIPPED | SKIPPED | +-------------------+--------------------+-------------------+------------------+ | RHEL9 | PASS | SKIPPED | SKIPPED | +-------------------+--------------------+-------------------+------------------+ | Ubuntu 20.04 | PASS | SKIPPED | SKIPPED | +-------------------+--------------------+-------------------+------------------+ | Ubuntu 22.04 | PASS | PASS | SKIPPED | +-------------------+--------------------+-------------------+------------------+ | Ubuntu 24.04 | PASS | PASS | PASS | +-------------------+--------------------+-------------------+------------------+ | Alpine | PASS | SKIPPED | SKIPPED | +-------------------+--------------------+-------------------+------------------+ | Arch Linux | PASS | SKIPPED | SKIPPED | +-------------------+--------------------+-------------------+------------------+ | FreeBSD 13.4 | PASS | SKIPPED | SKIPPED | +-------------------+--------------------+-------------------+------------------+ | FreeBSD 14.2 | PASS | SKIPPED | SKIPPED | +-------------------+--------------------+-------------------+------------------+ CentOS Stream 9 Kernel: Depends on container host Compiler: gcc 11.5.0 20240719 (Red Hat 11.5.0-2) CentOS Stream 10 Kernel: Depends on container host Compiler: gcc 14.2.1 20241104 (Red Hat 14.2.1-6) Debian Bullseye Kernel: Depends on container host Compiler: gcc (Debian 10.2.1-6) 10.2.1 20210110 Debian 12 Kernel: Depends on container host Compiler: gcc (Debian 12.2.0-14) 12.2.0 Fedora 40 (Clang) Kernel: Depends on container host Compiler: clang 18.1.8 (Fedora 18.1.8-1.fc40) Fedora 40 Kernel: Depends on container host Compiler: gcc 14.2.1 20240912 (Red Hat 14.2.1-3) openSUSE Leap 15 Kernel: Depends on container host Compiler: gcc (SUSE Linux) 7.5.0 Fedora 41 Kernel: Depends on container host Compiler: gcc 14.2.1 20240912 (Red Hat 14.2.1-3) Fedora 41 (Clang) Kernel: Depends on container host Compiler: clang 19.1.5 (Fedora 19.1.5-1.fc41) RHEL8 Kernel: Depends on container host Compiler: gcc 8.5.0 20210514 (Red Hat 8.5.0-22) RHEL9 Kernel: Depends on container host Compiler: gcc 11.5.0 20240719 (Red Hat 11.5.0-2) Ubuntu 20.04 Kernel: Depends on container host Compiler: gcc (Ubuntu 9.4.0-1ubuntu1~20.04.2) 9.4.0 Ubuntu 22.04 Kernel: Depends on container host Compiler: gcc (Ubuntu 11.4.0-1ubuntu1~22.04) 11.4.0 Ubuntu 24.04 Kernel: Depends on container host Compiler: gcc (Ubuntu 13.3.0-6ubuntu2~24.04) 13.3.0 Alpine Kernel: Depends on container host Compiler: gcc (Alpine 14.2.0) 14.2.0 Arch Linux Kernel: Depends on container host Compiler: gcc 14.2.1 20240910 FreeBSD 13.4 Kernel: 13.4-RELEASE-p1 Compiler: clang 18.1.6 FreeBSD 14.2 Kernel: 14.2-RELEASE Compiler: clang 18.1.6 To view detailed results, visit: https://lab.dpdk.org/results/dashboard/tarballs/32730/ UNH-IOL DPDK Community Lab To manage your email subscriptions, visit: https://lab.dpdk.org/results/dashboard/preferences/subscriptions/