From mboxrd@z Thu Jan  1 00:00:00 1970
Return-Path: <test-report-bounces@dpdk.org>
Received: from mails.dpdk.org (mails.dpdk.org [217.70.189.124])
	by inbox.dpdk.org (Postfix) with ESMTP id E6027462C3
	for <public@inbox.dpdk.org>; Wed, 26 Feb 2025 08:23:20 +0100 (CET)
Received: from mails.dpdk.org (localhost [127.0.0.1])
	by mails.dpdk.org (Postfix) with ESMTP id 1149F402D8;
	Wed, 26 Feb 2025 08:23:20 +0100 (CET)
Received: from mail-qv1-f99.google.com (mail-qv1-f99.google.com
 [209.85.219.99]) by mails.dpdk.org (Postfix) with ESMTP id C0B4C4027C
 for <test-report@dpdk.org>; Wed, 26 Feb 2025 08:23:18 +0100 (CET)
Received: by mail-qv1-f99.google.com with SMTP id
 6a1803df08f44-6e6698667c7so77793956d6.2
 for <test-report@dpdk.org>; Tue, 25 Feb 2025 23:23:18 -0800 (PST)
DKIM-Signature: v=1; a=rsa-sha256; c=relaxed/relaxed;
 d=iol.unh.edu; s=unh-iol; t=1740554598; x=1741159398; darn=dpdk.org;
 h=references:in-reply-to:cc:to:from:subject:message-id:date:from:to
 :cc:subject:date:message-id:reply-to;
 bh=SUlRtOx715O9i0gXpcdcCKLXmWN8ImMT2UHQ1CPV+40=;
 b=jsekDG25ZlSmZPXviDf6jecfmkbtP0c/nuZ4mgXa733g75lqV8qxQVaRaMhzbeQj/x
 Igx5muqZAPuLdhrjpvpDh0y9VOj2dT3NihEFSpt9NHl7nid8gbXoytL6bRVVvFyCXWL+
 rnJIAfjwxemcmmcxLBfRj65OvNcyGkAw32V/Y=
X-Google-DKIM-Signature: v=1; a=rsa-sha256; c=relaxed/relaxed;
 d=1e100.net; s=20230601; t=1740554598; x=1741159398;
 h=references:in-reply-to:cc:to:from:subject:message-id:date
 :x-gm-message-state:from:to:cc:subject:date:message-id:reply-to;
 bh=SUlRtOx715O9i0gXpcdcCKLXmWN8ImMT2UHQ1CPV+40=;
 b=j0/JZoSHP35CLa9oaiNRc7Lk2qN7w6FThz1m2zMOETX0s/6e+O619p31qnNwno0Gex
 IizkBDqxljNi49gVJUD27b6mtTrSqez2ZmEk8Q3mF80tWSgLdFMBysj9bI8mU5cu0VkE
 gSvZQ5mliNP8FjvZMp4wqlE/jW16Ggv4ZLwUNHo3gnt2oxcS3b6oiiXf3vxbggfmoQ9U
 Ot8rZdTBGfXUekDQCRzqkhB1m10K+Q5M0MjxUJlBqtc1rRhmwg93XErQz6+ituT7Umod
 jcb0T7rZszOtZx8+1qG7YRl/nMKGinfGGLSzcBilXpGZ2b+n/mpTHcsae04pb5ocaguS
 60sg==
X-Gm-Message-State: AOJu0YwUx8tInJY1rSOqKi7lvKmxjghU5/TA7dwHGlM6IV1JxYU7b8JJ
 3UuGKfv9le9Tev1c/Djyiuggm+PR+KT+NRdW3e2gdiw3NDcZhaHlTE1ESsR5dMFVNymayBzqHij
 a4Ejt3yh3HgQa711cPjDCmYFnnFrpzV65v+v+bkFu
X-Gm-Gg: ASbGncsZyqI+cusPtRXbaOz1LUq9z6OsbAAxaAe7TFhca8byNBLBaERkxj3MRVnB3Ru
 6H4npNcz+CJ6m/kq5cFCNiZ/IX8kXzkbug6n9XYKrLC68JSfuE9j2dUSh9p0NcOmYR3UcY/wlkf
 SsIZA2kzGiiK6wxn7MAu4jAlFGPUup34r4alzzSeQvI5BnRS3NoPAYnTVE1gnoGdGOeoqmtF59k
 u9CHjhy3bOWeYHpzhaKK58Os7ejJHKucqq82OMMTXLh6k2ioqAeh+NPD+ZaD8y73eD+MjU/rbaJ
 jVEx9hg4WIzJeCbPYarEB/APrC91QfAUMaqWKahp
X-Google-Smtp-Source: AGHT+IFEaHaim5pe0f0zLLQTjEoMBHD0QnUlRA/Tmwez1Lrz0s0b3LW9kp3MFupjgh2q2KX9Fn/h+IAcLWld
X-Received: by 2002:a0c:fdcc:0:b0:6e4:2dcb:33c8 with SMTP id
 6a1803df08f44-6e87ab9fdf4mr59262786d6.29.1740554598187; 
 Tue, 25 Feb 2025 23:23:18 -0800 (PST)
Received: from postal.iol.unh.edu (postal.iol.unh.edu. [132.177.123.84])
 by smtp-relay.gmail.com with ESMTPS id
 6a1803df08f44-6e87b0580eesm1573416d6.36.2025.02.25.23.23.18
 (version=TLS1_2 cipher=ECDHE-ECDSA-AES128-GCM-SHA256 bits=128/128);
 Tue, 25 Feb 2025 23:23:18 -0800 (PST)
X-Relaying-Domain: iol.unh.edu
Date: Tue, 25 Feb 2025 23:23:18 -0800 (PST)
Message-ID: <67bec166.d40a0220.4eb67.92deSMTPIN_ADDED_MISSING@mx.google.com>
Received: from [172.21.0.7] (unknown [172.18.0.240])
 by postal.iol.unh.edu (Postfix) with ESMTP id A73986052471;
 Wed, 26 Feb 2025 02:23:16 -0500 (EST)
Subject: |SUCCESS| pw152045-152050 [PATCH] [v2,6/6] dts: add NIC capabilities
From: dpdklab@iol.unh.edu
To: Test Report <test-report@dpdk.org>
Cc: dpdk-test-reports@iol.unh.edu
In-Reply-To: <20250225153345.331216-7-thomas.wilks@arm.com>
References: <20250225153345.331216-7-thomas.wilks@arm.com>
Content-Type: text/plain
X-BeenThere: test-report@dpdk.org
X-Mailman-Version: 2.1.29
Precedence: list
List-Id: automatic DPDK test reports <test-report.dpdk.org>
List-Unsubscribe: <https://mails.dpdk.org/options/test-report>,
 <mailto:test-report-request@dpdk.org?subject=unsubscribe>
List-Archive: <http://mails.dpdk.org/archives/test-report/>
List-Post: <mailto:test-report@dpdk.org>
List-Help: <mailto:test-report-request@dpdk.org?subject=help>
List-Subscribe: <https://mails.dpdk.org/listinfo/test-report>,
 <mailto:test-report-request@dpdk.org?subject=subscribe>
Errors-To: test-report-bounces@dpdk.org

Test-Label: iol-compile-amd64-testing
Test-Status: SUCCESS
http://dpdk.org/patch/152050

_Testing PASS_

Submitter: Thomas Wilks <thomas.wilks@arm.com>
Date: Tuesday, February 25 2025 15:33:45 
DPDK git baseline: Repo:dpdk
  Branch: master
  CommitID:c807af409e52bbd6899ea5cc49693f800a125a26

152045-152050 --> testing pass

Upstream job id: Generic-DPDK-Compile-Meson#365523

Test environment and result as below:

+-------------------+--------------------+-------------------+------------------+
|    Environment    | dpdk_meson_compile | dpdk_compile_spdk | dpdk_compile_ovs |
+===================+====================+===================+==================+
| CentOS Stream 9   | PASS               | PASS              | SKIPPED          |
+-------------------+--------------------+-------------------+------------------+
| CentOS Stream 10  | PASS               | SKIPPED           | SKIPPED          |
+-------------------+--------------------+-------------------+------------------+
| Debian Bullseye   | PASS               | PASS              | SKIPPED          |
+-------------------+--------------------+-------------------+------------------+
| Fedora 40 (Clang) | PASS               | PASS              | SKIPPED          |
+-------------------+--------------------+-------------------+------------------+
| Fedora 40         | PASS               | PASS              | SKIPPED          |
+-------------------+--------------------+-------------------+------------------+
| Fedora 41 (Clang) | PASS               | PASS              | PASS             |
+-------------------+--------------------+-------------------+------------------+
| Fedora 41         | PASS               | PASS              | PASS             |
+-------------------+--------------------+-------------------+------------------+
| openSUSE Leap 15  | PASS               | SKIPPED           | SKIPPED          |
+-------------------+--------------------+-------------------+------------------+
| RHEL8             | PASS               | SKIPPED           | SKIPPED          |
+-------------------+--------------------+-------------------+------------------+
| RHEL9             | PASS               | SKIPPED           | SKIPPED          |
+-------------------+--------------------+-------------------+------------------+
| Ubuntu 20.04      | PASS               | SKIPPED           | SKIPPED          |
+-------------------+--------------------+-------------------+------------------+
| Ubuntu 22.04      | PASS               | PASS              | SKIPPED          |
+-------------------+--------------------+-------------------+------------------+
| Ubuntu 24.04      | PASS               | PASS              | PASS             |
+-------------------+--------------------+-------------------+------------------+
| Alpine            | PASS               | SKIPPED           | SKIPPED          |
+-------------------+--------------------+-------------------+------------------+
| FreeBSD 13.4      | PASS               | SKIPPED           | SKIPPED          |
+-------------------+--------------------+-------------------+------------------+
| FreeBSD 14.2      | PASS               | SKIPPED           | SKIPPED          |
+-------------------+--------------------+-------------------+------------------+


CentOS Stream 9
	Kernel: Depends on container host
	Compiler: gcc 11.5.0 20240719 (Red Hat 11.5.0-2)

CentOS Stream 10
	Kernel: Depends on container host
	Compiler: gcc 14.2.1 20241104 (Red Hat 14.2.1-6)

Debian Bullseye
	Kernel: Depends on container host
	Compiler: gcc (Debian 10.2.1-6) 10.2.1 20210110

Fedora 40 (Clang)
	Kernel: Depends on container host
	Compiler: clang 18.1.8 (Fedora 18.1.8-1.fc40)

Fedora 40
	Kernel: Depends on container host
	Compiler: gcc 14.2.1 20240912 (Red Hat 14.2.1-3)

Fedora 41 (Clang)
	Kernel: Depends on container host
	Compiler: clang 19.1.5 (Fedora 19.1.5-1.fc41)

Fedora 41
	Kernel: Depends on container host
	Compiler: gcc 14.2.1 20240912 (Red Hat 14.2.1-3)

openSUSE Leap 15
	Kernel: Depends on container host
	Compiler: gcc (SUSE Linux) 7.5.0

RHEL8
	Kernel: Depends on container host
	Compiler: gcc 8.5.0 20210514 (Red Hat 8.5.0-22)

RHEL9
	Kernel: Depends on container host
	Compiler: gcc 11.5.0 20240719 (Red Hat 11.5.0-2)

Ubuntu 20.04
	Kernel: Depends on container host
	Compiler: gcc (Ubuntu 9.4.0-1ubuntu1~20.04.2) 9.4.0

Ubuntu 22.04
	Kernel: Depends on container host
	Compiler: gcc (Ubuntu 11.4.0-1ubuntu1~22.04) 11.4.0

Ubuntu 24.04
	Kernel: Depends on container host
	Compiler: gcc (Ubuntu 13.3.0-6ubuntu2~24.04) 13.3.0

Alpine
	Kernel: Depends on container host
	Compiler: gcc (Alpine 14.2.0) 14.2.0

FreeBSD 13.4
	Kernel: 13.4-RELEASE-p1
	Compiler: clang 18.1.6

FreeBSD 14.2
	Kernel: 14.2-RELEASE
	Compiler: clang 18.1.6

To view detailed results, visit:
https://lab.dpdk.org/results/dashboard/patchsets/32682/

UNH-IOL DPDK Community Lab

To manage your email subscriptions, visit: 
https://lab.dpdk.org/results/dashboard/preferences/subscriptions/