From mboxrd@z Thu Jan  1 00:00:00 1970
Return-Path: <test-report-bounces@dpdk.org>
Received: from mails.dpdk.org (mails.dpdk.org [217.70.189.124])
	by inbox.dpdk.org (Postfix) with ESMTP id 9994D462C5
	for <public@inbox.dpdk.org>; Wed, 26 Feb 2025 11:02:06 +0100 (CET)
Received: from mails.dpdk.org (localhost [127.0.0.1])
	by mails.dpdk.org (Postfix) with ESMTP id 923544029F;
	Wed, 26 Feb 2025 11:02:06 +0100 (CET)
Received: from mail-yb1-f225.google.com (mail-yb1-f225.google.com
 [209.85.219.225])
 by mails.dpdk.org (Postfix) with ESMTP id 3CB504029A
 for <test-report@dpdk.org>; Wed, 26 Feb 2025 11:02:05 +0100 (CET)
Received: by mail-yb1-f225.google.com with SMTP id
 3f1490d57ef6-e5372a2fbddso5095303276.3
 for <test-report@dpdk.org>; Wed, 26 Feb 2025 02:02:05 -0800 (PST)
DKIM-Signature: v=1; a=rsa-sha256; c=relaxed/relaxed;
 d=iol.unh.edu; s=unh-iol; t=1740564124; x=1741168924; darn=dpdk.org;
 h=references:in-reply-to:cc:to:from:subject:message-id:date:from:to
 :cc:subject:date:message-id:reply-to;
 bh=w2Wa2tyubhNUXMBFtT07FbpoQs0VcZ1T3+DpI+XDMac=;
 b=Yn/nB2qmEj7L3Tu/h/1UwH+zpWM499bdEEgNNIB8QJd9S4GoCl8jHgUYQ2oK9fOJ7j
 +0ZmO+G2SjtMpSNoyMwFNO3HqMivT/VjJFweaFHqSWdDGrWGL6KB2sdcjUjDL79i/WlM
 O2goCSdP44Nn2zwZWR/+3duR4CzYLwtZbh+Og=
X-Google-DKIM-Signature: v=1; a=rsa-sha256; c=relaxed/relaxed;
 d=1e100.net; s=20230601; t=1740564124; x=1741168924;
 h=references:in-reply-to:cc:to:from:subject:message-id:date
 :x-gm-message-state:from:to:cc:subject:date:message-id:reply-to;
 bh=w2Wa2tyubhNUXMBFtT07FbpoQs0VcZ1T3+DpI+XDMac=;
 b=OyGOwC1LTkozeF3MTcdxzfHZ2suivB3WDNcMlVoIg1ws597z+LBQCyJzhUIiNRXAtI
 nhou1lS3mlAAGVAJ5At7cI+X9Gt+qyLU8076bsTfVAUtEOLrqEobIrDP66/C3OEwUjn4
 sMGt3umkdE6+jAHgyprrQM+q7GW8+urRg+zhyTXlKv2QBeUVjBw7bIH8z7lXGngpPhY5
 hXXWps9ZbR2eD6nXFESmglKo586ipn0dnamUFO2EgQG0ldWzDfA2B0lB8gQaWPb3zB2/
 5tr3vi9EJQJpCwXt06lS3GDIpr3sv6Fu2qcctU0X6hISpJMcV1kdlzhUTXnSAS3vxVyF
 m/BQ==
X-Gm-Message-State: AOJu0YxQ5DsPF5KIGhjxjsTNMAC4s7S/nv3ckSk5CcG9zdSGF+qpCWGL
 Z6Jt6dFnM0qOpnJukaLMOPvA8918/bg7C53gLjQZruNPJexvqIs5EYHg23KkXjhCUWFZN2ePSIt
 BDFptk5g3AbpX7+XIpvJF8c95aHTfaruEd0CuK37DcYdOmXjohi4I43gq
X-Gm-Gg: ASbGncsUGRauIrsfb9188H9mL94b/9jRTX5gXJ4WK1hAT2v8XDitCygBAhA2EzEoZSu
 NGYG4WmBXMw4EaA9MGRlWFhAOUIKbsMoUlRnx5WzTPoN78VpNiD35QhB+0lu8T2lj+QI5AI8l7n
 9LML33A5L0y89dwLxWy4zhnTEDUngevmTg4MAV8ycJO+6B0MJnS1Ng7ZaG7y6Zh7RL1ZJZBZkJB
 FsXvCvN4GRN7rG/NqoqRSMr6Jj/Qn5SXbhs9IXzRGvKwi1jCiHfYNijLx9WxBeGUcqdLvr00rqD
 m0L7m0TZYWAaQ1OZJtqEONTrFkn4dyjizLWKs5rGsEG2DZF53aXP
X-Google-Smtp-Source: AGHT+IHtJToH8Mo+fx+7AX0cHuOa4Duzf/m8pgbDHKCgjT/Ck/+33bh7aKRT4xU2g28uVPa6n9b0huWInI40
X-Received: by 2002:a05:6902:200d:b0:e5e:758:10e1 with SMTP id
 3f1490d57ef6-e607a504d7amr5452311276.23.1740564123322; 
 Wed, 26 Feb 2025 02:02:03 -0800 (PST)
Received: from postal.iol.unh.edu (postal.iol.unh.edu.
 [2606:4100:3880:1234::84]) by smtp-relay.gmail.com with ESMTPS id
 3f1490d57ef6-e607b4a050fsm153625276.22.2025.02.26.02.02.03
 (version=TLS1_2 cipher=ECDHE-ECDSA-AES128-GCM-SHA256 bits=128/128);
 Wed, 26 Feb 2025 02:02:03 -0800 (PST)
X-Relaying-Domain: iol.unh.edu
Date: Wed, 26 Feb 2025 02:02:03 -0800 (PST)
Message-ID: <67bee69b.250a0220.3b7268.8d0fSMTPIN_ADDED_MISSING@mx.google.com>
Received: from [172.21.0.7] (unknown [172.18.0.240])
 by postal.iol.unh.edu (Postfix) with ESMTP id DA4196052471;
 Wed, 26 Feb 2025 05:02:02 -0500 (EST)
Subject: |SUCCESS| pw151942-151943 [PATCH] [2/2] net/txgbe: remove meaningles
From: dpdklab@iol.unh.edu
To: Test Report <test-report@dpdk.org>
Cc: dpdk-test-reports@iol.unh.edu
In-Reply-To: <20250224095910.27384-3-zaiyuwang@trustnetic.com>
References: <20250224095910.27384-3-zaiyuwang@trustnetic.com>
Content-Type: text/plain
X-BeenThere: test-report@dpdk.org
X-Mailman-Version: 2.1.29
Precedence: list
List-Id: automatic DPDK test reports <test-report.dpdk.org>
List-Unsubscribe: <https://mails.dpdk.org/options/test-report>,
 <mailto:test-report-request@dpdk.org?subject=unsubscribe>
List-Archive: <http://mails.dpdk.org/archives/test-report/>
List-Post: <mailto:test-report@dpdk.org>
List-Help: <mailto:test-report-request@dpdk.org?subject=help>
List-Subscribe: <https://mails.dpdk.org/listinfo/test-report>,
 <mailto:test-report-request@dpdk.org?subject=subscribe>
Errors-To: test-report-bounces@dpdk.org

Test-Label: iol-unit-arm64-testing
Test-Status: SUCCESS
http://dpdk.org/patch/151943

_Testing PASS_

Submitter: Zaiyu Wang <zaiyuwang@trustnetic.com>
Date: Monday, February 24 2025 09:59:08 
DPDK git baseline: Repo:dpdk
  Branch: master
  CommitID:5651e843d0fc6e01de164a9f9f3718c31e12ee2c

151942-151943 --> testing pass

Upstream job id: Generic-Unit-Test-DPDK#318769

Test environment and result as below:

+-----------------------------+----------------+------------------------------+--------------+---------------------------+
|         Environment         | dpdk_unit_test | cryptodev_sw_snow3g_autotest | lpm_autotest | cryptodev_sw_zuc_autotest |
+=============================+================+==============================+==============+===========================+
| 32-bit Ubuntu 22.04.4 (ARM) | PASS           | SKIPPED                      | SKIPPED      | SKIPPED                   |
+-----------------------------+----------------+------------------------------+--------------+---------------------------+
| Debian 12 (arm)             | PASS           | PASS                         | SKIPPED      | PASS                      |
+-----------------------------+----------------+------------------------------+--------------+---------------------------+
| CentOS Stream 9 (ARM)       | PASS           | SKIPPED                      | SKIPPED      | SKIPPED                   |
+-----------------------------+----------------+------------------------------+--------------+---------------------------+
| Fedora 41 (ARM)             | PASS           | SKIPPED                      | SKIPPED      | SKIPPED                   |
+-----------------------------+----------------+------------------------------+--------------+---------------------------+
| RHEL9 (ARM)                 | PASS           | SKIPPED                      | SKIPPED      | SKIPPED                   |
+-----------------------------+----------------+------------------------------+--------------+---------------------------+
| CentOS Stream 10 (ARM)      | PASS           | SKIPPED                      | SKIPPED      | SKIPPED                   |
+-----------------------------+----------------+------------------------------+--------------+---------------------------+
| Debian 11 (Buster) (ARM)    | PASS           | SKIPPED                      | SKIPPED      | SKIPPED                   |
+-----------------------------+----------------+------------------------------+--------------+---------------------------+
| Ubuntu 20.04 (ARM)          | PASS           | SKIPPED                      | SKIPPED      | SKIPPED                   |
+-----------------------------+----------------+------------------------------+--------------+---------------------------+
| Fedora 40 (ARM)             | PASS           | SKIPPED                      | SKIPPED      | SKIPPED                   |
+-----------------------------+----------------+------------------------------+--------------+---------------------------+
| Fedora 41 (ARM Clang)       | PASS           | SKIPPED                      | SKIPPED      | SKIPPED                   |
+-----------------------------+----------------+------------------------------+--------------+---------------------------+
| Ubuntu 22.04 (ARM)          | PASS           | SKIPPED                      | SKIPPED      | SKIPPED                   |
+-----------------------------+----------------+------------------------------+--------------+---------------------------+
| Fedora 40 (ARM Clang)       | PASS           | SKIPPED                      | SKIPPED      | SKIPPED                   |
+-----------------------------+----------------+------------------------------+--------------+---------------------------+
| Ubuntu 24.04 (ARM)          | PASS           | SKIPPED                      | SKIPPED      | SKIPPED                   |
+-----------------------------+----------------+------------------------------+--------------+---------------------------+
| Ubuntu 20.04 ARM SVE        | SKIPPED        | SKIPPED                      | PASS         | SKIPPED                   |
+-----------------------------+----------------+------------------------------+--------------+---------------------------+


32-bit Ubuntu 22.04.4 (ARM)
	Kernel: 5.15.83+ aarch64
	Compiler: gcc (Ubuntu 11.4.0-1ubuntu1~22.04) 11.4.0

Debian 12 (arm)
	Kernel: Depends on container host
	Compiler: gcc (Debian 12.2.0-14) 12.2.0

CentOS Stream 9 (ARM)
	Kernel: Depends on container host
	Compiler: gcc 11.5.0 20240719 (Red Hat 11.5.0-2)

Fedora 41 (ARM)
	Kernel: Depends on container host
	Compiler: gcc 14.2.1 20240912 (Red Hat 14.2.1-3)

RHEL9 (ARM)
	Kernel: Depends on container host
	Compiler: gcc 11.5.0 20240719 (Red Hat 11.5.0-2)

CentOS Stream 10 (ARM)
	Kernel: Depends on container host
	Compiler: gcc 14.2.1 20241104 (Red Hat 14.2.1-6)

Debian 11 (Buster) (ARM)
	Kernel: Depends on container host
	Compiler: gcc (Debian 10.2.1-6) 10.2.1 20210110

Ubuntu 20.04 (ARM)
	Kernel: Depends on container host
	Compiler: gcc (Ubuntu 9.4.0-1ubuntu1~20.04.2) 9.4.0

Fedora 40 (ARM)
	Kernel: Depends on container host
	Compiler: gcc 14.2.1 20240912 (Red Hat 14.2.1-3)

Fedora 41 (ARM Clang)
	Kernel: Depends on container host
	Compiler: clang 19.1.5 (Fedora 19.1.5-1.fc41)

Ubuntu 22.04 (ARM)
	Kernel: Depends on container host
	Compiler: gcc (Ubuntu 11.4.0-1ubuntu1~22.04) 11.4.0

Fedora 40 (ARM Clang)
	Kernel: Depends on container host
	Compiler: clang 18.1.8 (Fedora 18.1.8-1.fc40)

Ubuntu 24.04 (ARM)
	Kernel: Depends on container host
	Compiler: gcc (Ubuntu 13.3.0-6ubuntu2~24.04) 13.3.0

Ubuntu 20.04 ARM SVE
	Kernel: Depends on container host
	Compiler: gcc (Ubuntu 10.5.0-1ubuntu1~20.04) 10.5.0

To view detailed results, visit:
https://lab.dpdk.org/results/dashboard/patchsets/32662/

UNH-IOL DPDK Community Lab

To manage your email subscriptions, visit: 
https://lab.dpdk.org/results/dashboard/preferences/subscriptions/