From mboxrd@z Thu Jan  1 00:00:00 1970
Return-Path: <test-report-bounces@dpdk.org>
Received: from mails.dpdk.org (mails.dpdk.org [217.70.189.124])
	by inbox.dpdk.org (Postfix) with ESMTP id 56E2B462C5
	for <public@inbox.dpdk.org>; Wed, 26 Feb 2025 11:08:36 +0100 (CET)
Received: from mails.dpdk.org (localhost [127.0.0.1])
	by mails.dpdk.org (Postfix) with ESMTP id 4F3D14029F;
	Wed, 26 Feb 2025 11:08:36 +0100 (CET)
Received: from mail-pl1-f228.google.com (mail-pl1-f228.google.com
 [209.85.214.228])
 by mails.dpdk.org (Postfix) with ESMTP id 9820F4029A
 for <test-report@dpdk.org>; Wed, 26 Feb 2025 11:08:35 +0100 (CET)
Received: by mail-pl1-f228.google.com with SMTP id
 d9443c01a7336-220c92c857aso10226215ad.0
 for <test-report@dpdk.org>; Wed, 26 Feb 2025 02:08:35 -0800 (PST)
DKIM-Signature: v=1; a=rsa-sha256; c=relaxed/relaxed;
 d=iol.unh.edu; s=unh-iol; t=1740564515; x=1741169315; darn=dpdk.org;
 h=cc:to:from:subject:message-id:date:from:to:cc:subject:date
 :message-id:reply-to;
 bh=JVz4ZOIvc09CYqe0jUHzCBHuLBV0yiak1NlzwS+9cPs=;
 b=UpmykEMHUtUAxKcqxX1GeLSrELNSUwD3CaVIG0Rw3WaqDJUWw6XikLVGGlg2nfQ4SF
 Lnc15EcsAgNj2epFHCqlBwDCfYZCn26vRVkwq3lMGnGORStAfRE4LzI0Ks5NpQWPg9vQ
 +HoUntmOo3HUJX0GtlAD730C4R7RYfishnw9Y=
X-Google-DKIM-Signature: v=1; a=rsa-sha256; c=relaxed/relaxed;
 d=1e100.net; s=20230601; t=1740564515; x=1741169315;
 h=cc:to:from:subject:message-id:date:x-gm-message-state:from:to:cc
 :subject:date:message-id:reply-to;
 bh=JVz4ZOIvc09CYqe0jUHzCBHuLBV0yiak1NlzwS+9cPs=;
 b=IedYUFNB7IUHuV2SO8m4JTTZr7ML5KXbxiUTz6rAxGgpkP2FCmb0hyZ/ndfJB0hAsF
 VV4Fi90w3dszof2YkTooOnH9pXt4l+AgU99wpAetVBej/3JUtMRFk7W9jSjMnXI6MLwl
 rJP2ni2Tyyl9Terb9LQWbBh1NbjejGWqwcroMYn4x42se6Epx8fr5pkU8bQUfYCoK+Qr
 +CutyT0BSYYR5D07s41pROWbjvmzo7uQmHUExPCIHSSZMz6DGtR0iRP/m3O4x+wczuk+
 Yb00qRl6cECyjW1bnNDXvzShC4tTMCC6rROr8UOdw/VWsZAwsedI3VUVj2l7MKmIeqex
 nYMQ==
X-Gm-Message-State: AOJu0YzdfKHIQgeNJ9HhgHL2zExpkst1GULfS0foDj9N0cZXa1hGhDln
 JAgMk9vejUtrKHtmDrNs/WQlesvGTbWLVt71u729n3fkD1MTPIT2iPLkSbd3w6NbKOfqt83FkQU
 UexuGau+P80FNJFQiBKShqnaizKzv5sbR
X-Gm-Gg: ASbGncu+Sh8NFd2Iw2oEbvW3drmzmWh0DuzclstjLUyDwKGLEammWKrSFJiJW6uIAbZ
 u+/+CKcNuQqQFOyVWeJbnuAchSytaTBGod4KHuH7Er+HkF/Pdib7v4iy8x8jYvazs9DaLe6xcj5
 P5aoAesAmNab68j+2DeuhySRXWLE0nd0D0h0rOEU0E3xDzxXjcIvRnTWRrb9VRu1jzkpurN/Mu2
 SpvTneBq1rQ53FPvSzKkzf+7Qc1hqt9ipu4JtCy0cnxrrCw+3sU8DW/q0aeQaFWgbBlfEKoAkDU
 2qU6mFfy9DOkPKwRgDBfy6WQZvuIriH/YixKcfu0
X-Google-Smtp-Source: AGHT+IG44cPLoViNslgfOuwTNSem9yPx60sfX5USz2FFBfSQFOkMmsu3Ufozt4owTeRIggGv+MgVGx8J6fBo
X-Received: by 2002:a17:902:f706:b0:223:3394:3a2e with SMTP id
 d9443c01a7336-22333944702mr17794005ad.18.1740564514682; 
 Wed, 26 Feb 2025 02:08:34 -0800 (PST)
Received: from postal.iol.unh.edu (postal.iol.unh.edu. [132.177.123.84])
 by smtp-relay.gmail.com with ESMTPS id
 d9443c01a7336-2230a0b8fe1sm1600155ad.73.2025.02.26.02.08.34
 (version=TLS1_2 cipher=ECDHE-ECDSA-AES128-GCM-SHA256 bits=128/128);
 Wed, 26 Feb 2025 02:08:34 -0800 (PST)
X-Relaying-Domain: iol.unh.edu
Date: Wed, 26 Feb 2025 02:08:34 -0800 (PST)
Message-ID: <67bee822.170a0220.25128b.9230SMTPIN_ADDED_MISSING@mx.google.com>
Received: from [172.21.0.8] (unknown [172.18.0.240])
 by postal.iol.unh.edu (Postfix) with ESMTP id 18A8E6052471;
 Wed, 26 Feb 2025 05:08:34 -0500 (EST)
Subject: |SUCCESS| [GIT MASTER] c66daa12e76d7b4912cfb7109a761856a7a873ab
From: dpdklab@iol.unh.edu
To: Test Report <test-report@dpdk.org>
Cc: dpdk-test-reports@iol.unh.edu, Xueming Li <xuemingl@nvidia.com>,
 Christian Ehrhardt <christian.ehrhardt@canonical.com>,
 Kevin Traynor <ktraynor@redhat.com>, Luca Boccassi <bluca@debian.org>
Content-Type: text/plain
X-BeenThere: test-report@dpdk.org
X-Mailman-Version: 2.1.29
Precedence: list
List-Id: automatic DPDK test reports <test-report.dpdk.org>
List-Unsubscribe: <https://mails.dpdk.org/options/test-report>,
 <mailto:test-report-request@dpdk.org?subject=unsubscribe>
List-Archive: <http://mails.dpdk.org/archives/test-report/>
List-Post: <mailto:test-report@dpdk.org>
List-Help: <mailto:test-report-request@dpdk.org?subject=help>
List-Subscribe: <https://mails.dpdk.org/listinfo/test-report>,
 <mailto:test-report-request@dpdk.org?subject=subscribe>
Errors-To: test-report-bounces@dpdk.org

_Testing PASS_

Branch: tags/v23.11

c66daa12e76d7b4912cfb7109a761856a7a873ab --> testing pass

Upstream job id: Generic-DPDK-Compile-ABI#117887

Test environment and result as below:

+-------------------+----------+
|    Environment    | abi_test |
+===================+==========+
| CentOS Stream 9   | PASS     |
+-------------------+----------+
| CentOS Stream 10  | PASS     |
+-------------------+----------+
| Debian Bullseye   | PASS     |
+-------------------+----------+
| Fedora 40         | PASS     |
+-------------------+----------+
| Fedora 41         | PASS     |
+-------------------+----------+
| Fedora 40 (Clang) | PASS     |
+-------------------+----------+
| Debian 12         | PASS     |
+-------------------+----------+
| Fedora 41 (Clang) | PASS     |
+-------------------+----------+
| openSUSE Leap 15  | PASS     |
+-------------------+----------+
| RHEL8             | PASS     |
+-------------------+----------+
| RHEL9             | PASS     |
+-------------------+----------+
| Ubuntu 22.04      | PASS     |
+-------------------+----------+
| Ubuntu 24.04      | PASS     |
+-------------------+----------+


CentOS Stream 9
	Kernel: Depends on container host
	Compiler: gcc 11.5.0 20240719 (Red Hat 11.5.0-2)

CentOS Stream 10
	Kernel: Depends on container host
	Compiler: gcc 14.2.1 20241104 (Red Hat 14.2.1-6)

Debian Bullseye
	Kernel: Depends on container host
	Compiler: gcc (Debian 10.2.1-6) 10.2.1 20210110

Fedora 40
	Kernel: Depends on container host
	Compiler: gcc 14.2.1 20240912 (Red Hat 14.2.1-3)

Fedora 41
	Kernel: Depends on container host
	Compiler: gcc 14.2.1 20240912 (Red Hat 14.2.1-3)

Fedora 40 (Clang)
	Kernel: Depends on container host
	Compiler: clang 18.1.8 (Fedora 18.1.8-1.fc40)

Debian 12
	Kernel: Depends on container host
	Compiler: gcc (Debian 12.2.0-14) 12.2.0

Fedora 41 (Clang)
	Kernel: Depends on container host
	Compiler: clang 19.1.5 (Fedora 19.1.5-1.fc41)

openSUSE Leap 15
	Kernel: Depends on container host
	Compiler: gcc (SUSE Linux) 7.5.0

RHEL8
	Kernel: Depends on container host
	Compiler: gcc 8.5.0 20210514 (Red Hat 8.5.0-22)

RHEL9
	Kernel: Depends on container host
	Compiler: gcc 11.5.0 20240719 (Red Hat 11.5.0-2)

Ubuntu 22.04
	Kernel: Depends on container host
	Compiler: gcc (Ubuntu 11.4.0-1ubuntu1~22.04) 11.4.0

Ubuntu 24.04
	Kernel: Depends on container host
	Compiler: gcc (Ubuntu 13.3.0-6ubuntu2~24.04) 13.3.0

To view detailed results, visit:
https://lab.dpdk.org/results/dashboard/tarballs/32737/

UNH-IOL DPDK Community Lab

To manage your email subscriptions, visit: 
https://lab.dpdk.org/results/dashboard/preferences/subscriptions/