From mboxrd@z Thu Jan  1 00:00:00 1970
Return-Path: <test-report-bounces@dpdk.org>
Received: from mails.dpdk.org (mails.dpdk.org [217.70.189.124])
	by inbox.dpdk.org (Postfix) with ESMTP id F0D16462C7
	for <public@inbox.dpdk.org>; Wed, 26 Feb 2025 14:12:20 +0100 (CET)
Received: from mails.dpdk.org (localhost [127.0.0.1])
	by mails.dpdk.org (Postfix) with ESMTP id EC3244029F;
	Wed, 26 Feb 2025 14:12:20 +0100 (CET)
Received: from mail-vk1-f226.google.com (mail-vk1-f226.google.com
 [209.85.221.226])
 by mails.dpdk.org (Postfix) with ESMTP id 2A8BE4026C
 for <test-report@dpdk.org>; Wed, 26 Feb 2025 14:12:19 +0100 (CET)
Received: by mail-vk1-f226.google.com with SMTP id
 71dfb90a1353d-5209dad13b5so1192469e0c.2
 for <test-report@dpdk.org>; Wed, 26 Feb 2025 05:12:19 -0800 (PST)
DKIM-Signature: v=1; a=rsa-sha256; c=relaxed/relaxed;
 d=iol.unh.edu; s=unh-iol; t=1740575538; x=1741180338; darn=dpdk.org;
 h=references:in-reply-to:cc:to:from:subject:message-id:date:from:to
 :cc:subject:date:message-id:reply-to;
 bh=TKndID7zNvWmFUqnMBILl52muW56uaIzG6bIhRROx5I=;
 b=FhNp/mOgF436slPzy/NIhdIgOdd7BZmdyrjcI18hy0xaHmlC7cdn3eYm5bVQWUVrQN
 E0ctpfmhoC1+JV9ZoNzY2fW0hx5SlRGzein5Fl8XZTFSCVrLBAbNLo7PldxQEUt4zWjp
 MBJaQRS4JsQzU7AppfRbJIlbTz2CoqqKbVcPM=
X-Google-DKIM-Signature: v=1; a=rsa-sha256; c=relaxed/relaxed;
 d=1e100.net; s=20230601; t=1740575538; x=1741180338;
 h=references:in-reply-to:cc:to:from:subject:message-id:date
 :x-gm-message-state:from:to:cc:subject:date:message-id:reply-to;
 bh=TKndID7zNvWmFUqnMBILl52muW56uaIzG6bIhRROx5I=;
 b=XNg/lwkB/4umnjdnNQ+UzIM49MWV4lprSp53bmkVMKjsQ0BxB48FnwHNpph1EJ4tMn
 giJ0W/VQeuv3MZm3AkNdzkMgONSMRLouuiXEBoF3mGOl6zL9CabVvKzWKQFBxlV0N0us
 f3nBvNnDyttW8HeO1YRutZz64BqtRGAP/Qs31XwI/hRMbHX8hDWgv43N0eM+YNujvU7b
 GY8E5+YdOAdVKUQSZmHi1PU0a96cquzxitYkNZjAiJAP6guydKbzvOj0cZE7QCI+pFk7
 AA4NcUb+hky9c4l4ieCzkSkV4mY3qO64jBnGprFmRvou137vLndM9nosttDBf2CAGM0Q
 Y4Ww==
X-Gm-Message-State: AOJu0Yzl22wUgu4/YGTkF3Me1J2k4oriz94g9kDxuxxuIna8SqKcbqKz
 AuEZXInVKXuWt/GoW6xITuxM6oTaQ5y+H/uPI0vT6muH8Jj9lE12SkjGrktSnXjD8zm+TnNIF6t
 ZmPr6mRJPR5Rzv5HODvRDr2Unrk5ZDvbV4fZEusc8
X-Gm-Gg: ASbGncsLo/J3kQYxNh2GxisVv0oXJqir4eXOPHgcVDDiFomtjj5qIqvi1LnKdP/foIs
 lzSv8wnuL9yGJk1U29t/kNxJBcsrWeopNyzIjKRoC45NPpFUeaPm6m0l83dg11gxby7QWymPgNj
 bgIa6zbcq6RRhtIJL7cSWAbq1RxzZBNHN3Sc7525LKINrZuLEvYkSuHYQSrU13y7Wtokkfj3h/W
 1LtlJM336WDva8AqK9yQFaB44JDTJ6HDJGZYP4Xs/omM1RDrqZXZk3SRQ9qLrfDdpfhpSBqayz2
 lY6uydYvhkS/Jop8To8cChWwX4PBI8y4a7b8kY93
X-Google-Smtp-Source: AGHT+IFQvOnZFMxq1ti34T7XdkfReiWeNheMAOjeXTkYThfEtnmNBeS9UkpIdjhAXWa0eO23kbYoUN9sFnc8
X-Received: by 2002:a05:6122:889:b0:520:6773:e5bf with SMTP id
 71dfb90a1353d-5224cb90a35mr1089659e0c.1.1740575538507; 
 Wed, 26 Feb 2025 05:12:18 -0800 (PST)
Received: from postal.iol.unh.edu (postal.iol.unh.edu. [132.177.123.84])
 by smtp-relay.gmail.com with ESMTPS id
 a1e0cc1a2514c-86b1ef04fa7sm53352241.12.2025.02.26.05.12.18
 (version=TLS1_2 cipher=ECDHE-ECDSA-AES128-GCM-SHA256 bits=128/128);
 Wed, 26 Feb 2025 05:12:18 -0800 (PST)
X-Relaying-Domain: iol.unh.edu
Date: Wed, 26 Feb 2025 05:12:18 -0800 (PST)
Message-ID: <67bf1332.050a0220.ce739.30d0SMTPIN_ADDED_MISSING@mx.google.com>
Received: from [172.21.0.8] (unknown [172.18.0.240])
 by postal.iol.unh.edu (Postfix) with ESMTP id 1E6F66052471;
 Wed, 26 Feb 2025 08:12:18 -0500 (EST)
Subject: |SUCCESS| pw151873-151875 [PATCH] [v3,3/3] test/event: unit test to 
From: dpdklab@iol.unh.edu
To: Test Report <test-report@dpdk.org>
Cc: dpdk-test-reports@iol.unh.edu
In-Reply-To: <c4e02d3a45f8583ad4f91a5b5d98609612d34b60.1740383918.git.sthotton@marvell.com>
References: <c4e02d3a45f8583ad4f91a5b5d98609612d34b60.1740383918.git.sthotton@marvell.com>
Content-Type: text/plain
X-BeenThere: test-report@dpdk.org
X-Mailman-Version: 2.1.29
Precedence: list
List-Id: automatic DPDK test reports <test-report.dpdk.org>
List-Unsubscribe: <https://mails.dpdk.org/options/test-report>,
 <mailto:test-report-request@dpdk.org?subject=unsubscribe>
List-Archive: <http://mails.dpdk.org/archives/test-report/>
List-Post: <mailto:test-report@dpdk.org>
List-Help: <mailto:test-report-request@dpdk.org?subject=help>
List-Subscribe: <https://mails.dpdk.org/listinfo/test-report>,
 <mailto:test-report-request@dpdk.org?subject=subscribe>
Errors-To: test-report-bounces@dpdk.org

Test-Label: iol-compile-amd64-testing
Test-Status: SUCCESS
http://dpdk.org/patch/151875

_Testing PASS_

Submitter: Shijith Thotton <sthotton@marvell.com>
Date: Monday, February 24 2025 08:42:25 
DPDK git baseline: Repo:dpdk
  Branch: master
  CommitID:4380e5b6c6f5f33801dc2f399c9b5d6d77178050

151873-151875 --> testing pass

Upstream job id: Generic-DPDK-Compile-Meson#365619

Test environment and result as below:

+-------------------+--------------------+-------------------+------------------+
|    Environment    | dpdk_meson_compile | dpdk_compile_spdk | dpdk_compile_ovs |
+===================+====================+===================+==================+
| CentOS Stream 9   | PASS               | PASS              | SKIPPED          |
+-------------------+--------------------+-------------------+------------------+
| CentOS Stream 10  | PASS               | SKIPPED           | SKIPPED          |
+-------------------+--------------------+-------------------+------------------+
| Debian Bullseye   | PASS               | PASS              | SKIPPED          |
+-------------------+--------------------+-------------------+------------------+
| Fedora 40 (Clang) | PASS               | PASS              | SKIPPED          |
+-------------------+--------------------+-------------------+------------------+
| Debian 12         | PASS               | PASS              | SKIPPED          |
+-------------------+--------------------+-------------------+------------------+
| Fedora 40         | PASS               | PASS              | SKIPPED          |
+-------------------+--------------------+-------------------+------------------+
| Fedora 41 (Clang) | PASS               | PASS              | PASS             |
+-------------------+--------------------+-------------------+------------------+
| openSUSE Leap 15  | PASS               | SKIPPED           | SKIPPED          |
+-------------------+--------------------+-------------------+------------------+
| RHEL8             | PASS               | SKIPPED           | SKIPPED          |
+-------------------+--------------------+-------------------+------------------+
| RHEL9             | PASS               | SKIPPED           | SKIPPED          |
+-------------------+--------------------+-------------------+------------------+
| Ubuntu 20.04      | PASS               | SKIPPED           | SKIPPED          |
+-------------------+--------------------+-------------------+------------------+
| Ubuntu 22.04      | PASS               | PASS              | SKIPPED          |
+-------------------+--------------------+-------------------+------------------+
| Ubuntu 24.04      | PASS               | PASS              | PASS             |
+-------------------+--------------------+-------------------+------------------+
| Alpine            | PASS               | SKIPPED           | SKIPPED          |
+-------------------+--------------------+-------------------+------------------+
| FreeBSD 13.4      | PASS               | SKIPPED           | SKIPPED          |
+-------------------+--------------------+-------------------+------------------+
| FreeBSD 14.2      | PASS               | SKIPPED           | SKIPPED          |
+-------------------+--------------------+-------------------+------------------+


CentOS Stream 9
	Kernel: Depends on container host
	Compiler: gcc 11.5.0 20240719 (Red Hat 11.5.0-2)

CentOS Stream 10
	Kernel: Depends on container host
	Compiler: gcc 14.2.1 20241104 (Red Hat 14.2.1-6)

Debian Bullseye
	Kernel: Depends on container host
	Compiler: gcc (Debian 10.2.1-6) 10.2.1 20210110

Fedora 40 (Clang)
	Kernel: Depends on container host
	Compiler: clang 18.1.8 (Fedora 18.1.8-1.fc40)

Debian 12
	Kernel: Depends on container host
	Compiler: gcc (Debian 12.2.0-14) 12.2.0

Fedora 40
	Kernel: Depends on container host
	Compiler: gcc 14.2.1 20240912 (Red Hat 14.2.1-3)

Fedora 41 (Clang)
	Kernel: Depends on container host
	Compiler: clang 19.1.5 (Fedora 19.1.5-1.fc41)

openSUSE Leap 15
	Kernel: Depends on container host
	Compiler: gcc (SUSE Linux) 7.5.0

RHEL8
	Kernel: Depends on container host
	Compiler: gcc 8.5.0 20210514 (Red Hat 8.5.0-22)

RHEL9
	Kernel: Depends on container host
	Compiler: gcc 11.5.0 20240719 (Red Hat 11.5.0-2)

Ubuntu 20.04
	Kernel: Depends on container host
	Compiler: gcc (Ubuntu 9.4.0-1ubuntu1~20.04.2) 9.4.0

Ubuntu 22.04
	Kernel: Depends on container host
	Compiler: gcc (Ubuntu 11.4.0-1ubuntu1~22.04) 11.4.0

Ubuntu 24.04
	Kernel: Depends on container host
	Compiler: gcc (Ubuntu 13.3.0-6ubuntu2~24.04) 13.3.0

Alpine
	Kernel: Depends on container host
	Compiler: gcc (Alpine 14.2.0) 14.2.0

FreeBSD 13.4
	Kernel: 13.4-RELEASE-p1
	Compiler: clang 18.1.6

FreeBSD 14.2
	Kernel: 14.2-RELEASE
	Compiler: clang 18.1.6

To view detailed results, visit:
https://lab.dpdk.org/results/dashboard/patchsets/32659/

UNH-IOL DPDK Community Lab

To manage your email subscriptions, visit: 
https://lab.dpdk.org/results/dashboard/preferences/subscriptions/