From mboxrd@z Thu Jan  1 00:00:00 1970
Return-Path: <test-report-bounces@dpdk.org>
Received: from mails.dpdk.org (mails.dpdk.org [217.70.189.124])
	by inbox.dpdk.org (Postfix) with ESMTP id DA08E462C7
	for <public@inbox.dpdk.org>; Wed, 26 Feb 2025 15:03:09 +0100 (CET)
Received: from mails.dpdk.org (localhost [127.0.0.1])
	by mails.dpdk.org (Postfix) with ESMTP id D2B2440658;
	Wed, 26 Feb 2025 15:03:09 +0100 (CET)
Received: from mail-il1-f225.google.com (mail-il1-f225.google.com
 [209.85.166.225])
 by mails.dpdk.org (Postfix) with ESMTP id BBB344026C
 for <test-report@dpdk.org>; Wed, 26 Feb 2025 15:03:08 +0100 (CET)
Received: by mail-il1-f225.google.com with SMTP id
 e9e14a558f8ab-3d19e40a891so22324365ab.3
 for <test-report@dpdk.org>; Wed, 26 Feb 2025 06:03:08 -0800 (PST)
DKIM-Signature: v=1; a=rsa-sha256; c=relaxed/relaxed;
 d=iol.unh.edu; s=unh-iol; t=1740578588; x=1741183388; darn=dpdk.org;
 h=references:in-reply-to:cc:to:from:subject:message-id:date:from:to
 :cc:subject:date:message-id:reply-to;
 bh=Wg/q+pcK/5AogYpuFJxm72qVG3PMpMObfRmeV8SOv+0=;
 b=bAKjIuF660ajrb+471Dhp158VGp++hfh/hTVv2eLHjWoOwqKtxnsefyXloxKeDKVnC
 BsEVkm3IbYPjt9NluKXFZU820Fq216LD3zaU1PAto4Bw++O1d9781bZE228mmCbJK7L7
 C17RFCo7BQr7dis8a3ODj5htYLQ6sDuCmQv6c=
X-Google-DKIM-Signature: v=1; a=rsa-sha256; c=relaxed/relaxed;
 d=1e100.net; s=20230601; t=1740578588; x=1741183388;
 h=references:in-reply-to:cc:to:from:subject:message-id:date
 :x-gm-message-state:from:to:cc:subject:date:message-id:reply-to;
 bh=Wg/q+pcK/5AogYpuFJxm72qVG3PMpMObfRmeV8SOv+0=;
 b=eGsoH1hP2CZysQNJQjXu3GA7A12d0p/xd3HzsDt0nHWLSyIaj7jBwrBn+e1jW1vpHb
 HIqrkg92atmrXOtdoQH/ejwM4BX4Kggia2wIFQ8XfEossqMf9HPCcVRpoZyv7+HB2P+d
 4hD09CUbQlV/UdA5PN6O2zJwl2i/kUzUiMDMkjVNWUcMnmOd0h0Bq31v+RyqXO3OE895
 WZ+fiC9gyyU14a5RiPlGxtFb0PNWgYyLD2TS5mFa+2JvW230YOD3gQawC2G17YrQeMpq
 +0f5HKhWDJSEvyEHO2A+LtERiTAuUTYcOm39OxON7jzLoUeRTzWGxk1czRpnEBJeoRRj
 HoYg==
X-Gm-Message-State: AOJu0Yz8YdTb+liu18/8An9ooRI2A599xeGbzV0a7Wco8+v5fOKJm9Gg
 IHAXvFn4hcIvA2bEQl7Dk4eGwvjkKnOsccU9ZVaCYffg1jE7pnnHm5f9SjkV3gucMzo2ydihfl6
 z7RGlpplGb9k4xV1ILydclX0XCbH2C7+Pz65j6n5z
X-Gm-Gg: ASbGnct2Gq5Q/sibt67dCXxSTzDnq3KeO+zERg3hC/h7WJU5twQd1deLErrL5iOfSbS
 txnBzEfcw2qBLVizSXvD8GKVGt92peTHwHysOEOUK0oF71JAqxqcYVN1T7sfgD6wawXQ6aBLwcy
 6cmn/wEmPks1DvMVnXU3J5fFZpV21GxvJsk9OSneAT0wrlzGm8jvZE7uO5T/lDSAmXAsV5aEVlK
 ZFF3apGckOzV5Q0H5cKz6Mw2jxR7N5Q2mlU/V0iIwlxr9GWir4h4iHi+aW+AWDVz6NfCMuVcupT
 KgxAhAhVvuB8gUwSg15PD8T+oMIyfqSZmPjFjiVa
X-Google-Smtp-Source: AGHT+IFQQHokAaKo68nqOtpq0FpGLlyMPw55eCWycjMdLnt51AnQ1gTtlPYN37ciym9WeOM5iZPd6pm2E7tb
X-Received: by 2002:a05:6e02:388e:b0:3d3:d132:2cf3 with SMTP id
 e9e14a558f8ab-3d3d1322ee7mr44950015ab.7.1740578587920; 
 Wed, 26 Feb 2025 06:03:07 -0800 (PST)
Received: from postal.iol.unh.edu (postal.iol.unh.edu. [132.177.123.84])
 by smtp-relay.gmail.com with ESMTPS id
 e9e14a558f8ab-3d361642d21sm2048435ab.1.2025.02.26.06.03.07
 (version=TLS1_2 cipher=ECDHE-ECDSA-AES128-GCM-SHA256 bits=128/128);
 Wed, 26 Feb 2025 06:03:07 -0800 (PST)
X-Relaying-Domain: iol.unh.edu
Date: Wed, 26 Feb 2025 06:03:07 -0800 (PST)
Message-ID: <67bf1f1b.050a0220.b5eb3.ba76SMTPIN_ADDED_MISSING@mx.google.com>
Received: from [172.21.0.8] (unknown [172.18.0.240])
 by postal.iol.unh.edu (Postfix) with ESMTP id 5999F6052471;
 Wed, 26 Feb 2025 09:03:06 -0500 (EST)
Subject: |SUCCESS| pw151873-151875 [PATCH] [v3,3/3] test/event: unit test to 
From: dpdklab@iol.unh.edu
To: Test Report <test-report@dpdk.org>
Cc: dpdk-test-reports@iol.unh.edu
In-Reply-To: <c4e02d3a45f8583ad4f91a5b5d98609612d34b60.1740383918.git.sthotton@marvell.com>
References: <c4e02d3a45f8583ad4f91a5b5d98609612d34b60.1740383918.git.sthotton@marvell.com>
Content-Type: text/plain
X-BeenThere: test-report@dpdk.org
X-Mailman-Version: 2.1.29
Precedence: list
List-Id: automatic DPDK test reports <test-report.dpdk.org>
List-Unsubscribe: <https://mails.dpdk.org/options/test-report>,
 <mailto:test-report-request@dpdk.org?subject=unsubscribe>
List-Archive: <http://mails.dpdk.org/archives/test-report/>
List-Post: <mailto:test-report@dpdk.org>
List-Help: <mailto:test-report-request@dpdk.org?subject=help>
List-Subscribe: <https://mails.dpdk.org/listinfo/test-report>,
 <mailto:test-report-request@dpdk.org?subject=subscribe>
Errors-To: test-report-bounces@dpdk.org

Test-Label: iol-compile-arm64-testing
Test-Status: SUCCESS
http://dpdk.org/patch/151875

_Testing PASS_

Submitter: Shijith Thotton <sthotton@marvell.com>
Date: Monday, February 24 2025 08:42:25 
DPDK git baseline: Repo:dpdk
  Branch: master
  CommitID:4380e5b6c6f5f33801dc2f399c9b5d6d77178050

151873-151875 --> testing pass

Upstream job id: Generic-DPDK-Compile-Meson#365627

Test environment and result as below:

+----------------------------------------+--------------------+
|              Environment               | dpdk_meson_compile |
+========================================+====================+
| RHEL9 (ARM)                            | PASS               |
+----------------------------------------+--------------------+
| Ubuntu 20.04 ARM GCC Cross Compile     | PASS               |
+----------------------------------------+--------------------+
| Ubuntu 20.04 ARM SVE                   | PASS               |
+----------------------------------------+--------------------+
| Fedora 40 (ARM)                        | PASS               |
+----------------------------------------+--------------------+
| Debian 12 with MUSDK                   | PASS               |
+----------------------------------------+--------------------+
| Fedora 40 (ARM Clang)                  | PASS               |
+----------------------------------------+--------------------+
| Fedora 41 (ARM)                        | PASS               |
+----------------------------------------+--------------------+
| Fedora 41 (ARM Clang)                  | PASS               |
+----------------------------------------+--------------------+
| Ubuntu 22.04 (ARM)                     | PASS               |
+----------------------------------------+--------------------+
| Ubuntu 20.04 (ARM)                     | PASS               |
+----------------------------------------+--------------------+
| Ubuntu 24.04 (ARM)                     | PASS               |
+----------------------------------------+--------------------+
| CentOS Stream 10 (ARM)                 | PASS               |
+----------------------------------------+--------------------+
| CentOS Stream 9 (ARM)                  | PASS               |
+----------------------------------------+--------------------+
| Ubuntu 20.04 aarch32 GCC Cross Compile | PASS               |
+----------------------------------------+--------------------+
| Debian 12 (arm)                        | PASS               |
+----------------------------------------+--------------------+
| Ubuntu 20.04 ARM Clang Cross Compile   | PASS               |
+----------------------------------------+--------------------+


RHEL9 (ARM)
	Kernel: Depends on container host
	Compiler: gcc 11.5.0 20240719 (Red Hat 11.5.0-2)

Ubuntu 20.04 ARM GCC Cross Compile
	Kernel: Depends on container host
	Compiler: aarch64-linux-gnu-gcc (Ubuntu 9.4.0-1ubuntu1~20.04.2) 9.4.0

Ubuntu 20.04 ARM SVE
	Kernel: Depends on container host
	Compiler: gcc (Ubuntu 10.5.0-1ubuntu1~20.04) 10.5.0

Fedora 40 (ARM)
	Kernel: Depends on container host
	Compiler: gcc 14.2.1 20240912 (Red Hat 14.2.1-3)

Debian 12 with MUSDK
	Kernel: Depends on container host
	Compiler: gcc (Debian 12.2.0-14) 12.2.0

Fedora 40 (ARM Clang)
	Kernel: Depends on container host
	Compiler: clang 18.1.8 (Fedora 18.1.8-1.fc40)

Fedora 41 (ARM)
	Kernel: Depends on container host
	Compiler: gcc 14.2.1 20240912 (Red Hat 14.2.1-3)

Fedora 41 (ARM Clang)
	Kernel: Depends on container host
	Compiler: clang 19.1.5 (Fedora 19.1.5-1.fc41)

Ubuntu 22.04 (ARM)
	Kernel: Depends on container host
	Compiler: gcc (Ubuntu 11.4.0-1ubuntu1~22.04) 11.4.0

Ubuntu 20.04 (ARM)
	Kernel: Depends on container host
	Compiler: gcc (Ubuntu 9.4.0-1ubuntu1~20.04.2) 9.4.0

Ubuntu 24.04 (ARM)
	Kernel: Depends on container host
	Compiler: gcc (Ubuntu 13.3.0-6ubuntu2~24.04) 13.3.0

CentOS Stream 10 (ARM)
	Kernel: Depends on container host
	Compiler: gcc 14.2.1 20241104 (Red Hat 14.2.1-6)

CentOS Stream 9 (ARM)
	Kernel: Depends on container host
	Compiler: gcc 11.5.0 20240719 (Red Hat 11.5.0-2)

Ubuntu 20.04 aarch32 GCC Cross Compile
	Kernel: Depends on container host
	Compiler: gcc 9.4.0

Debian 12 (arm)
	Kernel: Depends on container host
	Compiler: gcc (Debian 12.2.0-14) 12.2.0

Ubuntu 20.04 ARM Clang Cross Compile
	Kernel: Depends on container host
	Compiler: clang 10.0.0-4ubuntu1

To view detailed results, visit:
https://lab.dpdk.org/results/dashboard/patchsets/32659/

UNH-IOL DPDK Community Lab

To manage your email subscriptions, visit: 
https://lab.dpdk.org/results/dashboard/preferences/subscriptions/