From mboxrd@z Thu Jan  1 00:00:00 1970
Return-Path: <test-report-bounces@dpdk.org>
Received: from mails.dpdk.org (mails.dpdk.org [217.70.189.124])
	by inbox.dpdk.org (Postfix) with ESMTP id 1C207462CB
	for <public@inbox.dpdk.org>; Wed, 26 Feb 2025 18:11:34 +0100 (CET)
Received: from mails.dpdk.org (localhost [127.0.0.1])
	by mails.dpdk.org (Postfix) with ESMTP id E6E7C4029F;
	Wed, 26 Feb 2025 18:11:33 +0100 (CET)
Received: from mail-pl1-f226.google.com (mail-pl1-f226.google.com
 [209.85.214.226])
 by mails.dpdk.org (Postfix) with ESMTP id 358EE4026C
 for <test-report@dpdk.org>; Wed, 26 Feb 2025 18:11:32 +0100 (CET)
Received: by mail-pl1-f226.google.com with SMTP id
 d9443c01a7336-221057b6ac4so135957865ad.2
 for <test-report@dpdk.org>; Wed, 26 Feb 2025 09:11:32 -0800 (PST)
DKIM-Signature: v=1; a=rsa-sha256; c=relaxed/relaxed;
 d=iol.unh.edu; s=unh-iol; t=1740589891; x=1741194691; darn=dpdk.org;
 h=references:in-reply-to:cc:to:from:subject:message-id:date:from:to
 :cc:subject:date:message-id:reply-to;
 bh=pvVr9QlOumXwuUg7mPKUwDFHine2HYsnGeZ7TK2tpDk=;
 b=WlIaH46WmFaWS52ZwvoOId4fPiu/8Y3Gam1kPCkUMkkunT+U4syj2XHF/L/rurMCw0
 7J4QAz4jzavBreG/ft2vKfwC+lh7829eLi9B857BWQTiZgUKdypibsmguqLfwlUUgXUf
 79ERkVJbISYKyE7SziaV8jTHFtdxUzZWRmX/c=
X-Google-DKIM-Signature: v=1; a=rsa-sha256; c=relaxed/relaxed;
 d=1e100.net; s=20230601; t=1740589891; x=1741194691;
 h=references:in-reply-to:cc:to:from:subject:message-id:date
 :x-gm-message-state:from:to:cc:subject:date:message-id:reply-to;
 bh=pvVr9QlOumXwuUg7mPKUwDFHine2HYsnGeZ7TK2tpDk=;
 b=CPhGMkQFCiu0lab+b00KtzIIoiRDLxerpKe6n0cSGlQSKc5bA+sL6IHu2HdvV1iGM1
 OK7fWpgqYKCmuYs1VWoiMm63SHvxWaZK5kTp9ei2hmSGaep0m5ziT7zqfBCMSxsCry9S
 tSBlA4j/SzlvDhj6g3x/cD1UcazaR9clGSpMNVNYyghm1UXSn+hlwQbbieyisvLTthlI
 3Ez/5bHESuZx3LuoD14lzuS9E3axAkb3ZWAwiDflblGPfBEzT9SRY5MBE7cX0aIZJ897
 NCdRwEJD4ghUMb5IQ6HF/6As+KvRPyeKXV7N0vVOrnhhVs0qPIBJc8u7xtDm8ccVqWqR
 lKsA==
X-Gm-Message-State: AOJu0YxN2zwHFSh5OP3sUR2j6D08Mfw65DTsZhqgJycoBJ3hG3w9WIoz
 uWGNGd9j9+FAdZ+U2d3pD9XMGEM01+qNBoaUNptRkhNOKiCee9RGu38pjDDn4eGtSHjn3ZhEthm
 XZ0jSk+0qQVOsPEb9wl0z8k5QgKPKUldNXEOGi/42NPJhLQlB2irYJPrV
X-Gm-Gg: ASbGncuTNyfvafP34USpsYr1jfXeb0qmSC7xyCOv5IuPDJ5heKUtH8N/4DBHiwsXZ/K
 AwzljtrHJ113wBtnG8t4F9wCWxlaohUl6XOMPERGPoUG13Zwfrryn6iw4EqIWIvo5SyjTnGA4sF
 JDh3sVzsfe1MyQ1Tz/lXnwmRGSSBlsU63G5Ij6ql9GsH2eARAT+nvnBZNrnw3Gn2q9n2z080jMq
 qJHQwyjmMEelN4aD6Tf0PZPf7WZmGOoziKRx8pyQUtjd0mFuQkOQPAJmLJKBoj2Ts0soUf9ZJ8M
 el09C6Ob3aMkcYuOq3KC6LzKzmz2vykVISYwE9/iWSPOIik1zCpU
X-Google-Smtp-Source: AGHT+IHhy4mWU2Yz2ZGHrbzmkeYBRvLAGi9weXiAQGWC44K+ukmx6iJqvjuLaqRNLk/7OCdDdF1A6UdeI1E1
X-Received: by 2002:a17:902:e542:b0:216:31c2:3db8 with SMTP id
 d9443c01a7336-221a1191947mr337509795ad.37.1740589891191; 
 Wed, 26 Feb 2025 09:11:31 -0800 (PST)
Received: from postal.iol.unh.edu (postal.iol.unh.edu.
 [2606:4100:3880:1234::84]) by smtp-relay.gmail.com with ESMTPS id
 d9443c01a7336-2230a02c0aesm2030825ad.61.2025.02.26.09.11.31
 (version=TLS1_2 cipher=ECDHE-ECDSA-AES128-GCM-SHA256 bits=128/128);
 Wed, 26 Feb 2025 09:11:31 -0800 (PST)
X-Relaying-Domain: iol.unh.edu
Date: Wed, 26 Feb 2025 09:11:31 -0800 (PST)
Message-ID: <67bf4b43.170a0220.c7bec.c8bcSMTPIN_ADDED_MISSING@mx.google.com>
Received: from [172.21.0.7] (unknown [172.18.0.240])
 by postal.iol.unh.edu (Postfix) with ESMTP id 874236052471;
 Wed, 26 Feb 2025 12:11:30 -0500 (EST)
Subject: |SUCCESS| pw151866-151867 [PATCH] [v2,2/2] test/crypto: add negative
From: dpdklab@iol.unh.edu
To: Test Report <test-report@dpdk.org>
Cc: dpdk-test-reports@iol.unh.edu
In-Reply-To: <4a0cca961025d297d97f6ad14ab10bd99ea65ac6.1740290302.git.gmuthukrishn@marvell.com>
References: <4a0cca961025d297d97f6ad14ab10bd99ea65ac6.1740290302.git.gmuthukrishn@marvell.com>
Content-Type: text/plain
X-BeenThere: test-report@dpdk.org
X-Mailman-Version: 2.1.29
Precedence: list
List-Id: automatic DPDK test reports <test-report.dpdk.org>
List-Unsubscribe: <https://mails.dpdk.org/options/test-report>,
 <mailto:test-report-request@dpdk.org?subject=unsubscribe>
List-Archive: <http://mails.dpdk.org/archives/test-report/>
List-Post: <mailto:test-report@dpdk.org>
List-Help: <mailto:test-report-request@dpdk.org?subject=help>
List-Subscribe: <https://mails.dpdk.org/listinfo/test-report>,
 <mailto:test-report-request@dpdk.org?subject=subscribe>
Errors-To: test-report-bounces@dpdk.org

Test-Label: iol-abi-testing
Test-Status: SUCCESS
http://dpdk.org/patch/151867

_Testing PASS_

Submitter: Gowrishankar Muthukrishnan <gmuthukrishn@marvell.com>
Date: Sunday, February 23 2025 06:04:05 
DPDK git baseline: Repo:dpdk
  Branch: master
  CommitID:fab31a03ba98e7457284df95dd9eef2223a4ccaa

151866-151867 --> testing pass

Upstream job id: Generic-DPDK-Compile-ABI#117939

Test environment and result as below:

+-------------------+----------+
|    Environment    | abi_test |
+===================+==========+
| CentOS Stream 9   | PASS     |
+-------------------+----------+
| CentOS Stream 10  | PASS     |
+-------------------+----------+
| Debian Bullseye   | PASS     |
+-------------------+----------+
| Fedora 40 (Clang) | PASS     |
+-------------------+----------+
| Debian 12         | PASS     |
+-------------------+----------+
| Fedora 41 (Clang) | PASS     |
+-------------------+----------+
| Fedora 40         | PASS     |
+-------------------+----------+
| Fedora 41         | PASS     |
+-------------------+----------+
| openSUSE Leap 15  | PASS     |
+-------------------+----------+
| RHEL8             | PASS     |
+-------------------+----------+
| RHEL9             | PASS     |
+-------------------+----------+
| Ubuntu 22.04      | PASS     |
+-------------------+----------+
| Ubuntu 24.04      | PASS     |
+-------------------+----------+


CentOS Stream 9
	Kernel: Depends on container host
	Compiler: gcc 11.5.0 20240719 (Red Hat 11.5.0-2)

CentOS Stream 10
	Kernel: Depends on container host
	Compiler: gcc 14.2.1 20241104 (Red Hat 14.2.1-6)

Debian Bullseye
	Kernel: Depends on container host
	Compiler: gcc (Debian 10.2.1-6) 10.2.1 20210110

Fedora 40 (Clang)
	Kernel: Depends on container host
	Compiler: clang 18.1.8 (Fedora 18.1.8-1.fc40)

Debian 12
	Kernel: Depends on container host
	Compiler: gcc (Debian 12.2.0-14) 12.2.0

Fedora 41 (Clang)
	Kernel: Depends on container host
	Compiler: clang 19.1.5 (Fedora 19.1.5-1.fc41)

Fedora 40
	Kernel: Depends on container host
	Compiler: gcc 14.2.1 20240912 (Red Hat 14.2.1-3)

Fedora 41
	Kernel: Depends on container host
	Compiler: gcc 14.2.1 20240912 (Red Hat 14.2.1-3)

openSUSE Leap 15
	Kernel: Depends on container host
	Compiler: gcc (SUSE Linux) 7.5.0

RHEL8
	Kernel: Depends on container host
	Compiler: gcc 8.5.0 20210514 (Red Hat 8.5.0-22)

RHEL9
	Kernel: Depends on container host
	Compiler: gcc 11.5.0 20240719 (Red Hat 11.5.0-2)

Ubuntu 22.04
	Kernel: Depends on container host
	Compiler: gcc (Ubuntu 11.4.0-1ubuntu1~22.04) 11.4.0

Ubuntu 24.04
	Kernel: Depends on container host
	Compiler: gcc (Ubuntu 13.3.0-6ubuntu2~24.04) 13.3.0

To view detailed results, visit:
https://lab.dpdk.org/results/dashboard/patchsets/32654/

UNH-IOL DPDK Community Lab

To manage your email subscriptions, visit: 
https://lab.dpdk.org/results/dashboard/preferences/subscriptions/