From mboxrd@z Thu Jan  1 00:00:00 1970
Return-Path: <test-report-bounces@dpdk.org>
Received: from mails.dpdk.org (mails.dpdk.org [217.70.189.124])
	by inbox.dpdk.org (Postfix) with ESMTP id F32AE462CD
	for <public@inbox.dpdk.org>; Thu, 27 Feb 2025 00:14:53 +0100 (CET)
Received: from mails.dpdk.org (localhost [127.0.0.1])
	by mails.dpdk.org (Postfix) with ESMTP id ED1954029F;
	Thu, 27 Feb 2025 00:14:53 +0100 (CET)
Received: from mail-pj1-f97.google.com (mail-pj1-f97.google.com
 [209.85.216.97]) by mails.dpdk.org (Postfix) with ESMTP id 21EDF40290
 for <test-report@dpdk.org>; Thu, 27 Feb 2025 00:14:53 +0100 (CET)
Received: by mail-pj1-f97.google.com with SMTP id
 98e67ed59e1d1-2fa8ada6662so746124a91.1
 for <test-report@dpdk.org>; Wed, 26 Feb 2025 15:14:53 -0800 (PST)
DKIM-Signature: v=1; a=rsa-sha256; c=relaxed/relaxed;
 d=iol.unh.edu; s=unh-iol; t=1740611692; x=1741216492; darn=dpdk.org;
 h=references:in-reply-to:cc:to:from:subject:message-id:date:from:to
 :cc:subject:date:message-id:reply-to;
 bh=1tsXGcOYNBBsWXE/0KCGjI++e01TWolKbSvljQVcahg=;
 b=eEZdXf2bwUt+oqN4Rkp113GFvEW8U3ckOLSjD27+mQgUGhsDFTzkpnHBGPMwg79sgy
 VHejL8bH6kwvLIQ1+5WBzdBsHbSPbuFpBeOiHmhds+abAqCogcIVLnIMhGBe/50tnpe1
 XhxdnJq5ceJc2IvXF7PI61IsGnjZSRwBAia/U=
X-Google-DKIM-Signature: v=1; a=rsa-sha256; c=relaxed/relaxed;
 d=1e100.net; s=20230601; t=1740611692; x=1741216492;
 h=references:in-reply-to:cc:to:from:subject:message-id:date
 :x-gm-message-state:from:to:cc:subject:date:message-id:reply-to;
 bh=1tsXGcOYNBBsWXE/0KCGjI++e01TWolKbSvljQVcahg=;
 b=DHc+sg8oK/uXJeked9u4L012HQifyF/14UwB1+xByk2FASbHvO4QGNDnHfsNs1GH2i
 6VOKK5gaCa0JHTi4swaqNPjrUkYIZ93o7wvPveFl3xm7h/3yJftCVDyjM+C8qFJ+vJVQ
 +FUK+Y29mCEHaYTcghJwOB95nZ2SfmgkJaf4y+6ExmtIB6kkIvri8mxQYADb8Spf/Yqe
 DZNl7o1jukhby0YIrraT/Oq25nY9x4MHzTgjnOiTeOZPLjs0UDF8x1CToWB7/hS6DR8y
 fK3l3sFzvFN9VvtAbt6ugb7/Ug7UiVdI5kVAzPDAeecrQkniDMQ5R+eBMdpWewpBipKU
 9QWA==
X-Gm-Message-State: AOJu0YyoJ6i0Ac508s6mnC5rBh77oIZxG/pD4VuJitd9XQnYojX1TW6I
 L0pvBQtoRzjWmS1Cdi46r6myExEeYc+HU3E8gAlX0GVhsenRWQum93w417RCUNZRau9Uq9X6hjM
 zaIVpZaWxISgwcF7uIx0Cwb4iGeFLz6HcSHhwBbMV
X-Gm-Gg: ASbGnctpKJa7w70Rs5AsXxYq7/7Q66wTPME8BevolON52E6vn0igKSkMm78kUHMBvWg
 1NiIQqKAR637O94rdH+QdPEwbpt2XyhoQqjjrXU3+cAu4GlAi7IJVc4UyiGDAPR/5UusnoSQleO
 Wa0eHyMIXdPaS35gCT4ZY3oO3dRKi5Prh0lBStEjBEjgVizBzR5DRZI0uR0sguM8qMbw8E7Q7yo
 +qGi853+uWsMRvqwDOSum+5yMLrL4AeCWfxp3Io9pCKt2BmLMiJY7mZ25EqwjFd9jDPr7M44bbx
 vvJ5J1S9iw8+Ktcm2L34TQXgx2xFjHIn9agGCpgu
X-Google-Smtp-Source: AGHT+IF8vyG9vg3xtyIzq3nqNd2qpuB96+jVOLgkU8F2Lxt/aOgZNB+lN1QChPUVH/Xd9RIypILJoKKP/v2Z
X-Received: by 2002:a17:90b:3ccc:b0:2ee:b0b0:8e02 with SMTP id
 98e67ed59e1d1-2fce872448amr36817263a91.28.1740611692080; 
 Wed, 26 Feb 2025 15:14:52 -0800 (PST)
Received: from postal.iol.unh.edu (postal.iol.unh.edu. [132.177.123.84])
 by smtp-relay.gmail.com with ESMTPS id
 98e67ed59e1d1-2fe824b77fasm120907a91.0.2025.02.26.15.14.51
 (version=TLS1_2 cipher=ECDHE-ECDSA-AES128-GCM-SHA256 bits=128/128);
 Wed, 26 Feb 2025 15:14:52 -0800 (PST)
X-Relaying-Domain: iol.unh.edu
Date: Wed, 26 Feb 2025 15:14:52 -0800 (PST)
Message-ID: <67bfa06c.170a0220.af462.6cc7SMTPIN_ADDED_MISSING@mx.google.com>
Received: from [172.21.0.7] (unknown [172.18.0.240])
 by postal.iol.unh.edu (Postfix) with ESMTP id 366526052471;
 Wed, 26 Feb 2025 18:14:51 -0500 (EST)
Subject: |SUCCESS| pw151873-151875 [PATCH] [v3,3/3] test/event: unit test to 
From: dpdklab@iol.unh.edu
To: Test Report <test-report@dpdk.org>
Cc: dpdk-test-reports@iol.unh.edu
In-Reply-To: <c4e02d3a45f8583ad4f91a5b5d98609612d34b60.1740383918.git.sthotton@marvell.com>
References: <c4e02d3a45f8583ad4f91a5b5d98609612d34b60.1740383918.git.sthotton@marvell.com>
Content-Type: text/plain
X-BeenThere: test-report@dpdk.org
X-Mailman-Version: 2.1.29
Precedence: list
List-Id: automatic DPDK test reports <test-report.dpdk.org>
List-Unsubscribe: <https://mails.dpdk.org/options/test-report>,
 <mailto:test-report-request@dpdk.org?subject=unsubscribe>
List-Archive: <http://mails.dpdk.org/archives/test-report/>
List-Post: <mailto:test-report@dpdk.org>
List-Help: <mailto:test-report-request@dpdk.org?subject=help>
List-Subscribe: <https://mails.dpdk.org/listinfo/test-report>,
 <mailto:test-report-request@dpdk.org?subject=subscribe>
Errors-To: test-report-bounces@dpdk.org

Test-Label: iol-compile-amd64-testing
Test-Status: SUCCESS
http://dpdk.org/patch/151875

_Testing PASS_

Submitter: Shijith Thotton <sthotton@marvell.com>
Date: Monday, February 24 2025 08:42:25 
DPDK git baseline: Repo:dpdk
  Branch: master
  CommitID:4380e5b6c6f5f33801dc2f399c9b5d6d77178050

151873-151875 --> testing pass

Upstream job id: Windows-Compile-DPDK-VS#5056

Test environment and result as below:

+---------------------+--------------------+-------------------+------------------+-------------------+
|     Environment     | dpdk_meson_compile | dpdk_compile_spdk | dpdk_compile_ovs | dpdk_msvc_compile |
+=====================+====================+===================+==================+===================+
| CentOS Stream 9     | PASS               | PASS              | SKIPPED          | SKIPPED           |
+---------------------+--------------------+-------------------+------------------+-------------------+
| CentOS Stream 10    | PASS               | SKIPPED           | SKIPPED          | SKIPPED           |
+---------------------+--------------------+-------------------+------------------+-------------------+
| Debian Bullseye     | PASS               | PASS              | SKIPPED          | SKIPPED           |
+---------------------+--------------------+-------------------+------------------+-------------------+
| Fedora 40 (Clang)   | PASS               | PASS              | SKIPPED          | SKIPPED           |
+---------------------+--------------------+-------------------+------------------+-------------------+
| Debian 12           | PASS               | PASS              | SKIPPED          | SKIPPED           |
+---------------------+--------------------+-------------------+------------------+-------------------+
| Fedora 40           | PASS               | PASS              | SKIPPED          | SKIPPED           |
+---------------------+--------------------+-------------------+------------------+-------------------+
| Fedora 41 (Clang)   | PASS               | PASS              | PASS             | SKIPPED           |
+---------------------+--------------------+-------------------+------------------+-------------------+
| openSUSE Leap 15    | PASS               | SKIPPED           | SKIPPED          | SKIPPED           |
+---------------------+--------------------+-------------------+------------------+-------------------+
| RHEL8               | PASS               | SKIPPED           | SKIPPED          | SKIPPED           |
+---------------------+--------------------+-------------------+------------------+-------------------+
| RHEL9               | PASS               | SKIPPED           | SKIPPED          | SKIPPED           |
+---------------------+--------------------+-------------------+------------------+-------------------+
| Ubuntu 20.04        | PASS               | SKIPPED           | SKIPPED          | SKIPPED           |
+---------------------+--------------------+-------------------+------------------+-------------------+
| Ubuntu 22.04        | PASS               | PASS              | SKIPPED          | SKIPPED           |
+---------------------+--------------------+-------------------+------------------+-------------------+
| Ubuntu 24.04        | PASS               | PASS              | PASS             | SKIPPED           |
+---------------------+--------------------+-------------------+------------------+-------------------+
| Alpine              | PASS               | SKIPPED           | SKIPPED          | SKIPPED           |
+---------------------+--------------------+-------------------+------------------+-------------------+
| FreeBSD 13.4        | PASS               | SKIPPED           | SKIPPED          | SKIPPED           |
+---------------------+--------------------+-------------------+------------------+-------------------+
| FreeBSD 14.2        | PASS               | SKIPPED           | SKIPPED          | SKIPPED           |
+---------------------+--------------------+-------------------+------------------+-------------------+
| Fedora 41           | PASS               | PASS              | PASS             | SKIPPED           |
+---------------------+--------------------+-------------------+------------------+-------------------+
| Windows Server 2022 | SKIPPED            | SKIPPED           | SKIPPED          | PASS              |
+---------------------+--------------------+-------------------+------------------+-------------------+


CentOS Stream 9
	Kernel: Depends on container host
	Compiler: gcc 11.5.0 20240719 (Red Hat 11.5.0-2)

CentOS Stream 10
	Kernel: Depends on container host
	Compiler: gcc 14.2.1 20241104 (Red Hat 14.2.1-6)

Debian Bullseye
	Kernel: Depends on container host
	Compiler: gcc (Debian 10.2.1-6) 10.2.1 20210110

Fedora 40 (Clang)
	Kernel: Depends on container host
	Compiler: clang 18.1.8 (Fedora 18.1.8-1.fc40)

Debian 12
	Kernel: Depends on container host
	Compiler: gcc (Debian 12.2.0-14) 12.2.0

Fedora 40
	Kernel: Depends on container host
	Compiler: gcc 14.2.1 20240912 (Red Hat 14.2.1-3)

Fedora 41 (Clang)
	Kernel: Depends on container host
	Compiler: clang 19.1.5 (Fedora 19.1.5-1.fc41)

openSUSE Leap 15
	Kernel: Depends on container host
	Compiler: gcc (SUSE Linux) 7.5.0

RHEL8
	Kernel: Depends on container host
	Compiler: gcc 8.5.0 20210514 (Red Hat 8.5.0-22)

RHEL9
	Kernel: Depends on container host
	Compiler: gcc 11.5.0 20240719 (Red Hat 11.5.0-2)

Ubuntu 20.04
	Kernel: Depends on container host
	Compiler: gcc (Ubuntu 9.4.0-1ubuntu1~20.04.2) 9.4.0

Ubuntu 22.04
	Kernel: Depends on container host
	Compiler: gcc (Ubuntu 11.4.0-1ubuntu1~22.04) 11.4.0

Ubuntu 24.04
	Kernel: Depends on container host
	Compiler: gcc (Ubuntu 13.3.0-6ubuntu2~24.04) 13.3.0

Alpine
	Kernel: Depends on container host
	Compiler: gcc (Alpine 14.2.0) 14.2.0

FreeBSD 13.4
	Kernel: 13.4-RELEASE-p1
	Compiler: clang 18.1.6

FreeBSD 14.2
	Kernel: 14.2-RELEASE
	Compiler: clang 18.1.6

Fedora 41
	Kernel: Depends on container host
	Compiler: gcc 14.2.1 20240912 (Red Hat 14.2.1-3)

Windows Server 2022
	Kernel: 10.0.20348.2031
	Compiler: clang 15.0.7, gcc 14.1.0 (MinGW), and MSVC VS 19.39.33521

To view detailed results, visit:
https://lab.dpdk.org/results/dashboard/patchsets/32659/

UNH-IOL DPDK Community Lab

To manage your email subscriptions, visit: 
https://lab.dpdk.org/results/dashboard/preferences/subscriptions/